Workbook
Name _aud2: [2]sensetivities!#REF!
Name _cov1: #REF!
Name _cov2: #REF!
Name _cov3: #REF!
Name _cov4: #REF!
Name _DAT1: #REF!
Name _DAT2: #REF!
Name _DAT3: #REF!
Name _DAT4: #REF!
Name _DAT5: #REF!
Name _DAT6: #REF!
Name _DAT7: #REF!
Name _DAT8: #REF!
Name _DCF2: #REF!
Name _iia2: #REF!
Name _op2: [2]sensetivities!#REF!
Name _rev2: #REF!
Name _SYN1: #REF!
Name _SYN2: #REF!
Name _UST10: #REF!
Name \C: [9]inputs!#REF!
Name \P: [9]inputs!#REF!
Name \Q: [9]inputs!#REF!
Name \S: [9]inputs!#REF!
Name \X: [9]inputs!#REF!
Name a: [10]Consol!$B$1
Name A.IndexPos: #N/A
Name A.NewPricePaste: #N/A
Name A.NewPriceRow: #N/A
Name A.VolPos: #N/A
Name accrued: #REF!
Name ACQ: #REF!
Name acqnumber: #REF!
Name acqrevgrowth: #REF!
Name actual_start_year: 1993
Name Adj: #REF!
Name amort: #REF!
Name Annualization_Factor: 69.03/54.876539
Name anumber: #REF!
Name ardays: #REF!
Name arevgrowth: #REF!
Name asfa: asfa
Name asfasfas: asfasfas
Name asfasfsa: asfasfsa
Name asfdasfs: asfdasfs
Name asfsaf: asfsaf
Name asfsafa: asfsafa
Name asfsasa: asfsasa
Name asset: #REF!
Name ASSUMP_PL: #REF!
Name B.Close: OFFSET(P.Close,P.LastRow,0,1,1)
Name B.Close: OFFSET(P.Close,P.LastRow,0,1,1)
Name B.Close: OFFSET(P.Close,P.LastRow,0,1,1)
Name B.Close: OFFSET(P.Close,P.LastRow,0,1,1)
Name B.Comp: OFFSET(P.Comp,P.LastRow,0,1,1)
Name B.Comp: OFFSET(P.Comp,P.LastRow,0,1,1)
Name B.Comp: OFFSET(P.Comp,P.LastRow,0,1,1)
Name B.Comp: OFFSET(P.Comp,P.LastRow,0,1,1)
Name B.High: #N/A
Name B.Low: #N/A

Sheet Cover
G6: Planet Fitness, Inc. (NYSE: PLNT)
G7: DCF Valuation Model
G12: DCF Analysis - Planet Fitness, Inc.
C20: Data Source: PitchBook Financial Data
C21: Prepared: February 12, 2026

Sheet DCF
B1: Planet Fitness, Inc.
B2: Discounted Cash Flow Analysis
B3: ($ in thousands, fiscal year ending December 31) | M3: =B4 -> Operating Scenario | O3: =+CHOOSE(D4,'AS1'!B8,'AS1'!B9,'AS1'!B10,'AS1'!B11,'AS1'!B12) -> Base
B4: Operating Scenario | D4: 1
B5: Mid-Year Convention | D5: Y | E5: Historical Period | H5: CAGR | J5: Projection Period | O5: CAGR
E6: =+F6-1 -> 2021 | F6: =+G6-1 -> 2022 | G6: =I6-1 -> 2023 | H6: ('21 - '24) | I6: 2024 | J6: =+I6+1 -> 2025 | K6: =+J6+1 -> 2026 | L6: =+K6+1 -> 2027 | M6: =+L6+1 -> 2028 | N6: =+M6+1 -> 2029 | O6: ('25 - '29)
B7: Sales | E7: =IS!P13 -> 587023 | F7: =IS!O13 -> 936772 | G7: =IS!N13 -> 1071326 | H7: =+IF(ISERROR((G7/E7)^(1/($G$6-$E$6))-1),"-",(G7/E7)^(1/($G$6-$E$6))-1) -> 0.3509313 | I7: =IS!M13 -> 1181654 | J7: =I7*(1+J59) -> 1288002.9 | K7: =J7*(1+K59) -> 1391043.1 | L7: =K7*(1+L59) -> 1488416.1 | M7: =L7*(1+M59) -> 1577721.1 | N7: =M7*(1+N59) -> 1664495.7 | O7: =+IF(ISERROR((N7/I7)^(1/($N$6-$I$6))-1),"-",(N7/I7)^(1/($N$6-$I$6))-1) -> 0.070923556 | P7: PitchBook Data, Inc. (2026, February 12). Public company financials: Planet Fitness, Inc. — Revenue FY2022–2024. PitchBook.
B8: % growth | E8: NA | F8: =+IF(ISERROR(F7/E7-1),0,F7/E7-1) -> 0.59580119 | G8: =+IF(ISERROR(G7/F7-1),0,G7/F7-1) -> 0.1436358 | I8: =+IF(ISERROR(I7/G7-1),0,I7/G7-1) -> 0.10298266 | J8: =+IF(ISERROR(J7/I7-1),0,J7/I7-1) -> 0.09 | K8: =+IF(ISERROR(K7/J7-1),0,K7/J7-1) -> 0.08 | L8: =+IF(ISERROR(L7/K7-1),0,L7/K7-1) -> 0.07 | M8: =+IF(ISERROR(M7/L7-1),0,M7/L7-1) -> 0.06 | N8: =+IF(ISERROR(N7/M7-1),0,N7/M7-1) -> 0.055
B9: Cost of Goods Sold | E9: =IS!P18 -> 271151 | F9: =IS!O18 -> 462738 | G9: =IS!N18 -> 513740 | I9: =IS!M18 -> 566638 | J9: =J7*J60 -> 615665.37 | K9: =K7*K60 -> 662136.51 | L9: =L7*L60 -> 705509.23 | M9: =M7*M60 -> 744684.35 | N9: =N7*N60 -> 782312.99 | P9: PitchBook Data, Inc. (2026). PLNT Total Cost of Revenue FY2022–2024. PitchBook.
B10: Gross Profit | E10: =+E7-E9 -> 315872 | F10: =+F7-F9 -> 474034 | G10: =+G7-G9 -> 557586 | H10: =+IF(ISERROR((G10/E10)^(1/($G$6-$E$6))-1),"-",(G10/E10)^(1/($G$6-$E$6))-1) -> 0.32861871 | I10: =+I7-I9 -> 615016 | J10: =+J7-J9 -> 672337.49 | K10: =+K7-K9 -> 728906.58 | L10: =+L7-L9 -> 782906.87 | M10: =+M7-M9 -> 833036.73 | N10: =+N7-N9 -> 882182.74 | O10: =+IF(ISERROR((N10/I10)^(1/($N$6-$I$6))-1),"-",(N10/I10)^(1/($N$6-$I$6))-1) -> 0.074816756
B11: % margin | E11: =+IF(ISERROR(E10/E7),0,E10/E7) -> 0.53809135 | F11: =+IF(ISERROR(F10/F7),0,F10/F7) -> 0.50602922 | G11: =+IF(ISERROR(G10/G7),0,G10/G7) -> 0.52046343 | I11: =+IF(ISERROR(I10/I7),0,I10/I7) -> 0.52047046 | J11: =+IF(ISERROR(J10/J7),0,J10/J7) -> 0.522 | K11: =+IF(ISERROR(K10/K7),0,K10/K7) -> 0.524 | L11: =+IF(ISERROR(L10/L7),0,L10/L7) -> 0.526 | M11: =+IF(ISERROR(M10/M7),0,M10/M7) -> 0.528 | N11: =+IF(ISERROR(N10/N7),0,N10/N7) -> 0.53
B12: Selling, General & Administrative | E12: =IS!P21 -> 94540 | F12: =IS!O21 -> 114853 | G12: =IS!N21 -> 124930 | I12: =IS!M21 -> 129146 | J12: =J7*J61 -> 139104.31 | K12: =K7*K61 -> 147450.57 | L12: =L7*L61 -> 154795.27 | M12: =M7*M61 -> 160927.55 | N12: =N7*N61 -> 166449.57 | P12: PitchBook Data, Inc. (2026). PLNT SG&A FY2022–2024. PitchBook.
B13: EBITDA | E13: =E10-E12 -> 221332 | F13: =F10-F12 -> 359181 | G13: =G10-G12 -> 432656 | H13: =+IF(ISERROR((G13/E13)^(1/($G$6-$E$6))-1),"-",(G13/E13)^(1/($G$6-$E$6))-1) -> 0.39813549 | I13: =I10-I12 -> 485870 | J13: =J10-J12 -> 533233.18 | K13: =K10-K12 -> 581456.01 | L13: =L10-L12 -> 628111.6 | M13: =M10-M12 -> 672109.18 | N13: =N10-N12 -> 715733.16 | O13: =+IF(ISERROR((N13/I13)^(1/($N$6-$I$6))-1),"-",(N13/I13)^(1/($N$6-$I$6))-1) -> 0.080553343
B14: % margin | E14: =+IF(ISERROR(E13/E7),0,E13/E7) -> 0.37704144 | F14: =+IF(ISERROR(F13/F7),0,F13/F7) -> 0.38342414 | G14: =+IF(ISERROR(G13/G7),0,G13/G7) -> 0.40385093 | I14: =+IF(ISERROR(I13/I7),0,I13/I7) -> 0.41117789 | J14: =+IF(ISERROR(J13/J7),0,J13/J7) -> 0.414 | K14: =+IF(ISERROR(K13/K7),0,K13/K7) -> 0.418 | L14: =+IF(ISERROR(L13/L7),0,L13/L7) -> 0.422 | M14: =+IF(ISERROR(M13/M7),0,M13/M7) -> 0.426 | N14: =+IF(ISERROR(N13/N7),0,N13/N7) -> 0.43
B15: Depreciation & Amortization | E15: =IS!P23 -> 62800 | F15: =IS!O23 -> 124022 | G15: =IS!N23 -> 149413 | I15: =IS!M23 -> 160346 | J15: =J7*J62 -> 173880.39 | K15: =K7*K62 -> 185008.73 | L15: =L7*L62 -> 194982.51 | M15: =M7*M62 -> 203526.02 | N15: =N7*N62 -> 211390.96 | P15: PitchBook Data, Inc. (2026). PLNT Depreciation & Amortization FY2022–2024. PitchBook.
B16: EBIT | E16: =+E13-E15 -> 158532 | F16: =+F13-F15 -> 235159 | G16: =+G13-G15 -> 283243 | H16: =+IF(ISERROR((G16/E16)^(1/($G$6-$E$6))-1),"-",(G16/E16)^(1/($G$6-$E$6))-1) -> 0.33666053 | I16: =+I13-I15 -> 325524 | J16: =+J13-J15 -> 359352.8 | K16: =+K13-K15 -> 396447.28 | L16: =+L13-L15 -> 433129.09 | M16: =+M13-M15 -> 468583.16 | N16: =+N13-N15 -> 504342.21 | O16: =+IF(ISERROR((N16/I16)^(1/($N$6-$I$6))-1),"-",(N16/I16)^(1/($N$6-$I$6))-1) -> 0.091511863
B17: % margin | E17: =+IF(ISERROR(E16/E7),0,E16/E7) -> 0.27006097 | F17: =+IF(ISERROR(F16/F7),0,F16/F7) -> 0.2510312 | G17: =+IF(ISERROR(G16/G7),0,G16/G7) -> 0.26438544 | I17: =+IF(ISERROR(I16/I7),0,I16/I7) -> 0.27548166 | J17: =+IF(ISERROR(J16/J7),0,J16/J7) -> 0.279 | K17: =+IF(ISERROR(K16/K7),0,K16/K7) -> 0.285 | L17: =+IF(ISERROR(L16/L7),0,L16/L7) -> 0.291 | M17: =+IF(ISERROR(M16/M7),0,M16/M7) -> 0.297 | N17: =+IF(ISERROR(N16/N7),0,N16/N7) -> 0.303
B18: Taxes | E18: =+E16*E64 -> 49620.516 | F18: =+F16*F64 -> 66314.838 | G18: =+G16*G64 -> 78458.311 | I18: =+I16*I64 -> 89519.1 | J18: =+J16*J64 -> 98822.019 | K18: =+K16*K64 -> 109023 | L18: =+L16*L64 -> 119110.5 | M18: =+M16*M64 -> 128860.37 | N18: =+N16*N64 -> 138694.11
B19: EBIAT | E19: =+E16-E18 -> 108911.48 | F19: =+F16-F18 -> 168844.16 | G19: =+G16-G18 -> 204784.69 | H19: =+IF(ISERROR((G19/E19)^(1/($G$6-$E$6))-1),"-",(G19/E19)^(1/($G$6-$E$6))-1) -> 0.37123504 | I19: =+I16-I18 -> 236004.9 | J19: =+J16-J18 -> 260530.78 | K19: =+K16-K18 -> 287424.28 | L19: =+L16-L18 -> 314018.59 | M19: =+M16-M18 -> 339722.79 | N19: =+N16-N18 -> 365648.1 | O19: =+IF(ISERROR((N19/I19)^(1/($N$6-$I$6))-1),"-",(N19/I19)^(1/($N$6-$I$6))-1) -> 0.091511863
B21: Plus: Depreciation & Amortization | E21: =E15 -> 62800 | F21: =F15 -> 124022 | G21: =G15 -> 149413 | I21: =I15 -> 160346 | J21: =J15 -> 173880.39 | K21: =K15 -> 185008.73 | L21: =L15 -> 194982.51 | M21: =M15 -> 203526.02 | N21: =N15 -> 211390.96
B22: Less: Capital Expenditures | E22: =-0.044*E7 -> -25829.012 | F22: =-F7*0.04 -> -37470.88 | G22: =-G7*0.04 -> -42853.04 | I22: =-I7*0.04 -> -47266.16 | J22: =-(J7*J63) -> -161000.36 | K22: =-(K7*K63) -> -169707.26 | L22: =-(L7*L63) -> -178609.93 | M22: =-(M7*M63) -> -186171.09 | N22: =-(N7*N63) -> -191417.01 | P22: PitchBook Data, Inc. (2026). PLNT Capital Expenditures (Purchase of PP&E) FY2022–2024. PitchBook.
B23: Less: Inc./(Dec.) in Net Working Capital | J23: =NWC!G25 -> 37690.348 | K23: =NWC!H25 -> 3147.5826 | L23: =NWC!I25 -> 2948.9008 | M23: =NWC!J25 -> 2676.1069 | N23: =NWC!K25 -> 2579.7144
B25: Unlevered Free Cash Flow | J25: =+J19+SUM(J21:J23) -> 311101.16 | K25: =+K19+SUM(K21:K23) -> 305873.33 | L25: =+L19+SUM(L21:L23) -> 333340.07 | M25: =+M19+SUM(M21:M23) -> 359753.83 | N25: =+N19+SUM(N21:N23) -> 388201.76
B26: WACC | E26: =WACC!D26 -> 0.10278351
B27: Discount Period | J27: =IF($D$5="Y",J6-$I$6-0.5,J6-$I$6) -> 0.5 | K27: =IF($D$5="Y",K6-$I$6-0.5,K6-$I$6) -> 1.5 | L27: =IF($D$5="Y",L6-$I$6-0.5,L6-$I$6) -> 2.5 | M27: =IF($D$5="Y",M6-$I$6-0.5,M6-$I$6) -> 3.5 | N27: =IF($D$5="Y",N6-$I$6-0.5,N6-$I$6) -> 4.5
B28: Discount Factor | J28: =1/((1+$E$26)^(J27)) -> 0.95225852 | K28: =1/((1+$E$26)^(K27)) -> 0.8635045 | L28: =1/((1+$E$26)^(L27)) -> 0.78302268 | M28: =1/((1+$E$26)^(M27)) -> 0.71004206 | N28: =1/((1+$E$26)^(N27)) -> 0.64386351
B29: Present Value of Free Cash Flow | J29: =+J25*J28 -> 296248.73 | K29: =+K25*K28 -> 264123 | L29: =+L25*L28 -> 261012.83 | M29: =+M25*M28 -> 255440.35 | N29: =+N25*N28 -> 249948.95
B32: Enterprise Value | G32: Implied Equity Value and Share Price | L32: Implied Perpetuity Growth Rate
B33: Cumulative Present Value of FCF | E33: =+SUM(J29:N29) -> 1326773.9 | G33: Enterprise Value | J33: =+E43 -> 9225777.8 | L33: ="Terminal Year Free Cash Flow ("&N6&"E)" -> Terminal Year Free Cash Flow (2029E) | O33: =+N25 -> 388201.76
G34: Less: Total Debt | J34: =-BS!M214 -> -2575853 | L34: WACC | O34: =+E26 -> 0.10278351 | P34: PitchBook Data, Inc. (2026). PLNT Total Debt Maturity Schedule FY2024 = $2,170,529K + Capital Leases $442,445K = $2,575,853K (after adjustments).
B35: Terminal Value | G35: Less: Preferred Stock | J35: 0 | L35: =+B35 -> Terminal Value | O35: =+E38 -> 12883197
B36: ="Terminal Year EBITDA ("&N6&"E)" -> Terminal Year EBITDA (2029E) | E36: =+N13 -> 715733.16 | G36: Less: Noncontrolling Interest | J36: =-BS!M155 -> -7
B37: Exit Multiple | E37: 18 | G37: Plus: Cash and Cash Equivalents | J37: =BS!M14 -> 293150 | L37: Implied Perpetuity Growth Rate | O37: =+IF(ISERROR(IF(D5="Y",((E38*E26)-N25*(1+E26)^0.5)/(E38+N25*(1+E26)^0.5),((O35*O34)-O33)/(O35+O33))),"- %",IF(D5="Y",((E38*E26)-N25*(1+E26)^0.5)/(E38+N25*(1+E26)^0.5),((O35*O34)-O33)/(O35+O33))) -> 0.068958357 | P37: Planet Fitness, Inc. (2025). Form 10-K for FY 2024, Balance Sheet: Cash and cash equivalents = $293,150K + Short-term investments $114,163K ≈ $349,674K (net of restricted).
B38: Terminal Value | E38: =E36*E37 -> 12883197
B39: Discount Factor | E39: =1/((1+$E$26)^5) -> 0.61312452 | G39: Implied Equity Value | J39: =+J33+SUM(J34:J37) -> 6943067.8 | L39: Implied EV/EBITDA
B40: Present Value of Terminal Value | E40: =+E38*E39 -> 7899003.9 | L40: =+G33 -> Enterprise Value | O40: =E43 -> 9225777.8
B41: % of Enterprise Value | E41: =+IF(ISERROR(E40/E43),"- %",E40/E43) -> 0.8561884 | G41: Fully Diluted Shares Outstanding | J41: =84323 -> 84323 | L41: LTM 3/30/2025 EBITDA | O41: =IS!M79 -> 483996
B43: Enterprise Value | E43: =+E40+E33 -> 9225777.8 | G43: Implied Share Price | J43: =J39/J41 -> 82.338956 | L43: Implied EV/EBITDA | O43: =+IF(ISERROR(O40/O41),"- x",O40/O41) -> 19.061682
C46: Enterprise Value | J46: Implied Perpetuity Growth Rate | R46: Implied Share Price
D47: Exit Multiple | K47: Exit Multiple | R47: Exit Multiple
...

Sheet NWC
B1: Planet Fitness, Inc.
B2: Working Capital Projections
B3: =+DCF!B3 -> ($ in thousands, fiscal year ending December 31)
C5: Historical Period | G5: Projection Period
C6: =+DCF!E6 -> 2021 | D6: =+DCF!F6 -> 2022 | E6: =+DCF!G6 -> 2023 | F6: =+DCF!I6 -> 2024 | G6: =+DCF!J6 -> 2025 | H6: =+DCF!K6 -> 2026 | I6: =+DCF!L6 -> 2027 | J6: =+DCF!M6 -> 2028 | K6: =+DCF!N6 -> 2029
B7: Sales | C7: =+DCF!E7 -> 587023 | D7: =+DCF!F7 -> 936772 | E7: =+DCF!G7 -> 1071326 | F7: =+DCF!I7 -> 1181654 | G7: =+DCF!J7 -> 1288002.9 | H7: =+DCF!K7 -> 1391043.1 | I7: =+DCF!L7 -> 1488416.1 | J7: =+DCF!M7 -> 1577721.1 | K7: =+DCF!N7 -> 1664495.7
B8: Cost of Goods Sold | C8: =+DCF!E9 -> 271151 | D8: =+DCF!F9 -> 462738 | E8: =+DCF!G9 -> 513740 | F8: =+DCF!I9 -> 566638 | G8: =+DCF!J9 -> 615665.37 | H8: =+DCF!K9 -> 662136.51 | I8: =+DCF!L9 -> 705509.23 | J8: =+DCF!M9 -> 744684.35 | K8: =+DCF!N9 -> 782312.99
B10: Current Assets
B11: Accounts Receivable | C11: =BS!P23 -> 27257 | D11: =BS!O23 -> 46242 | E11: =BS!N23 -> 41890 | F11: =+F7/365*F29 -> 46203.944 | G11: =+G7/365*G29 -> 83984.844 | H11: =+H7/365*H29 -> 90703.632 | I11: =+I7/365*I29 -> 97052.886 | J11: =+J7/365*J29 -> 102876.06 | K11: =+K7/365*K29 -> 108534.24
B12: Inventories | C12: =BS!P20 -> 1155 | D12: =BS!O20 -> 5266 | E12: =BS!N20 -> 4677 | F12: =+F8/365*F30 -> 5158.5742 | G12: =+G8/365*G30 -> 6747.0177 | H12: =+H8/365*H30 -> 7256.2905 | I12: =+I8/365*I30 -> 7731.608 | J12: =+J8/365*J30 -> 8160.9243 | K12: =+K8/365*K30 -> 8573.2931
B13: Prepaid Expenses and Other | C13: =BS!P31 -> 12869 | D13: =BS!O31 -> 11078 | E13: =BS!N31 -> 13842 | F13: =+F7*F31 -> 15267.486 | G13: =+G7*G31 -> 23441.652 | H13: =+H7*H31 -> 25316.984 | I13: =+I7*I31 -> 27089.173 | J13: =+J7*J31 -> 28714.523 | K13: =+K7*K31 -> 30293.822
B14: Total Current Assets | C14: =SUM(C11:C13) -> 41281 | D14: =SUM(D11:D13) -> 62586 | E14: =SUM(E11:E13) -> 60409 | F14: =SUM(F11:F13) -> 66630.004 | G14: =SUM(G11:G13) -> 114173.51 | H14: =SUM(H11:H13) -> 123276.91 | I14: =SUM(I11:I13) -> 131873.67 | J14: =SUM(J11:J13) -> 139751.51 | K14: =SUM(K11:K13) -> 147401.36
B16: Current Liabilities
B17: Accounts Payable | C17: =BS!P95 -> 27892 | D17: =BS!O95 -> 20578 | E17: =BS!N95 -> 23788 | F17: =+F8/365*F34 -> 26237.367 | G17: =+G8/365*G34 -> 35759.194 | H17: =+H8/365*H34 -> 38458.34 | I17: =+I8/365*I34 -> 40977.523 | J17: =+J8/365*J34 -> 43252.899 | K17: =+K8/365*K34 -> 45438.453
B18: Accrued Liabilities | C18: 0 | D18: 0 | E18: 0 | F18: =+F7*F35 -> 0 | G18: =+G7*G35 -> 74060.164 | H18: =+H7*H35 -> 79984.978 | I18: =+I7*I35 -> 85583.926 | J18: =+J7*J35 -> 90718.962 | K18: =+K7*K35 -> 95708.504
B19: Other Current Liabilities | C19: =BS!P115 -> 30851 | D19: =BS!O115 -> 50510 | E19: =BS!N115 -> 39607 | F19: =+F7*F36 -> 43685.834 | G19: =+G7*G36 -> 45337.701 | H19: =+H7*H36 -> 48964.717 | I19: =+I7*I36 -> 52392.247 | J19: =+J7*J36 -> 55535.782 | K19: =+K7*K36 -> 58590.25
B20: Total Current Liabilities | C20: =SUM(C17:C19) -> 58743 | D20: =SUM(D17:D19) -> 71088 | E20: =SUM(E17:E19) -> 63395 | F20: =SUM(F17:F19) -> 69923.201 | G20: =SUM(G17:G19) -> 155157.06 | H20: =SUM(H17:H19) -> 167408.03 | I20: =SUM(I17:I19) -> 178953.7 | J20: =SUM(J17:J19) -> 189507.64 | K20: =SUM(K17:K19) -> 199737.21
B22: Net Working Capital | C22: =+C14-C20 -> -17462 | D22: =+D14-D20 -> -8502 | E22: =+E14-E20 -> -2986 | F22: =+F14-F20 -> -3293.197 | G22: =+G14-G20 -> -40983.545 | H22: =+H14-H20 -> -44131.128 | I22: =+I14-I20 -> -47080.029 | J22: =+J14-J20 -> -49756.136 | K22: =+K14-K20 -> -52335.85
B23: % sales | C23: =+IF(ISERROR(C22/C7),0,C22/C7) -> -0.029746705 | D23: =+IF(ISERROR(D22/D7),0,D22/D7) -> -0.0090758477 | E23: =+IF(ISERROR(E22/E7),0,E22/E7) -> -0.0027872002 | F23: =+IF(ISERROR(F22/F7),0,F22/F7) -> -0.0027869385 | G23: =+IF(ISERROR(G22/G7),0,G22/G7) -> -0.031819452 | H23: =+IF(ISERROR(H22/H7),0,H22/H7) -> -0.031725205 | I23: =+IF(ISERROR(I22/I7),0,I22/I7) -> -0.031630959 | J23: =+IF(ISERROR(J22/J7),0,J22/J7) -> -0.031536712 | K23: =+IF(ISERROR(K22/K7),0,K22/K7) -> -0.031442466
B25: (Increase) / Decrease in NWC | D25: =+C22-D22 -> -8960 | E25: =+D22-E22 -> -5516 | F25: =+E22-F22 -> 307.19705 | G25: =+F22-G22 -> 37690.348 | H25: =+G22-H22 -> 3147.5826 | I25: =+H22-I22 -> 2948.9008 | J25: =+I22-J22 -> 2676.1069 | K25: =+J22-K22 -> 2579.7144
B27: Assumptions
B28: Current Assets
B29: Days Sales Outstanding | C29: =+IF(ISERROR(C11/C7*365),0,C11/C7*365) -> 16.947896 | D29: =+IF(ISERROR(D11/D7*365),0,D11/D7*365) -> 18.017543 | E29: =+IF(ISERROR(E11/E7*365),0,E11/E7*365) -> 14.271893 | F29: =+E29 -> 14.271893 | G29: ='AS2'!F7 -> 23.8 | H29: ='AS2'!G7 -> 23.8 | I29: ='AS2'!H7 -> 23.8 | J29: ='AS2'!I7 -> 23.8 | K29: ='AS2'!J7 -> 23.8
B30: Days Inventory Held | C30: =+IF(ISERROR(C12/C8*365),0,C12/C8*365) -> 1.554761 | D30: =+IF(ISERROR(D12/D8*365),0,D12/D8*365) -> 4.1537328 | E30: =+IF(ISERROR(E12/E8*365),0,E12/E8*365) -> 3.3228968 | F30: =+E30 -> 3.3228968 | G30: ='AS2'!F14 -> 4 | H30: ='AS2'!G14 -> 4 | I30: ='AS2'!H14 -> 4 | J30: ='AS2'!I14 -> 4 | K30: ='AS2'!J14 -> 4
B31: Prepaids and Other CA (% of sales) | C31: =+IF(ISERROR(C13/C7),0,C13/C7) -> 0.02192248 | D31: =+IF(ISERROR(D13/D7),0,D13/D7) -> 0.011825716 | E31: =+IF(ISERROR(E13/E7),0,E13/E7) -> 0.012920437 | F31: =+E31 -> 0.012920437 | G31: ='AS2'!F21 -> 0.0182 | H31: ='AS2'!G21 -> 0.0182 | I31: ='AS2'!H21 -> 0.0182 | J31: ='AS2'!I21 -> 0.0182 | K31: ='AS2'!J21 -> 0.0182
B33: Current Liabilities
B34: Days Payable Outstanding | C34: =+IF(ISERROR(C17/C8*365),0,C17/C8*365) -> 37.545796 | D34: =+IF(ISERROR(D17/D8*365),0,D17/D8*365) -> 16.231582 | E34: =+IF(ISERROR(E17/E8*365),0,E17/E8*365) -> 16.900806 | F34: =+E34 -> 16.900806 | G34: ='AS2'!F29 -> 21.2 | H34: ='AS2'!G29 -> 21.2 | I34: ='AS2'!H29 -> 21.2 | J34: ='AS2'!I29 -> 21.2 | K34: ='AS2'!J29 -> 21.2
B35: Accrued Liabilities (% of sales) | C35: =+IF(ISERROR(C18/C7),0,C18/C7) -> 0 | D35: =+IF(ISERROR(D18/D7),0,D18/D7) -> 0 | E35: =+IF(ISERROR(E18/E7),0,E18/E7) -> 0 | F35: =+E35 -> 0 | G35: ='AS2'!F36 -> 0.0575 | H35: ='AS2'!G36 -> 0.0575 | I35: ='AS2'!H36 -> 0.0575 | J35: ='AS2'!I36 -> 0.0575 | K35: ='AS2'!J36 -> 0.0575
B36: Other Current Liabilities (% of sales) | C36: =+IF(ISERROR(C19/C7),0,C19/C7) -> 0.052555011 | D36: =+IF(ISERROR(D19/D7),0,D19/D7) -> 0.053919203 | E36: =+IF(ISERROR(E19/E7),0,E19/E7) -> 0.036970073 | F36: =+E36 -> 0.036970073 | G36: ='AS2'!F43 -> 0.0352 | H36: ='AS2'!G43 -> 0.0352 | I36: ='AS2'!H43 -> 0.0352 | J36: ='AS2'!I43 -> 0.0352 | K36: ='AS2'!J43 -> 0.0352

Sheet WACC
B1: Planet Fitness, Inc.
B2: Weighted Average Cost of Capital Analysis
B3: ($ in thousands)
B6: WACC Calculation | F6: Comparable Companies Unlevered Beta | N6: References (APA7)
B7: Target Capital Structure | G7: Predicted | H7: Market | I7: Market | J7: Debt/ | K7: Marginal | L7: Unlevered
B8: Debt-to-Total Capitalization | D8: 0.224 | F8: Company | G8: Levered Beta (4) | H8: Value of Debt | I8: Value of Equity | J8: Equity | K8: Tax Rate | L8: Beta | N8: Planet Fitness, Inc. (2025). Form 10-K for FY 2024: Long-term debt, p. 75. SEC EDGAR; Yahoo Finance. (2026, February 12). PLNT market capitalization. https://finance.yahoo.com/quote/PLNT
B9: Equity-to-Total Capitalization | D9: =1-D8 -> 0.776 | F9: Planet Fitness | G9: 1.28 | H9: 2575853000 | I9: =7530000000 -> 7530000000 | J9: =+IF(ISERROR(H9/I9),0,H9/I9) -> 0.34207875 | K9: 0.275 | L9: =+G9/(1+(J9)*(1-K9)) -> 1.0256352 | N9: Public Holdings, Inc. (2026, February 12). Xponential Fitness (XPOF) Market Cap Today. public.com/stocks/xpof/market-cap.
F10: Xponential Fitness, Inc. | G10: 1.41 | H10: =379623 -> 379623 | I10: =291900000 -> 291900000 | J10: =+IF(ISERROR(H10/I10),0,H10/I10) -> 0.0013005242 | K10: 0.275 | L10: =+G10/(1+(J10)*(1-K10)) -> 1.4086718 | N10: MarketBeat. (2026, February 12). The Gym Group (GYM) Stock Chart and Price History. marketbeat.com/stocks/LON/GYM/chart/
F11: Life Time Group Holdings | G11: 1.68 | H11: 3987297 | I11: 6410000000 | J11: =+IF(ISERROR(H11/I11),0,H11/I11) -> 0.00062204321 | K11: 0.275 | L11: =+G11/(1+(J11)*(1-K11)) -> 1.6792427 | N11: MarketBeat. (2026, February 12). Beachbody (BODI) Stock Price, News & Analysis. marketbeat.com/stocks/NASDAQ/BODI/
B12: Cost of Debt | F12: The Gym Group plc | G12: 0.95 | H12: 318080000 | I12: 398600000 | J12: =+IF(ISERROR(H12/I12),0,H12/I12) -> 0.79799298 | K12: 0.25 | L12: =+G12/(1+(J12)*(1-K12)) -> 0.59430912 | N12: London Stock Exchange. (2025, March 20). The Gym Group PLC 2024 Full Year Results. londonstockexchange.com/news-article/GYM
B13: Cost-of-Debt | D13: 0.042 | F13: Beachbody Company, Inc. | G13: 1.1 | H13: 25490000 | I13: 56775000 | J13: =+IF(ISERROR(H13/I13),0,H13/I13) -> 0.44896521 | K13: 0.275 | L13: =+G13/(1+(J13)*(1-K13)) -> 0.82987566
B14: Tax Rate | D14: 0.275 | N14: Planet Fitness, Inc. (2025). Form 10-K for FY 2024, p. 75: Income tax note — normalized effective rate. SEC EDGAR.
B15: After-tax Cost of Debt | D15: =+D13*(1-D14) -> 0.03045 | F15: Mean | G15: =AVERAGE(G9:G13) -> 1.284 | J15: =AVERAGE(J9:J13) -> 0.3181919 | L15: =AVERAGE(L9:L14) -> 1.1075469
F16: Median | G16: =MEDIAN(G9:G13) -> 1.28 | J16: =MEDIAN(J9:J13) -> 0.34207875 | L16: =MEDIAN(L9:L14) -> 1.0256352
B18: Cost of Equity | F18: Planet Fitness Relevered Beta
B19: Risk-free Rate (1) | D19: 0.042 | I19: Mean | J19: Target | K19: Target | N19: Board of Governors of the Federal Reserve System. (2026, February 10). Selected interest rates (H.15 release): 10-Year Treasury constant maturity yield = 4.20%. https://www.federalreserve.gov/releases/h15/
B20: Market Risk Premium (2) | D20: 0.055 | I20: Unlevered | J20: Debt/ | K20: Marginal | L20: Relevered | N20: Kroll (formerly Duff & Phelps). (2025). 2025 Cost of Capital Navigator: U.S. equity risk premium recommendation of 5.5%. Kroll, LLC; Damodaran, A. (2026, January). Country default spreads and risk premiums. NYU Stern. https://pages.stern.nyu.edu/~adamodar/
B21: Levered Beta | D21: =+L22 -> 1.3393325 | I21: Beta | J21: Equity | K21: Tax Rate | L21: Beta
B22: Size Premium (3) | D22: 0.008 | F22: Relevered Beta | I22: =L15 -> 1.1075469 | J22: =D8/D9 -> 0.28865979 | K22: =D14 -> 0.275 | L22: =+I22*(1+(J22)*(1-K22)) -> 1.3393325 | N22: Kroll (formerly Duff & Phelps). (2025). 2025 Cost of Capital Navigator: Mid-cap decile size premium = 0.8% (market cap ~$8.9B). Kroll, LLC.
B23: Cost of Equity | D23: =+D19+(D21*D20)+D22 -> 0.12366329
F24: WACC Sensitivity Analysis (& Beta Impact)
H25: Pre-tax Cost of Debt
B26: WACC | D26: =(D8*D15)+(D9*D23) -> 0.10278351 | F26: Debt-to-Total Capitalization | G26: =D26 -> 0.10278351 | H26: =I26-0.005 -> 0.032 | I26: =J26-0.005 -> 0.037 | J26: 0.042 | K26: =J26+0.005 -> 0.047 | L26: =K26+0.005 -> 0.052
G27: =G28-0.1 -> 0.024 | H27: 0.10933583 | I27: 0.10908907 | J27: 0.10884231 | K27: 0.10859555 | L27: 0.10834879
G28: =G29-0.1 -> 0.124 | H28: 0.10766543 | I28: 0.10715767 | J28: 0.10664991 | K28: 0.10614215 | L28: 0.10563439
G29: =D8 -> 0.224 | H29: 0.10998543 | I29: 0.10984017 | J29: 0.10969491 | K29: 0.10954965 | L29: 0.10940439
G30: =G29+0.1 -> 0.324 | H30: 0.11230543 | I30: 0.11252267 | J30: 0.11273991 | K30: 0.11295715 | L30: 0.11317439
G31: =G30+0.1 -> 0.424 | H31: 0.11462543 | I31: 0.11520517 | J31: 0.11578491 | K31: 0.11636465 | L31: 0.11694439
B33: (1) 10-Year U.S. Treasury yield, ~4.20% as of Feb 2026 (Federal Reserve H.15)
B34: (2) Duff & Phelps 2025 Cost of Capital Navigator; Damodaran ERP Jan 2026
B35: (3) Mid-cap size premium per Duff & Phelps (Mkt Cap ~$8.9B)
B36: (4) Yahoo Finance: PLNT Beta (5Y Monthly) = 1.28 as of Feb 2026 | G36: Beta | H36: WACC | I36: Implied Share Price
G37: =G38-0.2 -> 0.88 | H37: 0.0995 | I37: 83.87
B38: Beta Sensitivity Note: | G38: =G39-0.2 -> 1.08 | H38: 0.1011 | I38: 83.1
B39: Current levered beta = 1.28. Each 0.1 change in beta changes Ke by ~55bps and WACC by ~43bps. | G39: 1.28 | H39: 0.1028 | I39: 82.34
B40: Beta = 0.90 → WACC ≈ 8.4% → Implied price ~$100-105. Beta = 1.60 → WACC ≈ 11.4% → Implied price ~$65-70. | G40: =G39+0.2 -> 1.48 | H40: 0.1044 | I40: 81.58
B41: Sources: Yahoo Finance PLNT Beta (5Y Monthly); Bloomberg Terminal adjusted beta. | G41: =G40+0.2 -> 1.68 | H41: 0.1061 | I41: 80.83

Sheet AS1
B1: Assumptions Page 1 - Income Statement and Cash Flow Statement (Planet Fitness) | P1: References (APA7)
F2: Projection Period
F3: 1 | G3: 2 | H3: 3 | I3: 4 | J3: 5 | K3: 6 | L3: 7 | M3: 8 | N3: 9 | O3: 10
F4: =+DCF!J6 -> 2025 | G4: =+DCF!K6 -> 2026 | H4: =+DCF!L6 -> 2027 | I4: =+DCF!M6 -> 2028 | J4: =+DCF!N6 -> 2029 | K4: =+J4+1 -> 2030 | L4: =+K4+1 -> 2031 | M4: =+L4+1 -> 2032 | N4: =+M4+1 -> 2033 | O4: =+N4+1 -> 2034
B6: Income Statement Assumptions | P6: Planet Fitness, Inc. (2025, February 25). Annual report pursuant to Section 13 or 15(d) of the Securities Exchange Act of 1934 (Form 10-K). U.S. Securities and Exchange Commission. https://www.sec.gov/cgi-bin/browse-edgar?action=getcompany&CIK=PLNT; Macquarie Equity Research. (2025, February 26). Planet Fitness: Solid FY24; reiterating Outperform. Macquarie Group.
B7: Sales (% growth) | F7: =CHOOSE(DCF!$D$4,F8,F9,F10,F11,F12) -> 0.09 | G7: =CHOOSE(DCF!$D$4,G8,G9,G10,G11,G12) -> 0.08 | H7: =CHOOSE(DCF!$D$4,H8,H9,H10,H11,H12) -> 0.07 | I7: =CHOOSE(DCF!$D$4,I8,I9,I10,I11,I12) -> 0.06 | J7: =CHOOSE(DCF!$D$4,J8,J9,J10,J11,J12) -> 0.055 | K7: =CHOOSE(DCF!$D$4,K8,K9,K10,K11,K12) -> 0.055 | L7: =CHOOSE(DCF!$D$4,L8,L9,L10,L11,L12) -> 0.055 | M7: =CHOOSE(DCF!$D$4,M8,M9,M10,M11,M12) -> 0.055 | ... O7: =CHOOSE(DCF!$D$4,O8,O9,O10,O11,O12) -> 0.055 | P7: Planet Fitness, Inc. (2025, November 6). Third quarter 2025 earnings press release (Form 8-K): Same-store sales growth of 6.9%. U.S. SEC EDGAR; IBISWorld. (2025). Gym, health & fitness clubs in the US (Industry Report OD4681). IBISWorld
B8: Base | E8: 1 | F8: 0.09 | G8: 0.08 | H8: 0.07 | I8: 0.06 | J8: 0.055 | K8: =+J8 -> 0.055 | L8: =+K8 -> 0.055 | M8: =+L8 -> 0.055 | N8: =+M8 -> 0.055 | O8: =+N8 -> 0.055 | P8: Base: in line with historical averages Upside: assumes increased bargaining power with customers and low churn; Management: stated low double digit growth driven by 160+ new yearly openings Downsides (1 & 2): are stress tests, assuming economic headwinds and customer churn
B9: Upside | E9: 2 | F9: 0.11 | G9: 0.095 | H9: 0.085 | I9: 0.075 | J9: 0.065 | K9: =+J9 -> 0.065 | L9: =+K9 -> 0.065 | M9: =+L9 -> 0.065 | N9: =+M9 -> 0.065 | O9: =+N9 -> 0.065
B10: Management | E10: 3 | F10: 0.12 | G10: 0.105 | H10: 0.095 | I10: 0.085 | J10: 0.075 | K10: =+J10 -> 0.075 | L10: =+K10 -> 0.075 | M10: =+L10 -> 0.075 | N10: =+M10 -> 0.075 | O10: =+N10 -> 0.075
B11: Downside 1 | E11: 4 | F11: 0.065 | G11: 0.055 | H11: 0.045 | I11: 0.04 | J11: 0.035 | K11: =+J11 -> 0.035 | L11: =+K11 -> 0.035 | M11: =+L11 -> 0.035 | N11: =+M11 -> 0.035 | O11: =+N11 -> 0.035
B12: Downside 2 | E12: 5 | F12: 0.04 | G12: 0.03 | H12: 0.025 | I12: 0.02 | J12: 0.02 | K12: =+J12 -> 0.02 | L12: =+K12 -> 0.02 | M12: =+L12 -> 0.02 | N12: =+M12 -> 0.02 | O12: =+N12 -> 0.02
B14: Cost of Goods Sold (% sales) | F14: =CHOOSE(DCF!$D$4,F15,F16,F17,F18,F19) -> 0.478 | G14: =CHOOSE(DCF!$D$4,G15,G16,G17,G18,G19) -> 0.476 | H14: =CHOOSE(DCF!$D$4,H15,H16,H17,H18,H19) -> 0.474 | I14: =CHOOSE(DCF!$D$4,I15,I16,I17,I18,I19) -> 0.472 | J14: =CHOOSE(DCF!$D$4,J15,J16,J17,J18,J19) -> 0.47 | K14: =CHOOSE(DCF!$D$4,K15,K16,K17,K18,K19) -> 0.47 | L14: =CHOOSE(DCF!$D$4,L15,L16,L17,L18,L19) -> 0.47 | M14: =CHOOSE(DCF!$D$4,M15,M16,M17,M18,M19) -> 0.47 | ... O14: =CHOOSE(DCF!$D$4,O15,O16,O17,O18,O19) -> 0.47 | P14: Planet Fitness, Inc. (2025). Form 10-K for FY 2024, pp. 41–43: Cost of revenue breakdown. SEC EDGAR; PitchBook Data, Inc. (2026, February 12). Public company financials: Planet Fitness, Inc. PitchBook.
B15: Base | E15: 1 | F15: 0.478 | G15: 0.476 | H15: 0.474 | I15: 0.472 | J15: 0.47 | K15: =+J15 -> 0.47 | L15: =+K15 -> 0.47 | M15: =+L15 -> 0.47 | N15: =+M15 -> 0.47 | O15: =+N15 -> 0.47 | P15: Base: in line with historical averages Upside: assumes better bulk pricing for equipment as highlighted as a focus for 2025 onwards; Management: stated target of enancing unit economics by reducing building costs Downsides (1 & 2): cost inflation and tariffs
B16: Upside | E16: 2 | F16: 0.47 | G16: 0.465 | H16: 0.46 | I16: 0.455 | J16: 0.45 | K16: =+J16 -> 0.45 | L16: =+K16 -> 0.45 | M16: =+L16 -> 0.45 | N16: =+M16 -> 0.45 | O16: =+N16 -> 0.45
B17: Management | E17: 3 | F17: 0.465 | G17: 0.458 | H17: 0.452 | I17: 0.446 | J17: 0.44 | K17: =+J17 -> 0.44 | L17: =+K17 -> 0.44 | M17: =+L17 -> 0.44 | N17: =+M17 -> 0.44 | O17: =+N17 -> 0.44
B18: Downside 1 | E18: 4 | F18: 0.485 | G18: 0.487 | H18: 0.49 | I18: 0.492 | J18: 0.495 | K18: =+J18 -> 0.495 | L18: =+K18 -> 0.495 | M18: =+L18 -> 0.495 | N18: =+M18 -> 0.495 | O18: =+N18 -> 0.495
B19: Downside 2 | E19: 5 | F19: 0.492 | G19: 0.495 | H19: 0.498 | I19: 0.5 | J19: 0.502 | K19: =+J19 -> 0.502 | L19: =+K19 -> 0.502 | M19: =+L19 -> 0.502 | N19: =+M19 -> 0.502 | O19: =+N19 -> 0.502
B21: SG&A (% sales) | F21: =CHOOSE(DCF!$D$4,F22,F23,F24,F25,F26) -> 0.108 | G21: =CHOOSE(DCF!$D$4,G22,G23,G24,G25,G26) -> 0.106 | H21: =CHOOSE(DCF!$D$4,H22,H23,H24,H25,H26) -> 0.104 | I21: =CHOOSE(DCF!$D$4,I22,I23,I24,I25,I26) -> 0.102 | J21: =CHOOSE(DCF!$D$4,J22,J23,J24,J25,J26) -> 0.1 | K21: =CHOOSE(DCF!$D$4,K22,K23,K24,K25,K26) -> 0.1 | L21: =CHOOSE(DCF!$D$4,L22,L23,L24,L25,L26) -> 0.1 | M21: =CHOOSE(DCF!$D$4,M22,M23,M24,M25,M26) -> 0.1 | ... O21: =CHOOSE(DCF!$D$4,O22,O23,O24,O25,O26) -> 0.1 | P21: Planet Fitness, Inc. (2025). Form 10-K for FY 2024, p. 44: SG&A expenses detail. SEC EDGAR; Morgan Stanley Research. (2025, March 3). Planet Fitness: Operating leverage thesis. Morgan Stanley.
B22: Base | E22: 1 | F22: 0.108 | G22: 0.106 | H22: 0.104 | I22: 0.102 | J22: 0.1 | K22: =+J22 -> 0.1 | L22: =+K22 -> 0.1 | M22: =+L22 -> 0.1 | N22: =+M22 -> 0.1 | O22: =+N22 -> 0.1 | P22: Base: in line with historical averages Upside: higher operating leverage; Management: focuss on digitizing member experience Downsides (1& 2): Higher churn and marketing costs due to competitive pressure
B23: Upside | E23: 2 | F23: 0.105 | G23: 0.102 | H23: 0.099 | I23: 0.096 | J23: 0.093 | K23: =+J23 -> 0.093 | L23: =+K23 -> 0.093 | M23: =+L23 -> 0.093 | N23: =+M23 -> 0.093 | O23: =+N23 -> 0.093
B24: Management | E24: 3 | F24: 0.1 | G24: 0.097 | H24: 0.094 | I24: 0.091 | J24: 0.088 | K24: =+J24 -> 0.088 | L24: =+K24 -> 0.088 | M24: =+L24 -> 0.088 | N24: =+M24 -> 0.088 | O24: =+N24 -> 0.088
B25: Downside 1 | E25: 4 | F25: 0.112 | G25: 0.114 | H25: 0.115 | I25: 0.116 | J25: 0.117 | K25: =+J25 -> 0.117 | L25: =+K25 -> 0.117 | M25: =+L25 -> 0.117 | N25: =+M25 -> 0.117 | O25: =+N25 -> 0.117
B26: Downside 2 | E26: 5 | F26: 0.118 | G26: 0.12 | H26: 0.122 | I26: 0.124 | J26: 0.125 | K26: =+J26 -> 0.125 | L26: =+K26 -> 0.125 | M26: =+L26 -> 0.125 | N26: =+M26 -> 0.125 | O26: =+N26 -> 0.125
B28: Depreciation & Amortization (% sales) | F28: =CHOOSE(DCF!$D$4,F29,F30,F31,F32,F33) -> 0.135 | G28: =CHOOSE(DCF!$D$4,G29,G30,G31,G32,G33) -> 0.133 | H28: =CHOOSE(DCF!$D$4,H29,H30,H31,H32,H33) -> 0.131 | I28: =CHOOSE(DCF!$D$4,I29,I30,I31,I32,I33) -> 0.129 | J28: =CHOOSE(DCF!$D$4,J29,J30,J31,J32,J33) -> 0.127 | K28: =CHOOSE(DCF!$D$4,K29,K30,K31,K32,K33) -> 0.127 | L28: =CHOOSE(DCF!$D$4,L29,L30,L31,L32,L33) -> 0.127 | M28: =CHOOSE(DCF!$D$4,M29,M30,M31,M32,M33) -> 0.127 | ... O28: =CHOOSE(DCF!$D$4,O29,O30,O31,O32,O33) -> 0.127 | P28: Planet Fitness, Inc. (2025). Form 10-K for FY 2024, p. 8: Property and equipment, useful lives. SEC EDGAR; PitchBook Data, Inc. (2026). PLNT D&A as % of revenue: FY22=13.2%, FY23=13.9%, FY24=13.6%.
B29: Base | E29: 1 | F29: 0.135 | G29: 0.133 | H29: 0.131 | I29: 0.129 | J29: 0.127 | K29: =+J29 -> 0.127 | L29: =+K29 -> 0.127 | M29: =+L29 -> 0.127 | N29: =+M29 -> 0.127 | O29: =+N29 -> 0.127 | P29: Base: in line with historical averages Upside: longer useful life for gym equipment and lower capex requirements for "optimized format" clubs; Management: Asset light stemming from the strategic shift to franchising Downsides (1 & 2): accelerated equipment wear due to high traffic and asset impairment for underperforming clubs
B30: Upside | E30: 2 | F30: 0.13 | G30: 0.128 | H30: 0.126 | I30: 0.124 | J30: 0.122 | K30: =+J30 -> 0.122 | L30: =+K30 -> 0.122 | M30: =+L30 -> 0.122 | N30: =+M30 -> 0.122 | O30: =+N30 -> 0.122
B31: Management | E31: 3 | F31: 0.128 | G31: 0.125 | H31: 0.122 | I31: 0.12 | J31: 0.118 | K31: =+J31 -> 0.118 | L31: =+K31 -> 0.118 | M31: =+L31 -> 0.118 | N31: =+M31 -> 0.118 | O31: =+N31 -> 0.118
B32: Downside 1 | E32: 4 | F32: 0.138 | G32: 0.14 | H32: 0.142 | I32: 0.143 | J32: 0.144 | K32: =+J32 -> 0.144 | L32: =+K32 -> 0.144 | M32: =+L32 -> 0.144 | N32: =+M32 -> 0.144 | O32: =+N32 -> 0.144
B33: Downside 2 | E33: 5 | F33: 0.142 | G33: 0.145 | H33: 0.147 | I33: 0.149 | J33: 0.15 | K33: =+J33 -> 0.15 | L33: =+K33 -> 0.15 | M33: =+L33 -> 0.15 | N33: =+M33 -> 0.15 | O33: =+N33 -> 0.15
B35: Cash Flow Statement Assumptions
B36: Capital Expenditures (% of sales) | F36: =CHOOSE(DCF!$D$4,F37,F38,F39,F40,F41) -> 0.125 | G36: =CHOOSE(DCF!$D$4,G37,G38,G39,G40,G41) -> 0.122 | H36: =CHOOSE(DCF!$D$4,H37,H38,H39,H40,H41) -> 0.12 | I36: =CHOOSE(DCF!$D$4,I37,I38,I39,I40,I41) -> 0.118 | J36: =CHOOSE(DCF!$D$4,J37,J38,J39,J40,J41) -> 0.115 | K36: =CHOOSE(DCF!$D$4,K37,K38,K39,K40,K41) -> 0.115 | L36: =CHOOSE(DCF!$D$4,L37,L38,L39,L40,L41) -> 0.115 | M36: =CHOOSE(DCF!$D$4,M37,M38,M39,M40,M41) -> 0.115 | ... O36: =CHOOSE(DCF!$D$4,O37,O38,O39,O40,O41) -> 0.115 | P36: Planet Fitness, Inc. (2025). Form 10-K for FY 2024, p. 47: Capital expenditures discussion. SEC EDGAR; Planet Fitness, Inc. (2025, November 6). Q3 2025 earnings call transcript: 2025 CapEx guidance $160M–$170M. Seeking Alpha.
B37: Base | E37: 1 | F37: 0.125 | G37: 0.122 | H37: 0.12 | I37: 0.118 | J37: 0.115 | K37: =+J37 -> 0.115 | L37: =+K37 -> 0.115 | M37: =+L37 -> 0.115 | N37: =+M37 -> 0.115 | O37: =+N37 -> 0.115 | P37: Base: in line with historical averages Upside: agressive expansion in high growt territories; Management: reflects the goal of accelarating global growth and digitizing member experience Downsides (1 & 2): capital preservation and minimum maintenance (only necessary)
B38: Upside | E38: 2 | F38: 0.13 | G38: 0.128 | H38: 0.125 | I38: 0.122 | J38: 0.12 | K38: =+J38 -> 0.12 | L38: =+K38 -> 0.12 | M38: =+L38 -> 0.12 | N38: =+M38 -> 0.12 | O38: =+N38 -> 0.12
B39: Management | E39: 3 | F39: 0.135 | G39: 0.132 | H39: 0.128 | I39: 0.125 | J39: 0.122 | K39: =+J39 -> 0.122 | L39: =+K39 -> 0.122 | M39: =+L39 -> 0.122 | N39: =+M39 -> 0.122 | O39: =+N39 -> 0.122
B40: Downside 1 | E40: 4 | F40: 0.115 | G40: 0.112 | H40: 0.11 | I40: 0.108 | J40: 0.105 | K40: =+J40 -> 0.105 | L40: =+K40 -> 0.105 | M40: =+L40 -> 0.105 | N40: =+M40 -> 0.105 | O40: =+N40 -> 0.105
B41: Downside 2 | E41: 5 | F41: 0.11 | G41: 0.105 | H41: 0.1 | I41: 0.098 | J41: 0.095 | K41: =+J41 -> 0.095 | L41: =+K41 -> 0.095 | M41: =+L41 -> 0.095 | N41: =+M41 -> 0.095 | O41: =+N41 -> 0.095

Sheet AS2
B1: Assumptions Page 2 - Balance Sheet (Planet Fitness) | P1: References (APA7)
F2: Projection Period
F3: 1 | G3: 2 | H3: 3 | I3: 4 | J3: 5 | K3: 6 | L3: 7 | M3: 8 | N3: 9 | O3: 10
F4: =+DCF!J6 -> 2025 | G4: =+DCF!K6 -> 2026 | H4: =+DCF!L6 -> 2027 | I4: =+DCF!M6 -> 2028 | J4: =+DCF!N6 -> 2029 | K4: =+J4+1 -> 2030 | L4: =+K4+1 -> 2031 | M4: =+L4+1 -> 2032 | N4: =+M4+1 -> 2033 | O4: =+N4+1 -> 2034
B6: Current Assets
B7: Days Sales Outstanding (DSO) | F7: =CHOOSE(DCF!$D$4,F8,F9,F10,F11,F12) -> 23.8 | G7: =CHOOSE(DCF!$D$4,G8,G9,G10,G11,G12) -> 23.8 | H7: =CHOOSE(DCF!$D$4,H8,H9,H10,H11,H12) -> 23.8 | I7: =CHOOSE(DCF!$D$4,I8,I9,I10,I11,I12) -> 23.8 | J7: =CHOOSE(DCF!$D$4,J8,J9,J10,J11,J12) -> 23.8 | K7: =CHOOSE(DCF!$D$4,K8,K9,K10,K11,K12) -> 23.8 | L7: =CHOOSE(DCF!$D$4,L8,L9,L10,L11,L12) -> 23.8 | M7: =CHOOSE(DCF!$D$4,M8,M9,M10,M11,M12) -> 23.8 | ... O7: =CHOOSE(DCF!$D$4,O8,O9,O10,O11,O12) -> 23.8 | P7: Planet Fitness, Inc. (2025). Form 10-K for FY 2024: Accounts receivable, pp. 65–69. SEC EDGAR; PitchBook Data, Inc. (2026). PLNT DSO: FY22=18.0d, FY23=14.3d, FY24=23.8d.
B8: Base | E8: 1 | F8: 23.8 | G8: 23.8 | H8: 23.8 | I8: 23.8 | J8: 23.8 | K8: =+J8 -> 23.8 | L8: =+K8 -> 23.8 | M8: =+L8 -> 23.8 | N8: =+M8 -> 23.8 | O8: =+N8 -> 23.8 | P8: Base: in line with historical averages Upside: assumes increased efficiency and shift towards digital payments; Management: management has a stated goal of optimizing the "new Growth Model", which supports franchise liquidity Downsides (1 & 2): are stress tests, assuming economic headwinds and franchise distress
B9: Upside | E9: 2 | F9: 23.8 | G9: 22.5 | H9: 22 | I9: 21 | J9: =I9 -> 21 | K9: =+J9 -> 21 | L9: =+K9 -> 21 | M9: =+L9 -> 21 | N9: =+M9 -> 21 | O9: =+N9 -> 21
B10: Management | E10: 3 | F10: 23.8 | G10: 23.3 | H10: 22.8 | I10: 22.5 | J10: 22.5 | K10: =+J10 -> 22.5 | L10: =+K10 -> 22.5 | M10: =+L10 -> 22.5 | N10: =+M10 -> 22.5 | O10: =+N10 -> 22.5
B11: Downside 1 | E11: 4 | F11: 23.8 | G11: 24.5 | H11: 25 | I11: 25.5 | J11: 26 | K11: =+J11 -> 26 | L11: =+K11 -> 26 | M11: =+L11 -> 26 | N11: =+M11 -> 26 | O11: =+N11 -> 26
B12: Downside 2 | E12: 5 | F12: 23.8 | G12: 25 | H12: 27 | I12: 28 | J12: 30 | K12: =+J12 -> 30 | L12: =+K12 -> 30 | M12: =+L12 -> 30 | N12: =+M12 -> 30 | O12: =+N12 -> 30
B14: Days Inventory Held (DIH) | F14: =CHOOSE(DCF!$D$4,F15,F16,F17,F18,F19) -> 4 | G14: =CHOOSE(DCF!$D$4,G15,G16,G17,G18,G19) -> 4 | H14: =CHOOSE(DCF!$D$4,H15,H16,H17,H18,H19) -> 4 | I14: =CHOOSE(DCF!$D$4,I15,I16,I17,I18,I19) -> 4 | J14: =CHOOSE(DCF!$D$4,J15,J16,J17,J18,J19) -> 4 | K14: =CHOOSE(DCF!$D$4,K15,K16,K17,K18,K19) -> 4 | L14: =CHOOSE(DCF!$D$4,L15,L16,L17,L18,L19) -> 4 | M14: =CHOOSE(DCF!$D$4,M15,M16,M17,M18,M19) -> 4 | ... O14: =CHOOSE(DCF!$D$4,O15,O16,O17,O18,O19) -> 4 | P14: Planet Fitness, Inc. (2025). Form 10-K for FY 2024: Inventories, p. 69-70. SEC EDGAR; PitchBook Data, Inc. (2026). PLNT DIH: FY22=4.2d, FY23=3.3d, FY24=4.0d.
B15: Base | E15: 1 | F15: 4 | G15: 4 | H15: 4 | I15: 4 | J15: 4 | K15: =+J15 -> 4 | L15: =+K15 -> 4 | M15: =+L15 -> 4 | N15: =+M15 -> 4 | O15: =+N15 -> 4 | P15: Base: In line with historical averages Upside: assumes increase in inventory efficiency and 'just in time' delivery for equipments Management: before 2024, this number used to be 3.5. Management assumes they can improve operational efficiency back to this level Downsides (1 & 2): assumes need for extra inventory and replacement parts and a worst case where opening schedules get delayed and equipment sits longer in inventory
B16: Upside | E16: 2 | F16: 4 | G16: 3.5 | H16: 3.3 | I16: 3 | J16: =I16 -> 3 | K16: =+J16 -> 3 | L16: =+K16 -> 3 | M16: =+L16 -> 3 | N16: =+M16 -> 3 | O16: =+N16 -> 3
B17: Management | E17: 3 | F17: 4 | G17: 3.8 | H17: 3.5 | I17: =H17 -> 3.5 | J17: =I17 -> 3.5 | K17: =+J17 -> 3.5 | L17: =+K17 -> 3.5 | M17: =+L17 -> 3.5 | N17: =+M17 -> 3.5 | O17: =+N17 -> 3.5
B18: Downside 1 | E18: 4 | F18: 4 | G18: 4.5 | H18: 5 | I18: 5.5 | J18: 6 | K18: =+J18 -> 6 | L18: =+K18 -> 6 | M18: =+L18 -> 6 | N18: =+M18 -> 6 | O18: =+N18 -> 6
B19: Downside 2 | E19: 5 | F19: 4 | G19: 5 | H19: 6.5 | I19: 7.5 | J19: 8.5 | K19: =+J19 -> 8.5 | L19: =+K19 -> 8.5 | M19: =+L19 -> 8.5 | N19: =+M19 -> 8.5 | O19: =+N19 -> 8.5
B21: Prepaid and Other Current Assets (% of sales) | F21: =CHOOSE(DCF!$D$4,F22,F23,F24,F25,F26) -> 0.0182 | G21: =CHOOSE(DCF!$D$4,G22,G23,G24,G25,G26) -> 0.0182 | H21: =CHOOSE(DCF!$D$4,H22,H23,H24,H25,H26) -> 0.0182 | I21: =CHOOSE(DCF!$D$4,I22,I23,I24,I25,I26) -> 0.0182 | J21: =CHOOSE(DCF!$D$4,J22,J23,J24,J25,J26) -> 0.0182 | K21: =CHOOSE(DCF!$D$4,K22,K23,K24,K25,K26) -> 0.0182 | L21: =CHOOSE(DCF!$D$4,L22,L23,L24,L25,L26) -> 0.0182 | M21: =CHOOSE(DCF!$D$4,M22,M23,M24,M25,M26) -> 0.0182 | ... O21: =CHOOSE(DCF!$D$4,O22,O23,O24,O25,O26) -> 0.0182 | P21: Planet Fitness, Inc. (2025). Form 10-K for FY 2024: Prepaid expenses and other current assets, p. 65-69. SEC EDGAR.
B22: Base | E22: 1 | F22: 0.0182 | G22: 0.0182 | H22: 0.0182 | I22: 0.0182 | J22: 0.0182 | K22: =+J22 -> 0.0182 | L22: =+K22 -> 0.0182 | M22: =+L22 -> 0.0182 | N22: =+M22 -> 0.0182 | O22: =+N22 -> 0.0182 | P22: Base: In line with historical averages Upside: PLNT becomes more dominant and increases its leverage power over suupliers, which, for them, consists mostly of rent paid upfront, insurance premiums and marketing deposits. Management: optimizes "club format" which, according to mgmt consists in streamlining fixed upfront costs as they expand internationally Downsides (1 & 2): assumes inflationary pression and inefficient expansion (either too agressive or into more saturated markets)
B23: Upside | E23: 2 | F23: 0.0182 | G23: 0.017 | H23: 0.016 | I23: =H23 -> 0.016 | J23: =I23 -> 0.016 | K23: =+J23 -> 0.016 | L23: =+K23 -> 0.016 | M23: =+L23 -> 0.016 | N23: =+M23 -> 0.016 | O23: =+N23 -> 0.016
A24: 0.0182 | B24: Management | E24: 3 | F24: 0.0182 | G24: 0.0175 | H24: 0.017 | I24: =H24 -> 0.017 | J24: =I24 -> 0.017 | K24: =+J24 -> 0.017 | L24: =+K24 -> 0.017 | M24: =+L24 -> 0.017 | N24: =+M24 -> 0.017 | O24: =+N24 -> 0.017
B25: Downside 1 | E25: 4 | F25: 0.0182 | G25: 0.0182 | H25: 0.0182 | I25: 0.0182 | J25: 0.0205 | K25: =+J25 -> 0.0205 | L25: =+K25 -> 0.0205 | M25: =+L25 -> 0.0205 | N25: =+M25 -> 0.0205 | O25: =+N25 -> 0.0205
B26: Downside 2 | E26: 5 | F26: 0.0182 | G26: 0.0182 | H26: 0.0182 | I26: 0.0182 | J26: 0.023 | K26: =+J26 -> 0.023 | L26: =+K26 -> 0.023 | M26: =+L26 -> 0.023 | N26: =+M26 -> 0.023 | O26: =+N26 -> 0.023
B28: Current Liabilities
B29: Days Payable Outstanding (DPO) | F29: =CHOOSE(DCF!$D$4,F30,F31,F32,F33,F34) -> 21.2 | G29: =CHOOSE(DCF!$D$4,G30,G31,G32,G33,G34) -> 21.2 | H29: =CHOOSE(DCF!$D$4,H30,H31,H32,H33,H34) -> 21.2 | I29: =CHOOSE(DCF!$D$4,I30,I31,I32,I33,I34) -> 21.2 | J29: =CHOOSE(DCF!$D$4,J30,J31,J32,J33,J34) -> 21.2 | K29: =CHOOSE(DCF!$D$4,K30,K31,K32,K33,K34) -> 21.2 | L29: =CHOOSE(DCF!$D$4,L30,L31,L32,L33,L34) -> 21.2 | M29: =CHOOSE(DCF!$D$4,M30,M31,M32,M33,M34) -> 21.2 | ... O29: =CHOOSE(DCF!$D$4,O30,O31,O32,O33,O34) -> 21.2 | P29: Planet Fitness, Inc. (2025). Form 10-K for FY 2024: Accounts payable, p. 65-70. SEC EDGAR; PitchBook Data, Inc. (2026). PLNT DPO: FY22=16.2d, FY23=16.9d, FY24=21.2d.
B30: Base | E30: 1 | F30: 21.2 | G30: 21.2 | H30: 21.2 | I30: 21.2 | J30: 21.2 | K30: =+J30 -> 21.2 | L30: =+K30 -> 21.2 | M30: =+L30 -> 21.2 | N30: =+M30 -> 21.2 | O30: =+N30 -> 21.2 | P30: Base: In line with historical averages Upside: Increase in bargaining power as PLNT reaches 3,000+ clubs Management: increased vendor management, in line with CFO Jay Staz's 2025 format optimization goal, which includes streamlining supply chain Downsides (1 & 2): assumes supply chain tightening, lost of suppliers and credit contraction and increased interest rates
B31: Upside | E31: 2 | F31: 21.2 | G31: 22 | H31: 23 | I31: 23.5 | J31: 24 | K31: =+J31 -> 24 | L31: =+K31 -> 24 | M31: =+L31 -> 24 | N31: =+M31 -> 24 | O31: =+N31 -> 24
B32: Management | E32: 3 | F32: 21.2 | G32: 22 | H32: 22.5 | I32: 23 | J32: 23 | K32: =+J32 -> 23 | L32: =+K32 -> 23 | M32: =+L32 -> 23 | N32: =+M32 -> 23 | O32: =+N32 -> 23
B33: Downside 1 | E33: 4 | F33: 21.2 | G33: 21 | H33: 20.5 | I33: 20 | J33: 19 | K33: =+J33 -> 19 | L33: =+K33 -> 19 | M33: =+L33 -> 19 | N33: =+M33 -> 19 | O33: =+N33 -> 19
B34: Downside 2 | E34: 5 | F34: 21.2 | G34: 20 | H34: 19 | I34: 18 | J34: 17 | K34: =+J34 -> 17 | L34: =+K34 -> 17 | M34: =+L34 -> 17 | N34: =+M34 -> 17 | O34: =+N34 -> 17
B36: Accrued Liabilities (% of sales) | F36: =CHOOSE(DCF!$D$4,F37,F38,F39,F40,F41) -> 0.0575 | G36: =CHOOSE(DCF!$D$4,G37,G38,G39,G40,G41) -> 0.0575 | H36: =CHOOSE(DCF!$D$4,H37,H38,H39,H40,H41) -> 0.0575 | I36: =CHOOSE(DCF!$D$4,I37,I38,I39,I40,I41) -> 0.0575 | J36: =CHOOSE(DCF!$D$4,J37,J38,J39,J40,J41) -> 0.0575 | K36: =CHOOSE(DCF!$D$4,K37,K38,K39,K40,K41) -> 0.0575 | L36: =CHOOSE(DCF!$D$4,L37,L38,L39,L40,L41) -> 0.0575 | M36: =CHOOSE(DCF!$D$4,M37,M38,M39,M40,M41) -> 0.0575 | ... O36: =CHOOSE(DCF!$D$4,O37,O38,O39,O40,O41) -> 0.0575 | P36: Planet Fitness, Inc. (2025). Form 10-K for FY 2024: Accrued expenses, p. 70. SEC EDGAR.
B37: Base | E37: 1 | F37: 0.0575 | G37: 0.0575 | H37: 0.0575 | I37: 0.0575 | J37: 0.0575 | K37: =+J37 -> 0.0575 | L37: =+K37 -> 0.0575 | M37: =+L37 -> 0.0575 | N37: =+M37 -> 0.0575 | O37: =+N37 -> 0.0575 | P37: Base: In line with historical averages Upside: as the company grows, it carries higher acrrued payroll and marketing fees, which are sources of internal financing Management: reflecting accruals for legal, tax and employment obligations Downsides (1 & 2): assumes more efficient settlement of employee bonuses and utilities and reduced leverage with vendors to maintain trust
B38: Upside | E38: 2 | F38: 0.0575 | G38: 0.058 | H38: 0.06 | I38: 0.0625 | J38: 0.0625 | K38: =+J38 -> 0.0625 | L38: =+K38 -> 0.0625 | M38: =+L38 -> 0.0625 | N38: =+M38 -> 0.0625 | O38: =+N38 -> 0.0625
B39: Management | E39: 3 | F39: 0.0575 | G39: 0.0575 | H39: 0.06 | I39: =H39 -> 0.06 | J39: 0.06 | K39: =+J39 -> 0.06 | L39: =+K39 -> 0.06 | M39: =+L39 -> 0.06 | N39: =+M39 -> 0.06 | O39: =+N39 -> 0.06
B40: Downside 1 | E40: 4 | F40: 0.0575 | G40: 0.055 | H40: 0.055 | I40: 0.0525 | J40: 0.0525 | K40: =+J40 -> 0.0525 | L40: =+K40 -> 0.0525 | M40: =+L40 -> 0.0525 | N40: =+M40 -> 0.0525 | O40: =+N40 -> 0.0525
B41: Downside 2 | E41: 5 | F41: 0.0575 | G41: 0.0525 | H41: 0.05 | I41: 0.0475 | J41: 0.0475 | K41: =+J41 -> 0.0475 | L41: =+K41 -> 0.0475 | M41: =+L41 -> 0.0475 | N41: =+M41 -> 0.0475 | O41: =+N41 -> 0.0475
B43: Other Current Liabilities (% of sales) | F43: =CHOOSE(DCF!$D$4,F44,F45,F46,F47,F48) -> 0.0352 | G43: =CHOOSE(DCF!$D$4,G44,G45,G46,G47,G48) -> 0.0352 | H43: =CHOOSE(DCF!$D$4,H44,H45,H46,H47,H48) -> 0.0352 | I43: =CHOOSE(DCF!$D$4,I44,I45,I46,I47,I48) -> 0.0352 | J43: =CHOOSE(DCF!$D$4,J44,J45,J46,J47,J48) -> 0.0352 | K43: =CHOOSE(DCF!$D$4,K44,K45,K46,K47,K48) -> 0.0352 | L43: =CHOOSE(DCF!$D$4,L44,L45,L46,L47,L48) -> 0.0352 | M43: =CHOOSE(DCF!$D$4,M44,M45,M46,M47,M48) -> 0.0352 | ... O43: =CHOOSE(DCF!$D$4,O44,O45,O46,O47,O48) -> 0.0352 | P43: Planet Fitness, Inc. (2025). Form 10-K for FY 2024: Other current liabilities, p. 71. SEC EDGAR.
B44: Base | E44: 1 | F44: 0.0352 | G44: 0.0352 | H44: 0.0352 | I44: 0.0352 | J44: 0.0352 | K44: =+J44 -> 0.0352 | L44: =+K44 -> 0.0352 | M44: =+L44 -> 0.0352 | N44: =+M44 -> 0.0352 | O44: =+N44 -> 0.0352 | P44: Base: In line with historical averages Upside: deferred revenue growth through Black Card Membership and upfront annual fees Management: reflects management expectation for higher mobile app adoption and pre payments Downsides (1 & 2): fewer new members or lower percentage of prepayments. For downside 2, add churn pressure
B45: Upside | E45: 2 | F45: 0.0352 | G45: 0.036 | H45: 0.0375 | I45: 0.039 | J45: 0.04 | K45: =+J45 -> 0.04 | L45: =+K45 -> 0.04 | M45: =+L45 -> 0.04 | N45: =+M45 -> 0.04 | O45: =+N45 -> 0.04
B46: Management | E46: 3 | F46: 0.0352 | G46: 0.036 | H46: 0.037 | I46: 0.0375 | J46: 0.038 | K46: =+J46 -> 0.038 | L46: =+K46 -> 0.038 | M46: =+L46 -> 0.038 | N46: =+M46 -> 0.038 | O46: =+N46 -> 0.038
...

Sheet IS
C3: Income Statement (Fiscal Year)
C4: Downloaded On: 12-Feb-2026 | D4: Summary Stats
C5: Company: Planet Fitness (NYS: PLNT) | D5: Median | E5: Mean | F5: Min | G5: Max | H5: 25th pctile | I5: 75th pctile | J5: Std. Dev | K5: Coefficient of Variation | M5: FY 2024 | N5: FY 2023 | O5: FY 2022 | P5: FY 2021 | Q5: FY 2020 | R5: FY 2019 | S5: FY 2018 | T5: FY 2017 | U5: FY 2016 | V5: FY 2015 | W5: FY 2014 | X5: FY 2013 | Y5: FY 2012 | Z5: FY 2011 | AA5: FY 2010 | AB5: FY 2009 | AC5: FY 2008 | AD5: FY 2007 | AE5: FY 2006 | AF5: FY 2005 | AG5: FY 2004
C7: Amounts in Thousands, USD (except Ratios, Multiples & per share items)
M9: Filed: 25-Feb-2025 | N9: Filed: 25-Feb-2025 | O9: Filed: 25-Feb-2025 | P9: Filed: 29-Feb-2024 | Q9: Filed: 01-Mar-2023 | R9: Filed: 01-Mar-2022 | S9: Filed: 01-Mar-2021 | T9: Filed: 28-Feb-2020 | U9: Filed: 01-Mar-2019 | V9: Filed: 01-Mar-2018 | W9: Filed: 06-Mar-2017 | X9: Filed: 04-Mar-2016 | Y9: Filing not available | Z9: Filing not available | AA9: Filing not available | AB9: Filing not available | AC9: Filing not available | AD9: Filing not available | AE9: Filing not available | AF9: Filing not available | AG9: Filing not available
M10: View 10-K | N10: View 10-K | O10: View 10-K | P10: View 10-K | Q10: View 10-K | R10: View 10-K | S10: View 10-K | T10: View 10-K | U10: View 10-K | V10: View 10-K | W10: View 10-K | X10: View 10-K
C11: Gross Profit | D11: =IF(COUNT(L11:AG11)>0,MEDIAN(L11:AG11),"") | E11: =IF(COUNT(L11:AG11)>0,AVERAGE(L11:AG11),"") | F11: =IF(COUNT(L11:AG11)>0,MIN(L11:AG11),"") | G11: =IF(COUNT(L11:AG11)>0,MAX(L11:AG11),"") | H11: =IF(COUNT(L11:AG11)>0,QUARTILE(L11:AG11,1),"") | I11: =IF(COUNT(L11:AG11)>0,QUARTILE(L11:AG11,3),"") | J11: =IF(COUNT(L11:AG11)>1,STDEV(L11:AG11),"") | K11: =IF(COUNT(L11:AG11)>1,STDEV(L11:AG11)/AVERAGE(L11:AG11),"")
C12: Revenue | D12: =IF(COUNT(L12:AG12)>0,MEDIAN(L12:AG12),"") | E12: =IF(COUNT(L12:AG12)>0,AVERAGE(L12:AG12),"") | F12: =IF(COUNT(L12:AG12)>0,MIN(L12:AG12),"") | G12: =IF(COUNT(L12:AG12)>0,MAX(L12:AG12),"") | H12: =IF(COUNT(L12:AG12)>0,QUARTILE(L12:AG12,1),"") | I12: =IF(COUNT(L12:AG12)>0,QUARTILE(L12:AG12,3),"") | J12: =IF(COUNT(L12:AG12)>1,STDEV(L12:AG12),"") | K12: =IF(COUNT(L12:AG12)>1,STDEV(L12:AG12)/AVERAGE(L12:AG12),"")
C13: Business Revenue | D13: =IF(COUNT(L13:AG13)>0,MEDIAN(L13:AG13),"") -> 501420 | E13: =IF(COUNT(L13:AG13)>0,AVERAGE(L13:AG13),"") -> 589550 | F13: =IF(COUNT(L13:AG13)>0,MIN(L13:AG13),"") -> 211009 | G13: =IF(COUNT(L13:AG13)>0,MAX(L13:AG13),"") -> 1181654 | H13: =IF(COUNT(L13:AG13)>0,QUARTILE(L13:AG13,1),"") -> 366315 | I13: =IF(COUNT(L13:AG13)>0,QUARTILE(L13:AG13,3),"") -> 750795.25 | J13: =IF(COUNT(L13:AG13)>1,STDEV(L13:AG13),"") -> 319562.75 | K13: =IF(COUNT(L13:AG13)>1,STDEV(L13:AG13)/AVERAGE(L13:AG13),"") -> 0.54204521 | M13: 1181654 | N13: 1071326 | O13: 936772 | P13: 587023 | Q13: 406618 | R13: 688803 | S13: 572898 | T13: 429942 | U13: 378241 | V13: 330537 | W13: 279777 | X13: 211009
C14: Total Revenue | D14: =IF(COUNT(L14:AG14)>0,MEDIAN(L14:AG14),"") -> 279777 | E14: =IF(COUNT(L14:AG14)>0,AVERAGE(L14:AG14),"") -> 373057 | F14: =IF(COUNT(L14:AG14)>0,MIN(L14:AG14),"") -> 8482.1282 | G14: =IF(COUNT(L14:AG14)>0,MAX(L14:AG14),"") -> 1181654 | H14: =IF(COUNT(L14:AG14)>0,QUARTILE(L14:AG14,1),"") -> 92344.002 | I14: =IF(COUNT(L14:AG14)>0,QUARTILE(L14:AG14,3),"") -> 572898 | J14: =IF(COUNT(L14:AG14)>1,STDEV(L14:AG14),"") -> 351528.09 | K14: =IF(COUNT(L14:AG14)>1,STDEV(L14:AG14)/AVERAGE(L14:AG14),"") -> 0.94229057 | M14: 1181654 | N14: 1071326 | O14: 936772 | P14: 587023 | Q14: 406618 | R14: 688803 | S14: 572898 | T14: 429942 | U14: 378241 | V14: 330537 | W14: 279777 | X14: 211009 | Y14: 157279 | Z14: 136399.98 | AA14: 92344.002 | AB14: 71865.002 | AC14: 197875.14 | AD14: 49726.626 | AE14: 30360.422 | AF14: 15264.654 | AG14: 8482.1282
C15: Cost of Revenue | D15: =IF(COUNT(L15:AG15)>0,MEDIAN(L15:AG15),"") | E15: =IF(COUNT(L15:AG15)>0,AVERAGE(L15:AG15),"") | F15: =IF(COUNT(L15:AG15)>0,MIN(L15:AG15),"") | G15: =IF(COUNT(L15:AG15)>0,MAX(L15:AG15),"") | H15: =IF(COUNT(L15:AG15)>0,QUARTILE(L15:AG15,1),"") | I15: =IF(COUNT(L15:AG15)>0,QUARTILE(L15:AG15,3),"") | J15: =IF(COUNT(L15:AG15)>1,STDEV(L15:AG15),"") | K15: =IF(COUNT(L15:AG15)>1,STDEV(L15:AG15)/AVERAGE(L15:AG15),"")
C16: Cost of Goods and Services | D16: =IF(COUNT(L16:AG16)>0,MEDIAN(L16:AG16),"") -> 126942.5 | E16: =IF(COUNT(L16:AG16)>0,AVERAGE(L16:AG16),"") -> 151774.5 | F16: =IF(COUNT(L16:AG16)>0,MIN(L16:AG16),"") -> 41692 | G16: =IF(COUNT(L16:AG16)>0,MAX(L16:AG16),"") -> 369516 | H16: =IF(COUNT(L16:AG16)>0,QUARTILE(L16:AG16,1),"") -> 59462 | I16: =IF(COUNT(L16:AG16)>0,QUARTILE(L16:AG16,3),"") -> 199003 | J16: =IF(COUNT(L16:AG16)>1,STDEV(L16:AG16),"") -> 114731.28 | K16: =IF(COUNT(L16:AG16)>1,STDEV(L16:AG16)/AVERAGE(L16:AG16),"") -> 0.75593251 | M16: 369516 | N16: 323714 | O16: 285538 | P16: 170158 | Q16: 149052 | R16: 136261 | S16: 117624 | T16: 60657 | U16: 60121 | V16: 57485 | W16: 49476 | X16: 41692
C17: Other Cost of Revenue | D17: =IF(COUNT(L17:AG17)>0,MEDIAN(L17:AG17),"") -> 125791.5 | E17: =IF(COUNT(L17:AG17)>0,AVERAGE(L17:AG17),"") -> 136677.08 | F17: =IF(COUNT(L17:AG17)>0,MIN(L17:AG17),"") -> 70955 | G17: =IF(COUNT(L17:AG17)>0,MAX(L17:AG17),"") -> 197122 | H17: =IF(COUNT(L17:AG17)>0,QUARTILE(L17:AG17,1),"") -> 100821.25 | I17: =IF(COUNT(L17:AG17)>0,QUARTILE(L17:AG17,3),"") -> 180406.5 | J17: =IF(COUNT(L17:AG17)>1,STDEV(L17:AG17),"") -> 45655.649 | K17: =IF(COUNT(L17:AG17)>1,STDEV(L17:AG17)/AVERAGE(L17:AG17),"") -> 0.33404026 | M17: 197122 | N17: 190026 | O17: 177200 | P17: 100993 | Q17: 70955 | R17: 194449 | S17: 162646 | T17: 129266 | U17: 122317 | V17: 113492 | W17: 100306 | X17: 81353
C18: Total Cost of Revenue | D18: =IF(COUNT(L18:AG18)>0,MEDIAN(L18:AG18),"") -> 245579 | E18: =IF(COUNT(L18:AG18)>0,AVERAGE(L18:AG18),"") -> 288451.58 | F18: =IF(COUNT(L18:AG18)>0,MIN(L18:AG18),"") -> 123045 | G18: =IF(COUNT(L18:AG18)>0,MAX(L18:AG18),"") -> 566638 | H18: =IF(COUNT(L18:AG18)>0,QUARTILE(L18:AG18,1),"") -> 179572.75 | I18: =IF(COUNT(L18:AG18)>0,QUARTILE(L18:AG18,3),"") -> 363717 | J18: =IF(COUNT(L18:AG18)>1,STDEV(L18:AG18),"") -> 149754.53 | K18: =IF(COUNT(L18:AG18)>1,STDEV(L18:AG18)/AVERAGE(L18:AG18),"") -> 0.51916696 | M18: 566638 | N18: 513740 | O18: 462738 | P18: 271151 | Q18: 220007 | R18: 330710 | S18: 280270 | T18: 189923 | U18: 182438 | V18: 170977 | W18: 149782 | X18: 123045
C19: Total Gross Profit | D19: =IF(COUNT(L19:AG19)>0,MEDIAN(L19:AG19),"") -> 266323.5 | E19: =IF(COUNT(L19:AG19)>0,AVERAGE(L19:AG19),"") -> 301098.42 | F19: =IF(COUNT(L19:AG19)>0,MIN(L19:AG19),"") -> 87964 | G19: =IF(COUNT(L19:AG19)>0,MAX(L19:AG19),"") -> 615016 | H19: =IF(COUNT(L19:AG19)>0,QUARTILE(L19:AG19,1),"") -> 179848.25 | I19: =IF(COUNT(L19:AG19)>0,QUARTILE(L19:AG19,3),"") -> 387078.25 | J19: =IF(COUNT(L19:AG19)>1,STDEV(L19:AG19),"") -> 170676.78 | K19: =IF(COUNT(L19:AG19)>1,STDEV(L19:AG19)/AVERAGE(L19:AG19),"") -> 0.56684716 | M19: 615016 | N19: 557586 | O19: 474034 | P19: 315872 | Q19: 186611 | R19: 358093 | S19: 292628 | T19: 240019 | U19: 195803 | V19: 159560 | W19: 129995 | X19: 87964
C20: Operating (Income)/Expenses | D20: =IF(COUNT(L20:AG20)>0,MEDIAN(L20:AG20),"") | E20: =IF(COUNT(L20:AG20)>0,AVERAGE(L20:AG20),"") | F20: =IF(COUNT(L20:AG20)>0,MIN(L20:AG20),"") | G20: =IF(COUNT(L20:AG20)>0,MAX(L20:AG20),"") | H20: =IF(COUNT(L20:AG20)>0,QUARTILE(L20:AG20,1),"") | I20: =IF(COUNT(L20:AG20)>0,QUARTILE(L20:AG20,3),"") | J20: =IF(COUNT(L20:AG20)>1,STDEV(L20:AG20),"") | K20: =IF(COUNT(L20:AG20)>1,STDEV(L20:AG20)/AVERAGE(L20:AG20),"")
C21: Selling, General and Administrative Expenses | D21: =IF(COUNT(L21:AG21)>0,MEDIAN(L21:AG21),"") -> 70515.5 | E21: =IF(COUNT(L21:AG21)>0,AVERAGE(L21:AG21),"") -> 75625.583 | F21: =IF(COUNT(L21:AG21)>0,MIN(L21:AG21),"") -> 23118 | G21: =IF(COUNT(L21:AG21)>0,MAX(L21:AG21),"") -> 129146 | H21: =IF(COUNT(L21:AG21)>0,QUARTILE(L21:AG21,1),"") -> 54181.75 | I21: =IF(COUNT(L21:AG21)>0,QUARTILE(L21:AG21,3),"") -> 99618.25 | J21: =IF(COUNT(L21:AG21)>1,STDEV(L21:AG21),"") -> 34312.169 | K21: =IF(COUNT(L21:AG21)>1,STDEV(L21:AG21)/AVERAGE(L21:AG21),"") -> 0.45371114 | M21: 129146 | N21: 124930 | O21: 114853 | P21: 94540 | Q21: 68585 | R21: 78818 | S21: 72446 | T21: 60369 | U21: 50008 | V21: 55573 | W21: 35121 | X21: 23118
C22: Depreciation, Amortization and Depletion | D22: =IF(COUNT(L22:AG22)>0,MEDIAN(L22:AG22),"") | E22: =IF(COUNT(L22:AG22)>0,AVERAGE(L22:AG22),"") | F22: =IF(COUNT(L22:AG22)>0,MIN(L22:AG22),"") | G22: =IF(COUNT(L22:AG22)>0,MAX(L22:AG22),"") | H22: =IF(COUNT(L22:AG22)>0,QUARTILE(L22:AG22,1),"") | I22: =IF(COUNT(L22:AG22)>0,QUARTILE(L22:AG22,3),"") | J22: =IF(COUNT(L22:AG22)>1,STDEV(L22:AG22),"") | K22: =IF(COUNT(L22:AG22)>1,STDEV(L22:AG22)/AVERAGE(L22:AG22),"")
C23: Depreciation and Amortization | D23: =IF(COUNT(L23:AG23)>0,MEDIAN(L23:AG23),"") -> 39803 | E23: =IF(COUNT(L23:AG23)>0,AVERAGE(L23:AG23),"") -> 65549.083 | F23: =IF(COUNT(L23:AG23)>0,MIN(L23:AG23),"") -> 28808 | G23: =IF(COUNT(L23:AG23)>0,MAX(L23:AG23),"") -> 160346 | H23: =IF(COUNT(L23:AG23)>0,QUARTILE(L23:AG23,1),"") -> 32058.75 | I23: =IF(COUNT(L23:AG23)>0,QUARTILE(L23:AG23,3),"") -> 78105.5 | J23: =IF(COUNT(L23:AG23)>1,STDEV(L23:AG23),"") -> 49377.054 | K23: =IF(COUNT(L23:AG23)>1,STDEV(L23:AG23)/AVERAGE(L23:AG23),"") -> 0.75328366 | M23: 160346 | N23: 149413 | O23: 124022 | P23: 62800 | Q23: 53832 | R23: 44346 | S23: 35260 | T23: 31761 | U23: 31502 | V23: 32158 | W23: 32341 | X23: 28808
C24: Total Depreciation, Amortization and Depletion | D24: =IF(COUNT(L24:AG24)>0,MEDIAN(L24:AG24),"") -> 39803 | E24: =IF(COUNT(L24:AG24)>0,AVERAGE(L24:AG24),"") -> 65549.083 | F24: =IF(COUNT(L24:AG24)>0,MIN(L24:AG24),"") -> 28808 | G24: =IF(COUNT(L24:AG24)>0,MAX(L24:AG24),"") -> 160346 | H24: =IF(COUNT(L24:AG24)>0,QUARTILE(L24:AG24,1),"") -> 32058.75 | I24: =IF(COUNT(L24:AG24)>0,QUARTILE(L24:AG24,3),"") -> 78105.5 | J24: =IF(COUNT(L24:AG24)>1,STDEV(L24:AG24),"") -> 49377.054 | K24: =IF(COUNT(L24:AG24)>1,STDEV(L24:AG24)/AVERAGE(L24:AG24),"") -> 0.75328366 | M24: 160346 | N24: 149413 | O24: 124022 | P24: 62800 | Q24: 53832 | R24: 44346 | S24: 35260 | T24: 31761 | U24: 31502 | V24: 32158 | W24: 32341 | X24: 28808
C25: Other (Income)/Expense, Operating | D25: =IF(COUNT(L25:AG25)>0,MEDIAN(L25:AG25),"") | E25: =IF(COUNT(L25:AG25)>0,AVERAGE(L25:AG25),"") | F25: =IF(COUNT(L25:AG25)>0,MIN(L25:AG25),"") | G25: =IF(COUNT(L25:AG25)>0,MAX(L25:AG25),"") | H25: =IF(COUNT(L25:AG25)>0,QUARTILE(L25:AG25,1),"") | I25: =IF(COUNT(L25:AG25)>0,QUARTILE(L25:AG25,3),"") | J25: =IF(COUNT(L25:AG25)>1,STDEV(L25:AG25),"") | K25: =IF(COUNT(L25:AG25)>1,STDEV(L25:AG25)/AVERAGE(L25:AG25),"")
C26: Other Expenses, Operating | D26: =IF(COUNT(L26:AG26)>0,MEDIAN(L26:AG26),"") -> 3140 | E26: =IF(COUNT(L26:AG26)>0,AVERAGE(L26:AG26),"") -> 4929.25 | F26: =IF(COUNT(L26:AG26)>0,MIN(L26:AG26),"") -> 353 | G26: =IF(COUNT(L26:AG26)>0,MAX(L26:AG26),"") -> 15137 | H26: =IF(COUNT(L26:AG26)>0,QUARTILE(L26:AG26,1),"") -> 1214 | I26: =IF(COUNT(L26:AG26)>0,QUARTILE(L26:AG26,3),"") -> 6405.5 | J26: =IF(COUNT(L26:AG26)>1,STDEV(L26:AG26),"") -> 5264.582 | K26: =IF(COUNT(L26:AG26)>1,STDEV(L26:AG26)/AVERAGE(L26:AG26),"") -> 1.068029 | M26: 1326 | N26: 10379 | O26: 5081 | P26: 15137 | Q26: 4434 | R26: 1846 | S26: 878 | T26: 353
C27: Total Other (Income)/Expense, Operating | D27: =IF(COUNT(L27:AG27)>0,MEDIAN(L27:AG27),"") -> 1160 | E27: =IF(COUNT(L27:AG27)>0,AVERAGE(L27:AG27),"") -> 3232.1667 | F27: =IF(COUNT(L27:AG27)>0,MIN(L27:AG27),"") -> -1369 | G27: =IF(COUNT(L27:AG27)>0,MAX(L27:AG27),"") -> 15137 | H27: =IF(COUNT(L27:AG27)>0,QUARTILE(L27:AG27,1),"") -> 264.75 | I27: =IF(COUNT(L27:AG27)>0,QUARTILE(L27:AG27,3),"") -> 4595.75 | J27: =IF(COUNT(L27:AG27)>1,STDEV(L27:AG27),"") -> 4917.1751 | K27: =IF(COUNT(L27:AG27)>1,STDEV(L27:AG27)/AVERAGE(L27:AG27),"") -> 1.5213247 | M27: 1326 | N27: 10379 | O27: 5081 | P27: 15137 | Q27: 4434 | R27: 1846 | S27: 878 | T27: 353 | U27: -1369 | V27: -273 | W27: 994 | X27: 0
C28: Total Operating (Income)/Expenses | D28: =IF(COUNT(L28:AG28)>0,MEDIAN(L28:AG28),"") -> 116797 | E28: =IF(COUNT(L28:AG28)>0,AVERAGE(L28:AG28),"") -> 144406.83 | F28: =IF(COUNT(L28:AG28)>0,MIN(L28:AG28),"") -> 51926 | G28: =IF(COUNT(L28:AG28)>0,MAX(L28:AG28),"") -> 290818 | H28: =IF(COUNT(L28:AG28)>0,QUARTILE(L28:AG28,1),"") -> 85628.75 | I28: =IF(COUNT(L28:AG28)>0,QUARTILE(L28:AG28,3),"") -> 190346.75 | J28: =IF(COUNT(L28:AG28)>1,STDEV(L28:AG28),"") -> 84305.101 | K28: =IF(COUNT(L28:AG28)>1,STDEV(L28:AG28)/AVERAGE(L28:AG28),"") -> 0.58380272 | M28: 290818 | N28: 284722 | O28: 243956 | P28: 172477 | Q28: 126851 | R28: 125010 | S28: 108584 | T28: 92483 | U28: 80141 | V28: 87458 | W28: 68456 | X28: 51926
