Workbook

Sheet Cover
G6: NextEra Energy, Inc. (NYSE: NEE)
G7: Research Report Financial Analysis and Valuation of NextEra Energy
G12: Financial Analysis - NextEra Energy, Inc.
C20: Data Source: PitchBook Financial Data
C21: Prepared: March 28th, 2026

Sheet PitchBook_IS
C3: Income Statement (Fiscal Year)
C4: Downloaded On: 19-Mar-2026 | D4: Summary Stats
C5: Company: NextEra Energy (NYS: NEE) | D5: Median | E5: Mean | F5: Min | G5: Max | H5: 25th pctile | I5: 75th pctile | J5: Std. Dev | K5: Coefficient of Variation | M5: FY 2025 | N5: FY 2024 | O5: FY 2023 | P5: FY 2022 | Q5: FY 2021 | R5: FY 2020 | S5: FY 2019 | T5: FY 2018 | U5: FY 2017 | V5: FY 2016 | W5: FY 2015 | X5: FY 2014 | Y5: FY 2013 | Z5: FY 2012 | AA5: FY 2011 | AB5: FY 2010 | AC5: FY 2009 | AD5: FY 2008 | AE5: FY 2007 | AF5: FY 2006 | AG5: FY 2005 | AH5: FY 2004 | AI5: FY 2003 | AJ5: FY 2002 | AK5: FY 2001 | AL5: FY 2000 | AM5: FY 1999 | AN5: FY 1998 | AO5: FY 1997 | AP5: FY 1996 | AQ5: FY 1995 | AR5: FY 1994 | AS5: FY 1993 | AT5: FY 1992 | AU5: FY 1991 | AV5: FY 1990 | AW5: FY 1989 | AX5: FY 1988 | AY5: FY 1987 | AZ5: FY 1986 | BA5: FY 1985 | BB5: FY 1984 | BC5: FY 1983 | BD5: FY 1982 | BE5: FY 1981 | BF5: FY 1980 | BG5: FY 1979
C7: Amounts in Thousands, USD (except Ratios, Multiples & per share items)
M9: Filed: 13-Feb-2026 | N9: Filed: 13-Feb-2026 | O9: Filed: 13-Feb-2026 | P9: Filed: 14-Feb-2025 | Q9: Filed: 16-Feb-2024 | R9: Filed: 18-Feb-2022 | S9: Filed: 18-Feb-2022 | T9: Filed: 12-Feb-2021 | U9: Filed: 14-Feb-2020 | V9: Filed: 15-Feb-2019 | W9: Filed: 23-Feb-2017 | X9: Filed: 23-Feb-2017 | Y9: Filed: 22-Feb-2016 | Z9: Filed: 31-Dec-2012 | AA9: Filed: 31-Dec-2011 | AB9: Filed: 31-Dec-2010 | AC9: Filed: 31-Dec-2009 | AD9: Filed: 31-Dec-2008 | AE9: Filed: 31-Dec-2007 | AF9: Filed: 31-Dec-2006 | AG9: Filed: 31-Dec-2005 | AH9: Filed: 31-Dec-2004 | AI9: Filed: 31-Dec-2003 | AJ9: Filed: 31-Dec-2002 | AK9: Filed: 31-Dec-2001 | AL9: Filed: 31-Dec-2000 | AM9: Filed: 31-Dec-1999 | AN9: Filed: 31-Dec-1998 | AO9: Filed: 31-Dec-1997 | AP9: Filed: 31-Dec-1996 | AQ9: Filed: 31-Dec-1995 | AR9: Filed: 31-Dec-1994 | AS9: Filed: 31-Dec-1993 | AT9: Filed: 31-Dec-1992 | AU9: Filed: 31-Dec-1991 | AV9: Filed: 31-Dec-1990 | AW9: Filed: 31-Dec-1989 | AX9: Filed: 31-Dec-1988 | AY9: Filed: 31-Dec-1987 | AZ9: Filed: 31-Dec-1986 | BA9: Filed: 31-Dec-1985 | BB9: Filed: 31-Dec-1984 | BC9: Filed: 31-Dec-1983 | BD9: Filed: 31-Dec-1982 | BE9: Filed: 31-Dec-1981 | BF9: Filed: 31-Dec-1980 | BG9: Filed: 31-Dec-1979
M10: View 10-K | N10: View 10-K | O10: View 10-K | P10: View 10-K | Q10: View 10-K | R10: View 10-K | S10: View 10-K | T10: View 10-K | U10: View 10-K | V10: View 10-K | W10: View 10-K | X10: View 10-K | Y10: View 10-K | Z10: View 10-K | AA10: View 10-K | AB10: View 10-K | AC10: View 10-K | AD10: View 10-K
C11: Gross Profit | D11: =IF(COUNT(L11:BG11)>0,MEDIAN(L11:BG11),"") | E11: =IF(COUNT(L11:BG11)>0,AVERAGE(L11:BG11),"") | F11: =IF(COUNT(L11:BG11)>0,MIN(L11:BG11),"") | G11: =IF(COUNT(L11:BG11)>0,MAX(L11:BG11),"") | H11: =IF(COUNT(L11:BG11)>0,QUARTILE(L11:BG11,1),"") | I11: =IF(COUNT(L11:BG11)>0,QUARTILE(L11:BG11,3),"") | J11: =IF(COUNT(L11:BG11)>1,STDEV(L11:BG11),"") | K11: =IF(COUNT(L11:BG11)>1,STDEV(L11:BG11)/AVERAGE(L11:BG11),"")
C12: Revenue | D12: =IF(COUNT(L12:BG12)>0,MEDIAN(L12:BG12),"") | E12: =IF(COUNT(L12:BG12)>0,AVERAGE(L12:BG12),"") | F12: =IF(COUNT(L12:BG12)>0,MIN(L12:BG12),"") | G12: =IF(COUNT(L12:BG12)>0,MAX(L12:BG12),"") | H12: =IF(COUNT(L12:BG12)>0,QUARTILE(L12:BG12,1),"") | I12: =IF(COUNT(L12:BG12)>0,QUARTILE(L12:BG12,3),"") | J12: =IF(COUNT(L12:BG12)>1,STDEV(L12:BG12),"") | K12: =IF(COUNT(L12:BG12)>1,STDEV(L12:BG12)/AVERAGE(L12:BG12),"")
C13: Business Revenue | D13: =IF(COUNT(L13:BG13)>0,MEDIAN(L13:BG13),"") -> 8217000 | E13: =IF(COUNT(L13:BG13)>0,AVERAGE(L13:BG13),"") -> 11057032 | F13: =IF(COUNT(L13:BG13)>0,MIN(L13:BG13),"") -> 1933900 | G13: =IF(COUNT(L13:BG13)>0,MAX(L13:BG13),"") -> 28114000 | H13: =IF(COUNT(L13:BG13)>0,QUARTILE(L13:BG13,1),"") -> 5369500 | I13: =IF(COUNT(L13:BG13)>0,QUARTILE(L13:BG13,3),"") -> 16274000 | J13: =IF(COUNT(L13:BG13)>1,STDEV(L13:BG13),"") -> 6938177.6 | K13: =IF(COUNT(L13:BG13)>1,STDEV(L13:BG13)/AVERAGE(L13:BG13),"") -> 0.62749006 | M13: 27412000 | N13: 24753000 | O13: 28114000 | P13: 20956000 | Q13: 17069000 | R13: 17997000 | S13: 19204000 | T13: 16727000 | U13: 17173000 | V13: 16138000 | W13: 17486000 | X13: 17021000 | Y13: 15136000 | Z13: 14256000 | AA13: 15341000 | AB13: 15317000 | AC13: 15643000 | AD13: 16410000 | AE13: 15263000 | AF13: 15710000 | AG13: 11846000 | AH13: 10522000 | AI13: 9630000 | AJ13: 8173000 | AK13: 8217000 | AL13: 7082000 | AM13: 6438000 | AN13: 6661000 | AO13: 6369000 | AP13: 6037000 | AQ13: 5592000 | AR13: 5422700 | AS13: 5316300 | AT13: 5193300 | AU13: 5249400 | AV13: 6289000 | AW13: 6179800 | AX13: 5853500 | AY13: 4439200 | AZ13: 4091500 | BA13: 4348800 | BB13: 3940900 | BC13: 3352500 | BD13: 2940800 | BE13: 3088600 | BF13: 2347300 | BG13: 1933900
C14: Total Revenue | D14: =IF(COUNT(L14:BG14)>0,MEDIAN(L14:BG14),"") -> 8217000 | E14: =IF(COUNT(L14:BG14)>0,AVERAGE(L14:BG14),"") -> 11057032 | F14: =IF(COUNT(L14:BG14)>0,MIN(L14:BG14),"") -> 1933900 | G14: =IF(COUNT(L14:BG14)>0,MAX(L14:BG14),"") -> 28114000 | H14: =IF(COUNT(L14:BG14)>0,QUARTILE(L14:BG14,1),"") -> 5369500 | I14: =IF(COUNT(L14:BG14)>0,QUARTILE(L14:BG14,3),"") -> 16274000 | J14: =IF(COUNT(L14:BG14)>1,STDEV(L14:BG14),"") -> 6938177.6 | K14: =IF(COUNT(L14:BG14)>1,STDEV(L14:BG14)/AVERAGE(L14:BG14),"") -> 0.62749006 | M14: 27412000 | N14: 24753000 | O14: 28114000 | P14: 20956000 | Q14: 17069000 | R14: 17997000 | S14: 19204000 | T14: 16727000 | U14: 17173000 | V14: 16138000 | W14: 17486000 | X14: 17021000 | Y14: 15136000 | Z14: 14256000 | AA14: 15341000 | AB14: 15317000 | AC14: 15643000 | AD14: 16410000 | AE14: 15263000 | AF14: 15710000 | AG14: 11846000 | AH14: 10522000 | AI14: 9630000 | AJ14: 8173000 | AK14: 8217000 | AL14: 7082000 | AM14: 6438000 | AN14: 6661000 | AO14: 6369000 | AP14: 6037000 | AQ14: 5592000 | AR14: 5422700 | AS14: 5316300 | AT14: 5193300 | AU14: 5249400 | AV14: 6289000 | AW14: 6179800 | AX14: 5853500 | AY14: 4439200 | AZ14: 4091500 | BA14: 4348800 | BB14: 3940900 | BC14: 3352500 | BD14: 2940800 | BE14: 3088600 | BF14: 2347300 | BG14: 1933900
C15: Cost of Revenue | D15: =IF(COUNT(L15:BG15)>0,MEDIAN(L15:BG15),"") | E15: =IF(COUNT(L15:BG15)>0,AVERAGE(L15:BG15),"") | F15: =IF(COUNT(L15:BG15)>0,MIN(L15:BG15),"") | G15: =IF(COUNT(L15:BG15)>0,MAX(L15:BG15),"") | H15: =IF(COUNT(L15:BG15)>0,QUARTILE(L15:BG15,1),"") | I15: =IF(COUNT(L15:BG15)>0,QUARTILE(L15:BG15,3),"") | J15: =IF(COUNT(L15:BG15)>1,STDEV(L15:BG15),"") | K15: =IF(COUNT(L15:BG15)>1,STDEV(L15:BG15)/AVERAGE(L15:BG15),"")
C16: Purchased Fuel, Power and Gas | D16: =IF(COUNT(L16:BG16)>0,MEDIAN(L16:BG16),"") -> 4993500 | E16: =IF(COUNT(L16:BG16)>0,AVERAGE(L16:BG16),"") -> 4971812.5 | F16: =IF(COUNT(L16:BG16)>0,MIN(L16:BG16),"") -> 3539000 | G16: =IF(COUNT(L16:BG16)>0,MAX(L16:BG16),"") -> 6389000 | H16: =IF(COUNT(L16:BG16)>0,QUARTILE(L16:BG16,1),"") -> 4290000 | I16: =IF(COUNT(L16:BG16)>0,QUARTILE(L16:BG16,3),"") -> 5493250 | J16: =IF(COUNT(L16:BG16)>1,STDEV(L16:BG16),"") -> 893913.51 | K16: =IF(COUNT(L16:BG16)>1,STDEV(L16:BG16)/AVERAGE(L16:BG16),"") -> 0.1797963 | M16: 4944000 | N16: 5029000 | O16: 5457000 | P16: 6389000 | Q16: 4527000 | R16: 3539000 | S16: 4363000 | T16: 3732000 | U16: 4071000 | V16: 3992000 | W16: 5327000 | X16: 5602000 | Y16: 4958000 | Z16: 5121000 | AA16: 6256000 | AB16: 6242000
C17: Operation Maintenance and Repairs | D17: =IF(COUNT(L17:BG17)>0,MEDIAN(L17:BG17),"") -> 3493500 | E17: =IF(COUNT(L17:BG17)>0,AVERAGE(L17:BG17),"") -> 3731250 | F17: =IF(COUNT(L17:BG17)>0,MIN(L17:BG17),"") -> 2877000 | G17: =IF(COUNT(L17:BG17)>0,MAX(L17:BG17),"") -> 5399000 | H17: =IF(COUNT(L17:BG17)>0,QUARTILE(L17:BG17,1),"") -> 3184250 | I17: =IF(COUNT(L17:BG17)>0,QUARTILE(L17:BG17,3),"") -> 4092750 | J17: =IF(COUNT(L17:BG17)>1,STDEV(L17:BG17),"") -> 740215.87 | K17: =IF(COUNT(L17:BG17)>1,STDEV(L17:BG17)/AVERAGE(L17:BG17),"") -> 0.19838281 | M17: 5399000 | N17: 4857000 | O17: 4681000 | P17: 4428000 | Q17: 3981000 | R17: 3751000 | S17: 3640000 | T17: 3330000 | U17: 3458000 | V17: 3529000 | W17: 3269000 | X17: 3149000 | Y17: 3194000 | Z17: 3155000 | AA17: 3002000 | AB17: 2877000
C18: Total Cost of Revenue | D18: =IF(COUNT(L18:BG18)>0,MEDIAN(L18:BG18),"") -> 7525000 | E18: =IF(COUNT(L18:BG18)>0,AVERAGE(L18:BG18),"") -> 6586353.1 | F18: =IF(COUNT(L18:BG18)>0,MIN(L18:BG18),"") -> 1715300 | G18: =IF(COUNT(L18:BG18)>0,MAX(L18:BG18),"") -> 10817000 | H18: =IF(COUNT(L18:BG18)>0,QUARTILE(L18:BG18,1),"") -> 3713250 | I18: =IF(COUNT(L18:BG18)>0,QUARTILE(L18:BG18,3),"") -> 8634750 | J18: =IF(COUNT(L18:BG18)>1,STDEV(L18:BG18),"") -> 2913874.9 | K18: =IF(COUNT(L18:BG18)>1,STDEV(L18:BG18)/AVERAGE(L18:BG18),"") -> 0.44241098 | M18: 10343000 | N18: 9886000 | O18: 10138000 | P18: 10817000 | Q18: 8508000 | R18: 7290000 | S18: 8003000 | T18: 7062000 | U18: 7529000 | V18: 7521000 | W18: 8596000 | X18: 8751000 | Y18: 8152000 | Z18: 8276000 | AA18: 9258000 | AB18: 9119000 | AC18: 7405000 | AD18: 8412000 | AE18: 8192000 | AF18: 8943000 | AG18: 6171000 | AH18: 5217000 | AI18: 4539000 | AJ18: 3576000 | AK18: 3759000 | AL18: 2868000 | AM18: 2365000 | AN18: 2244000 | AO18: 2255000 | AP18: 2131000 | AQ18: 1722000 | AR18: 1715300
C19: Total Gross Profit | D19: =IF(COUNT(L19:BG19)>0,MEDIAN(L19:BG19),"") -> 6875500 | E19: =IF(COUNT(L19:BG19)>0,AVERAGE(L19:BG19),"") -> 7636012.5 | F19: =IF(COUNT(L19:BG19)>0,MIN(L19:BG19),"") -> 3707400 | G19: =IF(COUNT(L19:BG19)>0,MAX(L19:BG19),"") -> 17976000 | H19: =IF(COUNT(L19:BG19)>0,QUARTILE(L19:BG19,1),"") -> 4562250 | I19: =IF(COUNT(L19:BG19)>0,QUARTILE(L19:BG19,3),"") -> 9078500 | J19: =IF(COUNT(L19:BG19)>1,STDEV(L19:BG19),"") -> 3696285.8 | K19: =IF(COUNT(L19:BG19)>1,STDEV(L19:BG19)/AVERAGE(L19:BG19),"") -> 0.48405968 | M19: 17069000 | N19: 14867000 | O19: 17976000 | P19: 10139000 | Q19: 8561000 | R19: 10707000 | S19: 11201000 | T19: 9665000 | U19: 9644000 | V19: 8617000 | W19: 8890000 | X19: 8270000 | Y19: 6984000 | Z19: 5980000 | AA19: 6083000 | AB19: 6198000 | AC19: 8238000 | AD19: 7998000 | AE19: 7071000 | AF19: 6767000 | AG19: 5675000 | AH19: 5305000 | AI19: 5091000 | AJ19: 4597000 | AK19: 4458000 | AL19: 4214000 | AM19: 4073000 | AN19: 4417000 | AO19: 4114000 | AP19: 3906000 | AQ19: 3870000 | AR19: 3707400
C20: Operating (Income)/Expenses | D20: =IF(COUNT(L20:BG20)>0,MEDIAN(L20:BG20),"") | E20: =IF(COUNT(L20:BG20)>0,AVERAGE(L20:BG20),"") | F20: =IF(COUNT(L20:BG20)>0,MIN(L20:BG20),"") | G20: =IF(COUNT(L20:BG20)>0,MAX(L20:BG20),"") | H20: =IF(COUNT(L20:BG20)>0,QUARTILE(L20:BG20,1),"") | I20: =IF(COUNT(L20:BG20)>0,QUARTILE(L20:BG20,3),"") | J20: =IF(COUNT(L20:BG20)>1,STDEV(L20:BG20),"") | K20: =IF(COUNT(L20:BG20)>1,STDEV(L20:BG20)/AVERAGE(L20:BG20),"")
C21: Depreciation, Amortization and Depletion | D21: =IF(COUNT(L21:BG21)>0,MEDIAN(L21:BG21),"") | E21: =IF(COUNT(L21:BG21)>0,AVERAGE(L21:BG21),"") | F21: =IF(COUNT(L21:BG21)>0,MIN(L21:BG21),"") | G21: =IF(COUNT(L21:BG21)>0,MAX(L21:BG21),"") | H21: =IF(COUNT(L21:BG21)>0,QUARTILE(L21:BG21,1),"") | I21: =IF(COUNT(L21:BG21)>0,QUARTILE(L21:BG21,3),"") | J21: =IF(COUNT(L21:BG21)>1,STDEV(L21:BG21),"") | K21: =IF(COUNT(L21:BG21)>1,STDEV(L21:BG21)/AVERAGE(L21:BG21),"")
C22: Depreciation and Amortization | D22: =IF(COUNT(L22:BG22)>0,MEDIAN(L22:BG22),"") -> 2975500 | E22: =IF(COUNT(L22:BG22)>0,AVERAGE(L22:BG22),"") -> 3312722.2 | F22: =IF(COUNT(L22:BG22)>0,MIN(L22:BG22),"") -> 1442000 | G22: =IF(COUNT(L22:BG22)>0,MAX(L22:BG22),"") -> 6580000 | H22: =IF(COUNT(L22:BG22)>0,QUARTILE(L22:BG22,1),"") -> 1881750 | I22: =IF(COUNT(L22:BG22)>0,QUARTILE(L22:BG22,3),"") -> 4175000 | J22: =IF(COUNT(L22:BG22)>1,STDEV(L22:BG22),"") -> 1589749.6 | K22: =IF(COUNT(L22:BG22)>1,STDEV(L22:BG22)/AVERAGE(L22:BG22),"") -> 0.47989221 | M22: 6580000 | N22: 5462000 | O22: 5879000 | P22: 4503000 | Q22: 3924000 | R22: 4052000 | S22: 4216000 | T22: 3911000 | U22: 2357000 | V22: 3120000 | W22: 2831000 | X22: 2551000 | Y22: 2163000 | Z22: 1518000 | AA22: 1567000 | AB22: 1788000 | AC22: 1765000 | AD22: 1442000
C23: Total Depreciation, Amortization and Depletion | D23: =IF(COUNT(L23:BG23)>0,MEDIAN(L23:BG23),"") -> 1542500 | E23: =IF(COUNT(L23:BG23)>0,AVERAGE(L23:BG23),"") -> 2343653.1 | F23: =IF(COUNT(L23:BG23)>0,MIN(L23:BG23),"") -> 723900 | G23: =IF(COUNT(L23:BG23)>0,MAX(L23:BG23),"") -> 6580000 | H23: =IF(COUNT(L23:BG23)>0,QUARTILE(L23:BG23,1),"") -> 1094000 | I23: =IF(COUNT(L23:BG23)>0,QUARTILE(L23:BG23,3),"") -> 3317750 | J23: =IF(COUNT(L23:BG23)>1,STDEV(L23:BG23),"") -> 1627492.2 | K23: =IF(COUNT(L23:BG23)>1,STDEV(L23:BG23)/AVERAGE(L23:BG23),"") -> 0.69442538 | M23: 6580000 | N23: 5462000 | O23: 5879000 | P23: 4503000 | Q23: 3924000 | R23: 4052000 | S23: 4216000 | T23: 3911000 | U23: 2357000 | V23: 3120000 | W23: 2831000 | X23: 2551000 | Y23: 2163000 | Z23: 1518000 | AA23: 1567000 | AB23: 1788000 | AC23: 1765000 | AD23: 1442000 | AE23: 1335000 | AF23: 1336000 | AG23: 1440000 | AH23: 1198000 | AI23: 1105000 | AJ23: 952000 | AK23: 983000 | AL23: 1032000 | AM23: 1040000 | AN23: 1284000 | AO23: 1061000 | AP23: 960000 | AQ23: 918000 | AR23: 723900
C24: Taxes Other Than Income Taxes | D24: =IF(COUNT(L24:BG24)>0,MEDIAN(L24:BG24),"") -> 1195000 | E24: =IF(COUNT(L24:BG24)>0,AVERAGE(L24:BG24),"") -> 1225281.2 | F24: =IF(COUNT(L24:BG24)>0,MIN(L24:BG24),"") -> 531000 | G24: =IF(COUNT(L24:BG24)>0,MAX(L24:BG24),"") -> 2469000 | H24: =IF(COUNT(L24:BG24)>0,QUARTILE(L24:BG24,1),"") -> 718250 | I24: =IF(COUNT(L24:BG24)>0,QUARTILE(L24:BG24,3),"") -> 1479000 | J24: =IF(COUNT(L24:BG24)>1,STDEV(L24:BG24),"") -> 549858.18 | K24: =IF(COUNT(L24:BG24)>1,STDEV(L24:BG24)/AVERAGE(L24:BG24),"") -> 0.44876079 | M24: 2469000 | N24: 2278000 | O24: 2265000 | P24: 2077000 | Q24: 1801000 | R24: 1709000 | S24: 1804000 | T24: 1551000 | U24: 1455000 | V24: 1343000 | W24: 1397000 | X24: 1362000 | Y24: 1280000 | Z24: 1186000 | AA24: 1204000 | AB24: 1164000 | AC24: 1230000 | AD24: 1204000 | AE24: 1135000 | AF24: 1132000 | AG24: 931000 | AH24: 882000 | AI24: 829000 | AJ24: 721000 | AK24: 710000 | AL24: 618000 | AM24: 615000 | AN24: 597000 | AO24: 594000 | AP24: 586000 | AQ24: 549000 | AR24: 531000
C25: Other (Income)/Expense, Operating | D25: =IF(COUNT(L25:BG25)>0,MEDIAN(L25:BG25),"") -> 1490500 | E25: =IF(COUNT(L25:BG25)>0,AVERAGE(L25:BG25),"") -> 1672312.5 | F25: =IF(COUNT(L25:BG25)>0,MIN(L25:BG25),"") -> 1189000 | G25: =IF(COUNT(L25:BG25)>0,MAX(L25:BG25),"") -> 2649000 | H25: =IF(COUNT(L25:BG25)>0,QUARTILE(L25:BG25,1),"") -> 1273250 | I25: =IF(COUNT(L25:BG25)>0,QUARTILE(L25:BG25,3),"") -> 1911000 | J25: =IF(COUNT(L25:BG25)>1,STDEV(L25:BG25),"") -> 500302.94 | K25: =IF(COUNT(L25:BG25)>1,STDEV(L25:BG25)/AVERAGE(L25:BG25),"") -> 0.29916833 | AC25: 2649000 | AD25: 2527000 | AE25: 2318000 | AF25: 2202000 | AG25: 1814000 | AH25: 1740000 | AI25: 1626000 | AJ25: 1747000 | AK25: 1355000 | AL25: 1324000 | AM25: 1241000 | AN25: 1284000 | AO25: 1231000 | AP25: 1189000 | AQ25: 1206000 | AR25: 1304000
C26: Total Operating (Income)/Expenses | D26: =IF(COUNT(L26:BG26)>0,MEDIAN(L26:BG26),"") -> 3866500 | E26: =IF(COUNT(L26:BG26)>0,AVERAGE(L26:BG26),"") -> 4405090.6 | F26: =IF(COUNT(L26:BG26)>0,MIN(L26:BG26),"") -> 2558900 | G26: =IF(COUNT(L26:BG26)>0,MAX(L26:BG26),"") -> 9049000 | H26: =IF(COUNT(L26:BG26)>0,QUARTILE(L26:BG26,1),"") -> 2968500 | I26: =IF(COUNT(L26:BG26)>0,QUARTILE(L26:BG26,3),"") -> 5507500 | J26: =IF(COUNT(L26:BG26)>1,STDEV(L26:BG26),"") -> 1718584.6 | K26: =IF(COUNT(L26:BG26)>1,STDEV(L26:BG26)/AVERAGE(L26:BG26),"") -> 0.39013605 | M26: 9049000 | N26: 7740000 | O26: 8144000 | P26: 6580000 | Q26: 5725000 | R26: 5761000 | S26: 6020000 | T26: 5462000 | U26: 3812000 | V26: 4463000 | W26: 4228000 | X26: 3913000 | Y26: 3443000 | Z26: 2704000 | AA26: 2771000 | AB26: 2952000 | AC26: 5644000 | AD26: 5173000 | AE26: 4788000 | AF26: 4670000 | AG26: 4185000 | AH26: 3820000 | AI26: 3560000 | AJ26: 3420000 | AK26: 3048000 | AL26: 2974000 | AM26: 2896000 | AN26: 3165000 | AO26: 2886000 | AP26: 2735000 | AQ26: 2673000 | AR26: 2558900
C27: Total Operating Profit/(Loss) | D27: =IF(COUNT(L27:BG27)>0,MEDIAN(L27:BG27),"") -> 3312000 | E27: =IF(COUNT(L27:BG27)>0,AVERAGE(L27:BG27),"") -> 3573495.7 | F27: =IF(COUNT(L27:BG27)>0,MIN(L27:BG27),"") -> 1148500 | G27: =IF(COUNT(L27:BG27)>0,MAX(L27:BG27),"") -> 9832000 | H27: =IF(COUNT(L27:BG27)>0,QUARTILE(L27:BG27,1),"") -> 1732450 | I27: =IF(COUNT(L27:BG27)>0,QUARTILE(L27:BG27,3),"") -> 4804000 | J27: =IF(COUNT(L27:BG27)>1,STDEV(L27:BG27),"") -> 2016160.4 | K27: =IF(COUNT(L27:BG27)>1,STDEV(L27:BG27)/AVERAGE(L27:BG27),"") -> 0.56419835 | M27: 8020000 | N27: 7127000 | O27: 9832000 | P27: 3559000 | Q27: 2836000 | R27: 4946000 | S27: 5181000 | T27: 4203000 | U27: 5832000 | V27: 4154000 | W27: 4662000 | X27: 4357000 | Y27: 3541000 | Z27: 3276000 | AA27: 3312000 | AB27: 3246000 | AC27: 2594000 | AD27: 2825000 | AE27: 2283000 | AF27: 2097000 | AG27: 1490000 | AH27: 1485000 | AI27: 1531000 | AJ27: 1177000 | AK27: 1410000 | AL27: 1240000 | AM27: 1177000 | AN27: 1252000 | AO27: 1228000 | AP27: 1171000 | AQ27: 1197000 | AR27: 1148500 | AS27: 5316300 | AT27: 5193300 | AU27: 5249400 | AV27: 6289000 | AW27: 6179800 | AX27: 5853500 | AY27: 4439200 | AZ27: 4091500 | BA27: 4348800 | BB27: 3940900 | BC27: 3352500 | BD27: 2940800 | BE27: 3088600 | BF27: 2347300 | BG27: 1933900
C28: Non-Operating Income/(Expenses) | D28: =IF(COUNT(L28:BG28)>0,MEDIAN(L28:BG28),"") | E28: =IF(COUNT(L28:BG28)>0,AVERAGE(L28:BG28),"") | F28: =IF(COUNT(L28:BG28)>0,MIN(L28:BG28),"") | G28: =IF(COUNT(L28:BG28)>0,MAX(L28:BG28),"") | H28: =IF(COUNT(L28:BG28)>0,QUARTILE(L28:BG28,1),"") | I28: =IF(COUNT(L28:BG28)>0,QUARTILE(L28:BG28,3),"") | J28: =IF(COUNT(L28:BG28)>1,STDEV(L28:BG28),"") | K28: =IF(COUNT(L28:BG28)>1,STDEV(L28:BG28)/AVERAGE(L28:BG28),"")
C29: Net Finance (Income)/Expense | D29: =IF(COUNT(L29:BG29)>0,MEDIAN(L29:BG29),"") | E29: =IF(COUNT(L29:BG29)>0,AVERAGE(L29:BG29),"") | F29: =IF(COUNT(L29:BG29)>0,MIN(L29:BG29),"") | G29: =IF(COUNT(L29:BG29)>0,MAX(L29:BG29),"") | H29: =IF(COUNT(L29:BG29)>0,QUARTILE(L29:BG29,1),"") | I29: =IF(COUNT(L29:BG29)>0,QUARTILE(L29:BG29,3),"") | J29: =IF(COUNT(L29:BG29)>1,STDEV(L29:BG29),"") | K29: =IF(COUNT(L29:BG29)>1,STDEV(L29:BG29)/AVERAGE(L29:BG29),"")
C30: Net Interest (Income)/Expense | D30: =IF(COUNT(L30:BG30)>0,MEDIAN(L30:BG30),"") | E30: =IF(COUNT(L30:BG30)>0,AVERAGE(L30:BG30),"") | F30: =IF(COUNT(L30:BG30)>0,MIN(L30:BG30),"") | G30: =IF(COUNT(L30:BG30)>0,MAX(L30:BG30),"") | H30: =IF(COUNT(L30:BG30)>0,QUARTILE(L30:BG30,1),"") | I30: =IF(COUNT(L30:BG30)>0,QUARTILE(L30:BG30,3),"") | J30: =IF(COUNT(L30:BG30)>1,STDEV(L30:BG30),"") | K30: =IF(COUNT(L30:BG30)>1,STDEV(L30:BG30)/AVERAGE(L30:BG30),"")
C31: Interest Expense Net of Capitalized Interest | D31: =IF(COUNT(L31:BG31)>0,MEDIAN(L31:BG31),"") -> 1236000 | E31: =IF(COUNT(L31:BG31)>0,AVERAGE(L31:BG31),"") -> 1591444.4 | F31: =IF(COUNT(L31:BG31)>0,MIN(L31:BG31),"") -> 585000 | G31: =IF(COUNT(L31:BG31)>0,MAX(L31:BG31),"") -> 4572000 | H31: =IF(COUNT(L31:BG31)>0,QUARTILE(L31:BG31,1),"") -> 1035750 | I31: =IF(COUNT(L31:BG31)>0,QUARTILE(L31:BG31,3),"") -> 1852000 | J31: =IF(COUNT(L31:BG31)>1,STDEV(L31:BG31),"") -> 995685.65 | K31: =IF(COUNT(L31:BG31)>1,STDEV(L31:BG31)/AVERAGE(L31:BG31),"") -> 0.62564901 | M31: 4572000 | N31: 2235000 | O31: 3324000 | P31: 585000 | Q31: 1270000 | R31: 1950000 | S31: 2249000 | T31: 1498000 | U31: 1558000 | V31: 1098000 | W31: 1211000 | X31: 1261000 | Y31: 1121000 | Z31: 1038000 | AA31: 1035000 | AB31: 979000 | AC31: 849000 | AD31: 813000
C32: Interest Income | D32: =IF(COUNT(L32:BG32)>0,MEDIAN(L32:BG32),"") -> 80000 | E32: =IF(COUNT(L32:BG32)>0,AVERAGE(L32:BG32),"") -> 78545.455 | F32: =IF(COUNT(L32:BG32)>0,MIN(L32:BG32),"") -> 51000 | G32: =IF(COUNT(L32:BG32)>0,MAX(L32:BG32),"") -> 91000 | H32: =IF(COUNT(L32:BG32)>0,QUARTILE(L32:BG32,1),"") -> 78000 | I32: =IF(COUNT(L32:BG32)>0,QUARTILE(L32:BG32,3),"") -> 84000 | J32: =IF(COUNT(L32:BG32)>1,STDEV(L32:BG32),"") -> 10434.209 | K32: =IF(COUNT(L32:BG32)>1,STDEV(L32:BG32)/AVERAGE(L32:BG32),"") -> 0.13284294 | T32: 51000 | U32: 81000 | V32: 82000 | W32: 86000 | X32: 80000 | Y32: 78000 | Z32: 86000 | AA32: 79000 | AB32: 91000 | AC32: 78000 | AD32: 72000
C33: Total Net Interest (Income)/Expense | D33: =IF(COUNT(L33:BG33)>0,MEDIAN(L33:BG33),"") -> 1153000 | E33: =IF(COUNT(L33:BG33)>0,AVERAGE(L33:BG33),"") -> 1543444.4 | F33: =IF(COUNT(L33:BG33)>0,MIN(L33:BG33),"") -> 585000 | G33: =IF(COUNT(L33:BG33)>0,MAX(L33:BG33),"") -> 4572000 | H33: =IF(COUNT(L33:BG33)>0,QUARTILE(L33:BG33,1),"") -> 953000 | I33: =IF(COUNT(L33:BG33)>0,QUARTILE(L33:BG33,3),"") -> 1831750 | J33: =IF(COUNT(L33:BG33)>1,STDEV(L33:BG33),"") -> 1020126.1 | K33: =IF(COUNT(L33:BG33)>1,STDEV(L33:BG33)/AVERAGE(L33:BG33),"") -> 0.66094123 | M33: 4572000 | N33: 2235000 | O33: 3324000 | P33: 585000 | Q33: 1270000 | R33: 1950000 | S33: 2249000 | T33: 1447000 | U33: 1477000 | V33: 1016000 | W33: 1125000 | X33: 1181000 | Y33: 1043000 | Z33: 952000 | AA33: 956000 | AB33: 888000 | AC33: 771000 | AD33: 741000
C34: Total Net Finance (Income)/Expense | D34: =IF(COUNT(L34:BG34)>0,MEDIAN(L34:BG34),"") -> 1153000 | E34: =IF(COUNT(L34:BG34)>0,AVERAGE(L34:BG34),"") -> 1543444.4 | F34: =IF(COUNT(L34:BG34)>0,MIN(L34:BG34),"") -> 585000 | G34: =IF(COUNT(L34:BG34)>0,MAX(L34:BG34),"") -> 4572000 | H34: =IF(COUNT(L34:BG34)>0,QUARTILE(L34:BG34,1),"") -> 953000 | I34: =IF(COUNT(L34:BG34)>0,QUARTILE(L34:BG34,3),"") -> 1831750 | J34: =IF(COUNT(L34:BG34)>1,STDEV(L34:BG34),"") -> 1020126.1 | K34: =IF(COUNT(L34:BG34)>1,STDEV(L34:BG34)/AVERAGE(L34:BG34),"") -> 0.66094123 | M34: 4572000 | N34: 2235000 | O34: 3324000 | P34: 585000 | Q34: 1270000 | R34: 1950000 | S34: 2249000 | T34: 1447000 | U34: 1477000 | V34: 1016000 | W34: 1125000 | X34: 1181000 | Y34: 1043000 | Z34: 952000 | AA34: 956000 | AB34: 888000 | AC34: 771000 | AD34: 741000
C35: Net Investment Income | D35: =IF(COUNT(L35:BG35)>0,MEDIAN(L35:BG35),"") | E35: =IF(COUNT(L35:BG35)>0,AVERAGE(L35:BG35),"") | F35: =IF(COUNT(L35:BG35)>0,MIN(L35:BG35),"") | G35: =IF(COUNT(L35:BG35)>0,MAX(L35:BG35),"") | H35: =IF(COUNT(L35:BG35)>0,QUARTILE(L35:BG35,1),"") | I35: =IF(COUNT(L35:BG35)>0,QUARTILE(L35:BG35,3),"") | J35: =IF(COUNT(L35:BG35)>1,STDEV(L35:BG35),"") | K35: =IF(COUNT(L35:BG35)>1,STDEV(L35:BG35)/AVERAGE(L35:BG35),"")
C36: Gain/(Loss) on Investments and Other Financial Instruments | D36: =IF(COUNT(L36:BG36)>0,MEDIAN(L36:BG36),"") -> 97500 | E36: =IF(COUNT(L36:BG36)>0,AVERAGE(L36:BG36),"") -> 98333.333 | F36: =IF(COUNT(L36:BG36)>0,MIN(L36:BG36),"") -> 40000 | G36: =IF(COUNT(L36:BG36)>0,MAX(L36:BG36),"") -> 179000 | H36: =IF(COUNT(L36:BG36)>0,QUARTILE(L36:BG36,1),"") -> 66250 | I36: =IF(COUNT(L36:BG36)>0,QUARTILE(L36:BG36,3),"") -> 115250 | J36: =IF(COUNT(L36:BG36)>1,STDEV(L36:BG36),"") -> 43292.522 | K36: =IF(COUNT(L36:BG36)>1,STDEV(L36:BG36)/AVERAGE(L36:BG36),"") -> 0.44026293 | M36: 179000 | N36: 163000 | O36: 125000 | P36: 80000 | Q36: 70000 | R36: 50000 | S36: 55000 | T36: 111000 | U36: 112000 | V36: 40000 | W36: 90000 | X36: 105000
C37: Fair Value or Unrealized Gain/(Loss) on Financial Assets | D37: =IF(COUNT(L37:BG37)>0,MEDIAN(L37:BG37),"") -> 107000 | E37: =IF(COUNT(L37:BG37)>0,AVERAGE(L37:BG37),"") -> 39100 | F37: =IF(COUNT(L37:BG37)>0,MIN(L37:BG37),"") -> -461000 | G37: =IF(COUNT(L37:BG37)>0,MAX(L37:BG37),"") -> 267000 | H37: =IF(COUNT(L37:BG37)>0,QUARTILE(L37:BG37,1),"") -> 0 | I37: =IF(COUNT(L37:BG37)>0,QUARTILE(L37:BG37,3),"") -> 162000 | J37: =IF(COUNT(L37:BG37)>1,STDEV(L37:BG37),"") -> 220008.81 | K37: =IF(COUNT(L37:BG37)>1,STDEV(L37:BG37)/AVERAGE(L37:BG37),"") -> 5.6268239 | M37: 107000 | N37: 107000 | O37: 159000 | P37: -461000 | Q37: 267000 | R37: 163000 | S37: 238000 | T37: -189000 | U37: 0 | V37: 0
C38: Income from Associates, Joint Ventures and Other Participating Interests | D38: =IF(COUNT(L38:BG38)>0,MEDIAN(L38:BG38),"") -> 62000 | E38: =IF(COUNT(L38:BG38)>0,AVERAGE(L38:BG38),"") -> -19500 | F38: =IF(COUNT(L38:BG38)>0,MIN(L38:BG38),"") -> -1351000 | G38: =IF(COUNT(L38:BG38)>0,MAX(L38:BG38),"") -> 666000 | H38: =IF(COUNT(L38:BG38)>0,QUARTILE(L38:BG38,1),"") -> 16000 | I38: =IF(COUNT(L38:BG38)>0,QUARTILE(L38:BG38,3),"") -> 132500 | J38: =IF(COUNT(L38:BG38)>1,STDEV(L38:BG38),"") -> 422202.66 | K38: =IF(COUNT(L38:BG38)>1,STDEV(L38:BG38)/AVERAGE(L38:BG38),"") -> -21.651419 | M38: -184000 | N38: -246000 | O38: -648000 | P38: 203000 | Q38: 666000 | R38: -1351000 | S38: 66000 | T38: 358000 | U38: 141000 | V38: 148000 | W38: 107000 | X38: 93000 | Y38: 25000 | Z38: 13000 | AA38: 55000 | AB38: 58000 | AC38: 52000 | AD38: 93000
C39: Other Investment Income | D39: =IF(COUNT(L39:BG39)>0,MEDIAN(L39:BG39),"") -> 0 | E39: =IF(COUNT(L39:BG39)>0,AVERAGE(L39:BG39),"") -> -11500 | F39: =IF(COUNT(L39:BG39)>0,MIN(L39:BG39),"") -> -67000 | G39: =IF(COUNT(L39:BG39)>0,MAX(L39:BG39),"") -> 21000 | H39: =IF(COUNT(L39:BG39)>0,QUARTILE(L39:BG39,1),"") -> -16750 | I39: =IF(COUNT(L39:BG39)>0,QUARTILE(L39:BG39,3),"") -> 5250 | J39: =IF(COUNT(L39:BG39)>1,STDEV(L39:BG39),"") -> 38301.436 | K39: =IF(COUNT(L39:BG39)>1,STDEV(L39:BG39)/AVERAGE(L39:BG39),"") -> -3.3305597 | W39: 0 | X39: 21000 | Y39: -67000 | Z39: 0
C40: Total Net Investment Income | D40: =IF(COUNT(L40:BG40)>0,MEDIAN(L40:BG40),"") -> 75500 | E40: =IF(COUNT(L40:BG40)>0,AVERAGE(L40:BG40),"") -> 65222.222 | F40: =IF(COUNT(L40:BG40)>0,MIN(L40:BG40),"") -> -1138000 | G40: =IF(COUNT(L40:BG40)>0,MAX(L40:BG40),"") -> 1003000 | H40: =IF(COUNT(L40:BG40)>0,QUARTILE(L40:BG40,1),"") -> 15750 | I40: =IF(COUNT(L40:BG40)>0,QUARTILE(L40:BG40,3),"") -> 213500 | J40: =IF(COUNT(L40:BG40)>1,STDEV(L40:BG40),"") -> 406760.6 | K40: =IF(COUNT(L40:BG40)>1,STDEV(L40:BG40)/AVERAGE(L40:BG40),"") -> 6.2365339 | M40: 102000 | N40: 24000 | O40: -364000 | P40: -178000 | Q40: 1003000 | R40: -1138000 | S40: 359000 | T40: 280000 | U40: 253000 | V40: 188000 | W40: 197000 | X40: 219000 | Y40: -42000 | Z40: 13000 | AA40: 55000 | AB40: 58000 | AC40: 52000 | AD40: 93000
C41: Irregular (Income)/Expenses | D41: =IF(COUNT(L41:BG41)>0,MEDIAN(L41:BG41),"") | E41: =IF(COUNT(L41:BG41)>0,AVERAGE(L41:BG41),"") | F41: =IF(COUNT(L41:BG41)>0,MIN(L41:BG41),"") | G41: =IF(COUNT(L41:BG41)>0,MAX(L41:BG41),"") | H41: =IF(COUNT(L41:BG41)>0,QUARTILE(L41:BG41,1),"") | I41: =IF(COUNT(L41:BG41)>0,QUARTILE(L41:BG41,3),"") | J41: =IF(COUNT(L41:BG41)>1,STDEV(L41:BG41),"") | K41: =IF(COUNT(L41:BG41)>1,STDEV(L41:BG41)/AVERAGE(L41:BG41),"")
C42: (Gain)/Loss on Disposal of Businesses | D42: =IF(COUNT(L42:BG42)>0,MEDIAN(L42:BG42),"") -> -379000 | E42: =IF(COUNT(L42:BG42)>0,AVERAGE(L42:BG42),"") -> -663583.33 | F42: =IF(COUNT(L42:BG42)>0,MIN(L42:BG42),"") -> -4007000 | G42: =IF(COUNT(L42:BG42)>0,MAX(L42:BG42),"") -> 4000 | H42: =IF(COUNT(L42:BG42)>0,QUARTILE(L42:BG42,1),"") -> -465750 | I42: =IF(COUNT(L42:BG42)>0,QUARTILE(L42:BG42,3),"") -> -214250 | J42: =IF(COUNT(L42:BG42)>1,STDEV(L42:BG42),"") -> 1092544.9 | K42: =IF(COUNT(L42:BG42)>1,STDEV(L42:BG42)/AVERAGE(L42:BG42),"") -> -1.646432 | M42: -260000 | N42: -352000 | O42: -405000 | P42: -522000 | Q42: -77000 | R42: -353000 | S42: -406000 | T42: -4007000 | U42: -1111000 | V42: -447000 | W42: 4000 | X42: -27000
C43: (Gain)/Loss on Asset Disposals | D43: =IF(COUNT(L43:BG43)>0,MEDIAN(L43:BG43),"") -> -60500 | E43: =IF(COUNT(L43:BG43)>0,AVERAGE(L43:BG43),"") -> -53000 | F43: =IF(COUNT(L43:BG43)>0,MIN(L43:BG43),"") -> -157000 | G43: =IF(COUNT(L43:BG43)>0,MAX(L43:BG43),"") -> 66000 | H43: =IF(COUNT(L43:BG43)>0,QUARTILE(L43:BG43,1),"") -> -89500 | I43: =IF(COUNT(L43:BG43)>0,QUARTILE(L43:BG43,3),"") -> -24000 | J43: =IF(COUNT(L43:BG43)>1,STDEV(L43:BG43),"") -> 91604.221 | K43: =IF(COUNT(L43:BG43)>1,STDEV(L43:BG43)/AVERAGE(L43:BG43),"") -> -1.7283815 | Y43: -54000 | Z43: -157000 | AA43: 66000 | AB43: -67000
C44: Impairment/Write Off/Write Down of Capital Assets | D44: =IF(COUNT(L44:BG44)>0,MEDIAN(L44:BG44),"") -> 148000 | E44: =IF(COUNT(L44:BG44)>0,AVERAGE(L44:BG44),"") -> 148000 | F44: =IF(COUNT(L44:BG44)>0,MIN(L44:BG44),"") -> 148000 | G44: =IF(COUNT(L44:BG44)>0,MAX(L44:BG44),"") -> 148000 | H44: =IF(COUNT(L44:BG44)>0,QUARTILE(L44:BG44,1),"") -> 148000 | I44: =IF(COUNT(L44:BG44)>0,QUARTILE(L44:BG44,3),"") -> 148000 | J44: =IF(COUNT(L44:BG44)>1,STDEV(L44:BG44),"") | K44: =IF(COUNT(L44:BG44)>1,STDEV(L44:BG44)/AVERAGE(L44:BG44),"") | AD44: 148000
...

Sheet PitchBook_BS
C3: Balance Sheet (Fiscal Year)
C4: Downloaded On: 19-Mar-2026 | D4: Summary Stats
C5: Company: NextEra Energy (NYS: NEE) | D5: Median | E5: Mean | F5: Min | G5: Max | H5: 25th pctile | I5: 75th pctile | J5: Std. Dev | K5: Coefficient of Variation | M5: FY 2025 | N5: FY 2024 | O5: FY 2023 | P5: FY 2022 | Q5: FY 2021 | R5: FY 2020 | S5: FY 2019 | T5: FY 2018 | U5: FY 2017 | V5: FY 2016 | W5: FY 2015 | X5: FY 2014 | Y5: FY 2013 | Z5: FY 2012 | AA5: FY 2011 | AB5: FY 2010 | AC5: FY 2009 | AD5: FY 2008 | AE5: FY 2007 | AF5: FY 2006 | AG5: FY 2005 | AH5: FY 2004 | AI5: FY 2003 | AJ5: FY 2002 | AK5: FY 2001 | AL5: FY 2000 | AM5: FY 1999 | AN5: FY 1998 | AO5: FY 1997 | AP5: FY 1996 | AQ5: FY 1995 | AR5: FY 1994
C7: Amounts in Thousands, USD (except Ratios, Multiples & per share items)
M9: Filed: 13-Feb-2026 | N9: Filed: 13-Feb-2026 | O9: Filed: 14-Feb-2025 | P9: Filed: 16-Feb-2024 | Q9: Filed: 17-Feb-2023 | R9: Filed: 18-Feb-2022 | S9: Filed: 12-Feb-2021 | T9: Filed: 14-Feb-2020 | U9: Filed: 15-Feb-2019 | V9: Filed: 16-Feb-2018 | W9: Filed: 23-Feb-2017 | X9: Filed: 22-Feb-2016 | Y9: Filed: 20-Feb-2015 | Z9: Filed: 31-Dec-2012 | AA9: Filed: 31-Dec-2011 | AB9: Filed: 31-Dec-2010 | AC9: Filed: 31-Dec-2009 | AD9: Filed: 31-Dec-2008 | AE9: Filed: 31-Dec-2007 | AF9: Filed: 31-Dec-2006 | AG9: Filed: 31-Dec-2005 | AH9: Filed: 31-Dec-2004 | AI9: Filed: 31-Dec-2003 | AJ9: Filed: 31-Dec-2002 | AK9: Filed: 31-Dec-2001 | AL9: Filed: 31-Dec-2000 | AM9: Filed: 31-Dec-1999 | AN9: Filed: 31-Dec-1998 | AO9: Filed: 31-Dec-1997 | AP9: Filed: 31-Dec-1996 | AQ9: Filed: 31-Dec-1995 | AR9: Filed: 31-Dec-1994
M10: View 10-K | N10: View 10-K | O10: View 10-K | P10: View 10-K | Q10: View 10-K | R10: View 10-K | S10: View 10-K | T10: View 10-K | U10: View 10-K | V10: View 10-K | W10: View 10-K | X10: View 10-K | Y10: View 10-K | Z10: View 10-K | AA10: View 10-K | AB10: View 10-K | AC10: View 10-K | AD10: View 10-K
C11: Assets | D11: =IF(COUNT(L11:AR11)>0,MEDIAN(L11:AR11),"") | E11: =IF(COUNT(L11:AR11)>0,AVERAGE(L11:AR11),"") | F11: =IF(COUNT(L11:AR11)>0,MIN(L11:AR11),"") | G11: =IF(COUNT(L11:AR11)>0,MAX(L11:AR11),"") | H11: =IF(COUNT(L11:AR11)>0,QUARTILE(L11:AR11,1),"") | I11: =IF(COUNT(L11:AR11)>0,QUARTILE(L11:AR11,3),"") | J11: =IF(COUNT(L11:AR11)>1,STDEV(L11:AR11),"") | K11: =IF(COUNT(L11:AR11)>1,STDEV(L11:AR11)/AVERAGE(L11:AR11),"")
C12: Current Assets | D12: =IF(COUNT(L12:AR12)>0,MEDIAN(L12:AR12),"") | E12: =IF(COUNT(L12:AR12)>0,AVERAGE(L12:AR12),"") | F12: =IF(COUNT(L12:AR12)>0,MIN(L12:AR12),"") | G12: =IF(COUNT(L12:AR12)>0,MAX(L12:AR12),"") | H12: =IF(COUNT(L12:AR12)>0,QUARTILE(L12:AR12,1),"") | I12: =IF(COUNT(L12:AR12)>0,QUARTILE(L12:AR12,3),"") | J12: =IF(COUNT(L12:AR12)>1,STDEV(L12:AR12),"") | K12: =IF(COUNT(L12:AR12)>1,STDEV(L12:AR12)/AVERAGE(L12:AR12),"")
C13: Cash, Cash Equivalents and Short Term Investments | D13: =IF(COUNT(L13:AR13)>0,MEDIAN(L13:AR13),"") | E13: =IF(COUNT(L13:AR13)>0,AVERAGE(L13:AR13),"") | F13: =IF(COUNT(L13:AR13)>0,MIN(L13:AR13),"") | G13: =IF(COUNT(L13:AR13)>0,MAX(L13:AR13),"") | H13: =IF(COUNT(L13:AR13)>0,QUARTILE(L13:AR13,1),"") | I13: =IF(COUNT(L13:AR13)>0,QUARTILE(L13:AR13,3),"") | J13: =IF(COUNT(L13:AR13)>1,STDEV(L13:AR13),"") | K13: =IF(COUNT(L13:AR13)>1,STDEV(L13:AR13)/AVERAGE(L13:AR13),"")
C14: Cash and Cash Equivalents | D14: =IF(COUNT(L14:AR14)>0,MEDIAN(L14:AR14),"") -> 407500 | E14: =IF(COUNT(L14:AR14)>0,AVERAGE(L14:AR14),"") -> 660812.5 | F14: =IF(COUNT(L14:AR14)>0,MIN(L14:AR14),"") -> 46200 | G14: =IF(COUNT(L14:AR14)>0,MAX(L14:AR14),"") -> 2812000 | H14: =IF(COUNT(L14:AR14)>0,QUARTILE(L14:AR14,1),"") -> 217750 | I14: =IF(COUNT(L14:AR14)>0,QUARTILE(L14:AR14,3),"") -> 638250 | J14: =IF(COUNT(L14:AR14)>1,STDEV(L14:AR14),"") -> 709608.82 | K14: =IF(COUNT(L14:AR14)>1,STDEV(L14:AR14)/AVERAGE(L14:AR14),"") -> 1.0738429 | M14: 2812000 | N14: 1487000 | O14: 2690000 | P14: 1601000 | Q14: 639000 | R14: 1105000 | S14: 600000 | T14: 638000 | U14: 1714000 | V14: 1292000 | W14: 571000 | X14: 577000 | Y14: 438000 | Z14: 329000 | AA14: 377000 | AB14: 302000 | AC14: 238000 | AD14: 535000 | AE14: 290000 | AF14: 620000 | AG14: 530000 | AH14: 225000 | AI14: 129000 | AJ14: 266000 | AK14: 82000 | AL14: 129000 | AM14: 361000 | AN14: 187000 | AO14: 54000 | AP14: 196000 | AQ14: 46200 | AR14: 85800
C15: Short Term Investments | D15: =IF(COUNT(L15:AR15)>0,MEDIAN(L15:AR15),"") -> 0 | E15: =IF(COUNT(L15:AR15)>0,AVERAGE(L15:AR15),"") -> 0 | F15: =IF(COUNT(L15:AR15)>0,MIN(L15:AR15),"") -> 0 | G15: =IF(COUNT(L15:AR15)>0,MAX(L15:AR15),"") -> 0 | H15: =IF(COUNT(L15:AR15)>0,QUARTILE(L15:AR15,1),"") -> 0 | I15: =IF(COUNT(L15:AR15)>0,QUARTILE(L15:AR15,3),"") -> 0 | J15: =IF(COUNT(L15:AR15)>1,STDEV(L15:AR15),"") -> 0 | K15: =IF(COUNT(L15:AR15)>1,STDEV(L15:AR15)/AVERAGE(L15:AR15),"") -> #DIV/0! | AB15: 0 | AC15: 0
C16: Total Cash, Cash Equivalents and Short Term Investments | D16: =IF(COUNT(L16:AR16)>0,MEDIAN(L16:AR16),"") -> 407500 | E16: =IF(COUNT(L16:AR16)>0,AVERAGE(L16:AR16),"") -> 660812.5 | F16: =IF(COUNT(L16:AR16)>0,MIN(L16:AR16),"") -> 46200 | G16: =IF(COUNT(L16:AR16)>0,MAX(L16:AR16),"") -> 2812000 | H16: =IF(COUNT(L16:AR16)>0,QUARTILE(L16:AR16,1),"") -> 217750 | I16: =IF(COUNT(L16:AR16)>0,QUARTILE(L16:AR16,3),"") -> 638250 | J16: =IF(COUNT(L16:AR16)>1,STDEV(L16:AR16),"") -> 709608.82 | K16: =IF(COUNT(L16:AR16)>1,STDEV(L16:AR16)/AVERAGE(L16:AR16),"") -> 1.0738429 | M16: 2812000 | N16: 1487000 | O16: 2690000 | P16: 1601000 | Q16: 639000 | R16: 1105000 | S16: 600000 | T16: 638000 | U16: 1714000 | V16: 1292000 | W16: 571000 | X16: 577000 | Y16: 438000 | Z16: 329000 | AA16: 377000 | AB16: 302000 | AC16: 238000 | AD16: 535000 | AE16: 290000 | AF16: 620000 | AG16: 530000 | AH16: 225000 | AI16: 129000 | AJ16: 266000 | AK16: 82000 | AL16: 129000 | AM16: 361000 | AN16: 187000 | AO16: 54000 | AP16: 196000 | AQ16: 46200 | AR16: 85800
C17: Derivative Investment and Hedging Assets, Current | D17: =IF(COUNT(L17:AR17)>0,MEDIAN(L17:AR17),"") -> 742000 | E17: =IF(COUNT(L17:AR17)>0,AVERAGE(L17:AR17),"") -> 853882.35 | F17: =IF(COUNT(L17:AR17)>0,MIN(L17:AR17),"") -> 425000 | G17: =IF(COUNT(L17:AR17)>0,MAX(L17:AR17),"") -> 1730000 | H17: =IF(COUNT(L17:AR17)>0,QUARTILE(L17:AR17,1),"") -> 564000 | I17: =IF(COUNT(L17:AR17)>0,QUARTILE(L17:AR17,3),"") -> 997000 | J17: =IF(COUNT(L17:AR17)>1,STDEV(L17:AR17),"") -> 390425.39 | K17: =IF(COUNT(L17:AR17)>1,STDEV(L17:AR17)/AVERAGE(L17:AR17),"") -> 0.45723558 | M17: 997000 | N17: 879000 | O17: 1730000 | P17: 1590000 | Q17: 689000 | R17: 570000 | S17: 762000 | T17: 564000 | U17: 489000 | V17: 885000 | W17: 712000 | X17: 1354000 | Y17: 498000 | Z17: 517000 | AA17: 1113000 | AB17: 742000 | AC17: 425000
C18: Inventories | D18: =IF(COUNT(L18:AR18)>0,MEDIAN(L18:AR18),"") | E18: =IF(COUNT(L18:AR18)>0,AVERAGE(L18:AR18),"") | F18: =IF(COUNT(L18:AR18)>0,MIN(L18:AR18),"") | G18: =IF(COUNT(L18:AR18)>0,MAX(L18:AR18),"") | H18: =IF(COUNT(L18:AR18)>0,QUARTILE(L18:AR18,1),"") | I18: =IF(COUNT(L18:AR18)>0,QUARTILE(L18:AR18,3),"") | J18: =IF(COUNT(L18:AR18)>1,STDEV(L18:AR18),"") | K18: =IF(COUNT(L18:AR18)>1,STDEV(L18:AR18)/AVERAGE(L18:AR18),"")
C19: Raw Materials, Consumables and Supplies | D19: =IF(COUNT(L19:AR19)>0,MEDIAN(L19:AR19),"") -> 1292000 | E19: =IF(COUNT(L19:AR19)>0,AVERAGE(L19:AR19),"") -> 1516733.3 | F19: =IF(COUNT(L19:AR19)>0,MIN(L19:AR19),"") -> 1073000 | G19: =IF(COUNT(L19:AR19)>0,MAX(L19:AR19),"") -> 2420000 | H19: =IF(COUNT(L19:AR19)>0,QUARTILE(L19:AR19,1),"") -> 1241000 | I19: =IF(COUNT(L19:AR19)>0,QUARTILE(L19:AR19,3),"") -> 1747500 | J19: =IF(COUNT(L19:AR19)>1,STDEV(L19:AR19),"") -> 439312.36 | K19: =IF(COUNT(L19:AR19)>1,STDEV(L19:AR19)/AVERAGE(L19:AR19),"") -> 0.28964377 | M19: 2420000 | N19: 2214000 | O19: 2106000 | P19: 1934000 | Q19: 1561000 | R19: 1552000 | S19: 1328000 | T19: 1223000 | U19: 1273000 | V19: 1289000 | W19: 1259000 | X19: 1292000 | Y19: 1153000 | Z19: 1073000 | AA19: 1074000
C20: Total Inventories | D20: =IF(COUNT(L20:AR20)>0,MEDIAN(L20:AR20),"") -> 922500 | E20: =IF(COUNT(L20:AR20)>0,AVERAGE(L20:AR20),"") -> 982268.75 | F20: =IF(COUNT(L20:AR20)>0,MIN(L20:AR20),"") -> 247300 | G20: =IF(COUNT(L20:AR20)>0,MAX(L20:AR20),"") -> 2420000 | H20: =IF(COUNT(L20:AR20)>0,QUARTILE(L20:AR20,1),"") -> 388000 | I20: =IF(COUNT(L20:AR20)>0,QUARTILE(L20:AR20,3),"") -> 1289750 | J20: =IF(COUNT(L20:AR20)>1,STDEV(L20:AR20),"") -> 616652.49 | K20: =IF(COUNT(L20:AR20)>1,STDEV(L20:AR20)/AVERAGE(L20:AR20),"") -> 0.62778388 | M20: 2420000 | N20: 2214000 | O20: 2106000 | P20: 1934000 | Q20: 1561000 | R20: 1552000 | S20: 1328000 | T20: 1223000 | U20: 1273000 | V20: 1289000 | W20: 1259000 | X20: 1292000 | Y20: 1153000 | Z20: 1073000 | AA20: 1074000 | AB20: 857000 | AC20: 877000 | AD20: 968000 | AE20: 857000 | AF20: 785000 | AG20: 567000 | AH20: 394000 | AI20: 458000 | AJ20: 448000 | AK20: 349000 | AL20: 370000 | AM20: 343000 | AN20: 282000 | AO20: 302000 | AP20: 268000 | AQ20: 247300 | AR20: 309300
C21: Trade and Other Receivables, Current | D21: =IF(COUNT(L21:AR21)>0,MEDIAN(L21:AR21),"") | E21: =IF(COUNT(L21:AR21)>0,AVERAGE(L21:AR21),"") | F21: =IF(COUNT(L21:AR21)>0,MIN(L21:AR21),"") | G21: =IF(COUNT(L21:AR21)>0,MAX(L21:AR21),"") | H21: =IF(COUNT(L21:AR21)>0,QUARTILE(L21:AR21,1),"") | I21: =IF(COUNT(L21:AR21)>0,QUARTILE(L21:AR21,3),"") | J21: =IF(COUNT(L21:AR21)>1,STDEV(L21:AR21),"") | K21: =IF(COUNT(L21:AR21)>1,STDEV(L21:AR21)/AVERAGE(L21:AR21),"")
C22: Trade/Accounts Receivable, Current | D22: =IF(COUNT(L22:AR22)>0,MEDIAN(L22:AR22),"") | E22: =IF(COUNT(L22:AR22)>0,AVERAGE(L22:AR22),"") | F22: =IF(COUNT(L22:AR22)>0,MIN(L22:AR22),"") | G22: =IF(COUNT(L22:AR22)>0,MAX(L22:AR22),"") | H22: =IF(COUNT(L22:AR22)>0,QUARTILE(L22:AR22,1),"") | I22: =IF(COUNT(L22:AR22)>0,QUARTILE(L22:AR22,3),"") | J22: =IF(COUNT(L22:AR22)>1,STDEV(L22:AR22),"") | K22: =IF(COUNT(L22:AR22)>1,STDEV(L22:AR22)/AVERAGE(L22:AR22),"")
C23: Gross Trade/Accounts Receivable, Current | D23: =IF(COUNT(L23:AR23)>0,MEDIAN(L23:AR23),"") -> 2301000 | E23: =IF(COUNT(L23:AR23)>0,AVERAGE(L23:AR23),"") -> 2548266.7 | F23: =IF(COUNT(L23:AR23)>0,MIN(L23:AR23),"") -> 1383000 | G23: =IF(COUNT(L23:AR23)>0,MAX(L23:AR23),"") -> 4403000 | H23: =IF(COUNT(L23:AR23)>0,QUARTILE(L23:AR23,1),"") -> 1796000 | I23: =IF(COUNT(L23:AR23)>0,QUARTILE(L23:AR23,3),"") -> 3402500 | J23: =IF(COUNT(L23:AR23)>1,STDEV(L23:AR23),"") -> 982318.28 | K23: =IF(COUNT(L23:AR23)>1,STDEV(L23:AR23)/AVERAGE(L23:AR23),"") -> 0.38548489 | M23: 4100000 | N23: 3392000 | O23: 3661000 | P23: 4403000 | Q23: 3413000 | R23: 2330000 | S23: 2301000 | T23: 2312000 | U23: 2227000 | V23: 1795000 | W23: 1797000 | X23: 1822000 | Y23: 1791000 | Z23: 1497000 | AA23: 1383000
C24: Allowance/Adjustments for Trade/Accounts Receivable, Current | D24: =IF(COUNT(L24:AR24)>0,MEDIAN(L24:AR24),"") -> -17000 | E24: =IF(COUNT(L24:AR24)>0,AVERAGE(L24:AR24),"") -> -30533.333 | F24: =IF(COUNT(L24:AR24)>0,MIN(L24:AR24),"") -> -82000 | G24: =IF(COUNT(L24:AR24)>0,MAX(L24:AR24),"") -> -7000 | H24: =IF(COUNT(L24:AR24)>0,QUARTILE(L24:AR24,1),"") -> -53000 | I24: =IF(COUNT(L24:AR24)>0,QUARTILE(L24:AR24,3),"") -> -11000 | J24: =IF(COUNT(L24:AR24)>1,STDEV(L24:AR24),"") -> 24951 | K24: =IF(COUNT(L24:AR24)>1,STDEV(L24:AR24)/AVERAGE(L24:AR24),"") -> -0.81717248 | M24: -82000 | N24: -56000 | O24: -52000 | P24: -54000 | Q24: -35000 | R24: -67000 | S24: -19000 | T24: -10000 | U24: -7000 | V24: -11000 | W24: -13000 | X24: -17000 | Y24: -14000 | Z24: -10000 | AA24: -11000
C25: Total Trade/Accounts Receivable, Current | D25: =IF(COUNT(L25:AR25)>0,MEDIAN(L25:AR25),"") -> 1498000 | E25: =IF(COUNT(L25:AR25)>0,AVERAGE(L25:AR25),"") -> 1700656.2 | F25: =IF(COUNT(L25:AR25)>0,MIN(L25:AR25),"") -> 462000 | G25: =IF(COUNT(L25:AR25)>0,MAX(L25:AR25),"") -> 4349000 | H25: =IF(COUNT(L25:AR25)>0,QUARTILE(L25:AR25,1),"") -> 843750 | I25: =IF(COUNT(L25:AR25)>0,QUARTILE(L25:AR25,3),"") -> 2230750 | J25: =IF(COUNT(L25:AR25)>1,STDEV(L25:AR25),"") -> 1068311 | K25: =IF(COUNT(L25:AR25)>1,STDEV(L25:AR25)/AVERAGE(L25:AR25),"") -> 0.62817574 | M25: 4018000 | N25: 3336000 | O25: 3609000 | P25: 4349000 | Q25: 3378000 | R25: 2263000 | S25: 2282000 | T25: 2302000 | U25: 2220000 | V25: 1784000 | W25: 1784000 | X25: 1805000 | Y25: 1777000 | Z25: 1487000 | AA25: 1372000 | AB25: 1509000 | AC25: 1431000 | AD25: 1443000 | AE25: 1721000 | AF25: 1656000 | AG25: 1430000 | AH25: 1044000 | AI25: 1188000 | AJ25: 865000 | AK25: 780000 | AL25: 637000 | AM25: 482000 | AN25: 559000 | AO25: 501000 | AP25: 462000 | AQ25: 482300 | AR25: 464700
C26: Accrued Income/Unbilled Revenue/Cost in Excess of Billings, Current | D26: =IF(COUNT(L26:AR26)>0,MEDIAN(L26:AR26),"") -> 902500 | E26: =IF(COUNT(L26:AR26)>0,AVERAGE(L26:AR26),"") -> 902500 | F26: =IF(COUNT(L26:AR26)>0,MIN(L26:AR26),"") -> 318000 | G26: =IF(COUNT(L26:AR26)>0,MAX(L26:AR26),"") -> 1487000 | H26: =IF(COUNT(L26:AR26)>0,QUARTILE(L26:AR26,1),"") -> 610250 | I26: =IF(COUNT(L26:AR26)>0,QUARTILE(L26:AR26,3),"") -> 1194750 | J26: =IF(COUNT(L26:AR26)>1,STDEV(L26:AR26),"") -> 826607.83 | K26: =IF(COUNT(L26:AR26)>1,STDEV(L26:AR26)/AVERAGE(L26:AR26),"") -> 0.91590895 | O26: 1487000 | P26: 318000
C27: Other Receivables, Current | D27: =IF(COUNT(L27:AR27)>0,MEDIAN(L27:AR27),"") -> 661000 | E27: =IF(COUNT(L27:AR27)>0,AVERAGE(L27:AR27),"") -> 716944.44 | F27: =IF(COUNT(L27:AR27)>0,MIN(L27:AR27),"") -> 264000 | G27: =IF(COUNT(L27:AR27)>0,MAX(L27:AR27),"") -> 1733000 | H27: =IF(COUNT(L27:AR27)>0,QUARTILE(L27:AR27,1),"") -> 513250 | I27: =IF(COUNT(L27:AR27)>0,QUARTILE(L27:AR27,3),"") -> 798000 | J27: =IF(COUNT(L27:AR27)>1,STDEV(L27:AR27),"") -> 347918.6 | K27: =IF(COUNT(L27:AR27)>1,STDEV(L27:AR27)/AVERAGE(L27:AR27),"") -> 0.48527972 | M27: 1733000 | N27: 1180000 | O27: 944000 | P27: 744000 | Q27: 730000 | R27: 711000 | S27: 525000 | T27: 667000 | U27: 517000 | V27: 655000 | W27: 481000 | X27: 354000 | Y27: 512000 | Z27: 569000 | AA27: 430000 | AB27: 1073000 | AC27: 816000 | AD27: 264000
C28: Total Trade and Other Receivables, Current | D28: =IF(COUNT(L28:AR28)>0,MEDIAN(L28:AR28),"") -> 1929000 | E28: =IF(COUNT(L28:AR28)>0,AVERAGE(L28:AR28),"") -> 2160343.8 | F28: =IF(COUNT(L28:AR28)>0,MIN(L28:AR28),"") -> 462000 | G28: =IF(COUNT(L28:AR28)>0,MAX(L28:AR28),"") -> 6040000 | H28: =IF(COUNT(L28:AR28)>0,QUARTILE(L28:AR28,1),"") -> 843750 | I28: =IF(COUNT(L28:AR28)>0,QUARTILE(L28:AR28,3),"") -> 2754500 | J28: =IF(COUNT(L28:AR28)>1,STDEV(L28:AR28),"") -> 1569281.8 | K28: =IF(COUNT(L28:AR28)>1,STDEV(L28:AR28)/AVERAGE(L28:AR28),"") -> 0.72640374 | M28: 5751000 | N28: 4516000 | O28: 6040000 | P28: 5411000 | Q28: 4108000 | R28: 2974000 | S28: 2807000 | T28: 2969000 | U28: 2737000 | V28: 2439000 | W28: 2265000 | X28: 2159000 | Y28: 2289000 | Z28: 2056000 | AA28: 1802000 | AB28: 2582000 | AC28: 2247000 | AD28: 1707000 | AE28: 1721000 | AF28: 1656000 | AG28: 1430000 | AH28: 1044000 | AI28: 1188000 | AJ28: 865000 | AK28: 780000 | AL28: 637000 | AM28: 482000 | AN28: 559000 | AO28: 501000 | AP28: 462000 | AQ28: 482300 | AR28: 464700
C29: Deferred Tax Assets, Current | D29: =IF(COUNT(L29:AR29)>0,MEDIAN(L29:AR29),"") -> 568000 | E29: =IF(COUNT(L29:AR29)>0,AVERAGE(L29:AR29),"") -> 474750 | F29: =IF(COUNT(L29:AR29)>0,MIN(L29:AR29),"") -> 10000 | G29: =IF(COUNT(L29:AR29)>0,MAX(L29:AR29),"") -> 753000 | H29: =IF(COUNT(L29:AR29)>0,QUARTILE(L29:AR29,1),"") -> 300250 | I29: =IF(COUNT(L29:AR29)>0,QUARTILE(L29:AR29,3),"") -> 742500 | J29: =IF(COUNT(L29:AR29)>1,STDEV(L29:AR29),"") -> 350850.75 | K29: =IF(COUNT(L29:AR29)>1,STDEV(L29:AR29)/AVERAGE(L29:AR29),"") -> 0.73902212 | X29: 739000 | Y29: 753000 | Z29: 397000 | AA29: 10000
C30: Deferred Costs/Assets, Current | D30: =IF(COUNT(L30:AR30)>0,MEDIAN(L30:AR30),"") -> 152000 | E30: =IF(COUNT(L30:AR30)>0,AVERAGE(L30:AR30),"") -> 180666.67 | F30: =IF(COUNT(L30:AR30)>0,MIN(L30:AR30),"") -> 69000 | G30: =IF(COUNT(L30:AR30)>0,MAX(L30:AR30),"") -> 368000 | H30: =IF(COUNT(L30:AR30)>0,QUARTILE(L30:AR30,1),"") -> 84250 | I30: =IF(COUNT(L30:AR30)>0,QUARTILE(L30:AR30,3),"") -> 249000 | J30: =IF(COUNT(L30:AR30)>1,STDEV(L30:AR30),"") -> 119330.91 | K30: =IF(COUNT(L30:AR30)>1,STDEV(L30:AR30)/AVERAGE(L30:AR30),"") -> 0.66050321 | X30: 268000 | Y30: 192000 | Z30: 75000 | AA30: 112000 | AB30: 368000 | AC30: 69000
C31: Regulatory Assets, Current | D31: =IF(COUNT(L31:AR31)>0,MEDIAN(L31:AR31),"") -> 440500 | E31: =IF(COUNT(L31:AR31)>0,AVERAGE(L31:AR31),"") -> 674214.29 | F31: =IF(COUNT(L31:AR31)>0,MIN(L31:AR31),"") -> 84000 | G31: =IF(COUNT(L31:AR31)>0,MAX(L31:AR31),"") -> 2165000 | H31: =IF(COUNT(L31:AR31)>0,QUARTILE(L31:AR31,1),"") -> 335250 | I31: =IF(COUNT(L31:AR31)>0,QUARTILE(L31:AR31,3),"") -> 974750 | J31: =IF(COUNT(L31:AR31)>1,STDEV(L31:AR31),"") -> 622984.53 | K31: =IF(COUNT(L31:AR31)>1,STDEV(L31:AR31)/AVERAGE(L31:AR31),"") -> 0.92401561 | M31: 433000 | N31: 1417000 | O31: 1460000 | P31: 2165000 | Q31: 1125000 | R31: 377000 | S31: 335000 | T31: 448000 | U31: 336000 | V31: 524000 | W31: 503000 | X31: 116000 | Y31: 116000 | AA31: 84000
C32: Assets Held for Sale/Discontinued Operations, Current | D32: =IF(COUNT(L32:AR32)>0,MEDIAN(L32:AR32),"") -> 335000 | E32: =IF(COUNT(L32:AR32)>0,AVERAGE(L32:AR32),"") -> 359200 | F32: =IF(COUNT(L32:AR32)>0,MIN(L32:AR32),"") -> 0 | G32: =IF(COUNT(L32:AR32)>0,MAX(L32:AR32),"") -> 1009000 | H32: =IF(COUNT(L32:AR32)>0,QUARTILE(L32:AR32,1),"") -> 0 | I32: =IF(COUNT(L32:AR32)>0,QUARTILE(L32:AR32,3),"") -> 452000 | J32: =IF(COUNT(L32:AR32)>1,STDEV(L32:AR32),"") -> 415176.71 | K32: =IF(COUNT(L32:AR32)>1,STDEV(L32:AR32)/AVERAGE(L32:AR32),"") -> 1.1558372 | V32: 452000 | W32: 1009000 | X32: 0 | Z32: 335000 | AA32: 0
C33: Other Current Assets | D33: =IF(COUNT(L33:AR33)>0,MEDIAN(L33:AR33),"") -> 539500 | E33: =IF(COUNT(L33:AR33)>0,AVERAGE(L33:AR33),"") -> 762884.38 | F33: =IF(COUNT(L33:AR33)>0,MIN(L33:AR33),"") -> 89800 | G33: =IF(COUNT(L33:AR33)>0,MAX(L33:AR33),"") -> 2460000 | H33: =IF(COUNT(L33:AR33)>0,QUARTILE(L33:AR33,1),"") -> 375500 | I33: =IF(COUNT(L33:AR33)>0,QUARTILE(L33:AR33,3),"") -> 974750 | J33: =IF(COUNT(L33:AR33)>1,STDEV(L33:AR33),"") -> 593245.67 | K33: =IF(COUNT(L33:AR33)>1,STDEV(L33:AR33)/AVERAGE(L33:AR33),"") -> 0.7776351 | M33: 1171000 | N33: 1438000 | O33: 1335000 | P33: 789000 | Q33: 1166000 | R33: 804000 | S33: 1576000 | T33: 551000 | U33: 632000 | V33: 528000 | W33: 476000 | X33: 439000 | Y33: 403000 | Z33: 455000 | AA33: 300000 | AB33: 407000 | AC33: 481000 | AD33: 2182000 | AE33: 911000 | AF33: 1769000 | AG33: 2460000 | AH33: 864000 | AI33: 695000 | AJ33: 329000 | AK33: 391000 | AL33: 645000 | AM33: 187000 | AN33: 238000 | AO33: 244000 | AP33: 247000 | AQ33: 209500 | AR33: 89800
C34: Total Current Assets | D34: =IF(COUNT(L34:AR34)>0,MEDIAN(L34:AR34),"") -> 5112000 | E34: =IF(COUNT(L34:AR34)>0,AVERAGE(L34:AR34),"") -> 5464246.9 | F34: =IF(COUNT(L34:AR34)>0,MIN(L34:AR34),"") -> 949600 | G34: =IF(COUNT(L34:AR34)>0,MAX(L34:AR34),"") -> 15361000 | H34: =IF(COUNT(L34:AR34)>0,QUARTILE(L34:AR34,1),"") -> 1876250 | I34: =IF(COUNT(L34:AR34)>0,QUARTILE(L34:AR34,3),"") -> 7231250 | J34: =IF(COUNT(L34:AR34)>1,STDEV(L34:AR34),"") -> 3936234.9 | K34: =IF(COUNT(L34:AR34)>1,STDEV(L34:AR34)/AVERAGE(L34:AR34),"") -> 0.72036184 | M34: 13584000 | N34: 11951000 | O34: 15361000 | P34: 13490000 | Q34: 9288000 | R34: 7382000 | S34: 7408000 | T34: 6393000 | U34: 7181000 | V34: 7409000 | W34: 6795000 | X34: 6944000 | Y34: 5842000 | Z34: 5237000 | AA34: 4872000 | AB34: 5258000 | AC34: 4337000 | AD34: 5392000 | AE34: 3779000 | AF34: 4830000 | AG34: 4987000 | AH34: 2527000 | AI34: 2470000 | AJ34: 1908000 | AK34: 1602000 | AL34: 1781000 | AM34: 1373000 | AN34: 1266000 | AO34: 1101000 | AP34: 1173000 | AQ34: 985300 | AR34: 949600
C35: Non-Current Assets | D35: =IF(COUNT(L35:AR35)>0,MEDIAN(L35:AR35),"") | E35: =IF(COUNT(L35:AR35)>0,AVERAGE(L35:AR35),"") | F35: =IF(COUNT(L35:AR35)>0,MIN(L35:AR35),"") | G35: =IF(COUNT(L35:AR35)>0,MAX(L35:AR35),"") | H35: =IF(COUNT(L35:AR35)>0,QUARTILE(L35:AR35,1),"") | I35: =IF(COUNT(L35:AR35)>0,QUARTILE(L35:AR35,3),"") | J35: =IF(COUNT(L35:AR35)>1,STDEV(L35:AR35),"") | K35: =IF(COUNT(L35:AR35)>1,STDEV(L35:AR35)/AVERAGE(L35:AR35),"")
C36: Net Property, Plant and Equipment | D36: =IF(COUNT(L36:AR36)>0,MEDIAN(L36:AR36),"") | E36: =IF(COUNT(L36:AR36)>0,AVERAGE(L36:AR36),"") | F36: =IF(COUNT(L36:AR36)>0,MIN(L36:AR36),"") | G36: =IF(COUNT(L36:AR36)>0,MAX(L36:AR36),"") | H36: =IF(COUNT(L36:AR36)>0,QUARTILE(L36:AR36,1),"") | I36: =IF(COUNT(L36:AR36)>0,QUARTILE(L36:AR36,3),"") | J36: =IF(COUNT(L36:AR36)>1,STDEV(L36:AR36),"") | K36: =IF(COUNT(L36:AR36)>1,STDEV(L36:AR36)/AVERAGE(L36:AR36),"")
C37: Gross Property, Plant and Equipment | D37: =IF(COUNT(L37:AR37)>0,MEDIAN(L37:AR37),"") | E37: =IF(COUNT(L37:AR37)>0,AVERAGE(L37:AR37),"") | F37: =IF(COUNT(L37:AR37)>0,MIN(L37:AR37),"") | G37: =IF(COUNT(L37:AR37)>0,MAX(L37:AR37),"") | H37: =IF(COUNT(L37:AR37)>0,QUARTILE(L37:AR37,1),"") | I37: =IF(COUNT(L37:AR37)>0,QUARTILE(L37:AR37,3),"") | J37: =IF(COUNT(L37:AR37)>1,STDEV(L37:AR37),"") | K37: =IF(COUNT(L37:AR37)>1,STDEV(L37:AR37)/AVERAGE(L37:AR37),"")
C38: Utility Plant | D38: =IF(COUNT(L38:AR38)>0,MEDIAN(L38:AR38),"") | E38: =IF(COUNT(L38:AR38)>0,AVERAGE(L38:AR38),"") | F38: =IF(COUNT(L38:AR38)>0,MIN(L38:AR38),"") | G38: =IF(COUNT(L38:AR38)>0,MAX(L38:AR38),"") | H38: =IF(COUNT(L38:AR38)>0,QUARTILE(L38:AR38,1),"") | I38: =IF(COUNT(L38:AR38)>0,QUARTILE(L38:AR38,3),"") | J38: =IF(COUNT(L38:AR38)>1,STDEV(L38:AR38),"") | K38: =IF(COUNT(L38:AR38)>1,STDEV(L38:AR38)/AVERAGE(L38:AR38),"")
C39: Electric Utility Plant | D39: =IF(COUNT(L39:AR39)>0,MEDIAN(L39:AR39),"") -> 86886000 | E39: =IF(COUNT(L39:AR39)>0,AVERAGE(L39:AR39),"") -> 99071333 | F39: =IF(COUNT(L39:AR39)>0,MIN(L39:AR39),"") -> 52563000 | G39: =IF(COUNT(L39:AR39)>0,MAX(L39:AR39),"") -> 172155000 | H39: =IF(COUNT(L39:AR39)>0,QUARTILE(L39:AR39,1),"") -> 72360500 | I39: =IF(COUNT(L39:AR39)>0,QUARTILE(L39:AR39,3),"") -> 120376500 | J39: =IF(COUNT(L39:AR39)>1,STDEV(L39:AR39),"") -> 35981706 | K39: =IF(COUNT(L39:AR39)>1,STDEV(L39:AR39)/AVERAGE(L39:AR39),"") -> 0.36318989 | M39: 172155000 | N39: 153353000 | O39: 140613000 | P39: 126647000 | Q39: 114106000 | R39: 107464000 | S39: 97848000 | T39: 83726000 | U39: 86886000 | V39: 82281000 | W39: 74673000 | X39: 70048000 | Y39: 64758000 | Z39: 58949000 | AA39: 52563000
C40: Total Utility Plant | D40: =IF(COUNT(L40:AR40)>0,MEDIAN(L40:AR40),"") -> 86886000 | E40: =IF(COUNT(L40:AR40)>0,AVERAGE(L40:AR40),"") -> 99071333 | F40: =IF(COUNT(L40:AR40)>0,MIN(L40:AR40),"") -> 52563000 | G40: =IF(COUNT(L40:AR40)>0,MAX(L40:AR40),"") -> 172155000 | H40: =IF(COUNT(L40:AR40)>0,QUARTILE(L40:AR40,1),"") -> 72360500 | I40: =IF(COUNT(L40:AR40)>0,QUARTILE(L40:AR40,3),"") -> 120376500 | J40: =IF(COUNT(L40:AR40)>1,STDEV(L40:AR40),"") -> 35981706 | K40: =IF(COUNT(L40:AR40)>1,STDEV(L40:AR40)/AVERAGE(L40:AR40),"") -> 0.36318989 | M40: 172155000 | N40: 153353000 | O40: 140613000 | P40: 126647000 | Q40: 114106000 | R40: 107464000 | S40: 97848000 | T40: 83726000 | U40: 86886000 | V40: 82281000 | W40: 74673000 | X40: 70048000 | Y40: 64758000 | Z40: 58949000 | AA40: 52563000
C41: Construction in Progress and Advance Payments | D41: =IF(COUNT(L41:AR41)>0,MEDIAN(L41:AR41),"") -> 3716000 | E41: =IF(COUNT(L41:AR41)>0,AVERAGE(L41:AR41),"") -> 6058243.3 | F41: =IF(COUNT(L41:AR41)>0,MIN(L41:AR41),"") -> 214000 | G41: =IF(COUNT(L41:AR41)>0,MAX(L41:AR41),"") -> 24556000 | H41: =IF(COUNT(L41:AR41)>0,QUARTILE(L41:AR41,1),"") -> 1418500 | I41: =IF(COUNT(L41:AR41)>0,QUARTILE(L41:AR41,3),"") -> 7937500 | J41: =IF(COUNT(L41:AR41)>1,STDEV(L41:AR41),"") -> 6639761.8 | K41: =IF(COUNT(L41:AR41)>1,STDEV(L41:AR41)/AVERAGE(L41:AR41),"") -> 1.095988 | M41: 24556000 | N41: 21658000 | O41: 18652000 | P41: 15675000 | Q41: 14141000 | R41: 10639000 | S41: 9330000 | T41: 8357000 | U41: 6679000 | V41: 4732000 | W41: 5657000 | X41: 3591000 | Y41: 4690000 | Z41: 5968000 | AA41: 4989000 | AB41: 3841000 | AC41: 2425000 | AD41: 2630000 | AE41: 1713000 | AF41: 1393000 | AG41: 945000 | AH41: 1495000 | AI41: 1364000 | AJ41: 2639000 | AK41: 1983000 | AM41: 923000 | AN41: 214000 | AP41: 258000 | AQ41: 317700 | AR41: 292600
C42: Other Property, Plant and Equipment | D42: =IF(COUNT(L42:AR42)>0,MEDIAN(L42:AR42),"") -> 28908000 | E42: =IF(COUNT(L42:AR42)>0,AVERAGE(L42:AR42),"") -> 29171100 | F42: =IF(COUNT(L42:AR42)>0,MIN(L42:AR42),"") -> 16096900 | G42: =IF(COUNT(L42:AR42)>0,MAX(L42:AR42),"") -> 50380000 | H42: =IF(COUNT(L42:AR42)>0,QUARTILE(L42:AR42,1),"") -> 18184500 | I42: =IF(COUNT(L42:AR42)>0,QUARTILE(L42:AR42,3),"") -> 37043000 | J42: =IF(COUNT(L42:AR42)>1,STDEV(L42:AR42),"") -> 11792795 | K42: =IF(COUNT(L42:AR42)>1,STDEV(L42:AR42)/AVERAGE(L42:AR42),"") -> 0.40426294 | AB42: 50380000 | AC42: 47744000 | AD42: 42898000 | AE42: 39327000 | AF42: 34759000 | AG42: 32406000 | AH42: 30225000 | AI42: 28908000 | AJ42: 23866000 | AK42: 21405000 | AM42: 18631000 | AN42: 17738000 | AP42: 16775000 | AQ42: 16407600 | AR42: 16096900
C43: Total Gross Property, Plant and Equipment | D43: =IF(COUNT(L43:AR43)>0,MEDIAN(L43:AR43),"") -> 52195000 | E43: =IF(COUNT(L43:AR43)>0,AVERAGE(L43:AR43),"") -> 67007056 | F43: =IF(COUNT(L43:AR43)>0,MIN(L43:AR43),"") -> 16389500 | G43: =IF(COUNT(L43:AR43)>0,MAX(L43:AR43),"") -> 196711000 | H43: =IF(COUNT(L43:AR43)>0,QUARTILE(L43:AR43,1),"") -> 25725750 | I43: =IF(COUNT(L43:AR43)>0,QUARTILE(L43:AR43,3),"") -> 92453500 | J43: =IF(COUNT(L43:AR43)>1,STDEV(L43:AR43),"") -> 50573264 | K43: =IF(COUNT(L43:AR43)>1,STDEV(L43:AR43)/AVERAGE(L43:AR43),"") -> 0.75474534 | M43: 196711000 | N43: 175011000 | O43: 159265000 | P43: 142322000 | Q43: 128247000 | R43: 118103000 | S43: 107178000 | T43: 92083000 | U43: 93565000 | V43: 87013000 | W43: 80330000 | X43: 73639000 | Y43: 69448000 | Z43: 64917000 | AA43: 57552000 | AB43: 54221000 | AC43: 50169000 | AD43: 45528000 | AE43: 41040000 | AF43: 36152000 | AG43: 33351000 | AH43: 31720000 | AI43: 30272000 | AJ43: 26505000 | AK43: 23388000 | AL43: 21022000 | AM43: 19554000 | AN43: 17952000 | AO43: 17820000 | AP43: 17033000 | AQ43: 16725300 | AR43: 16389500
C44: Accumulated Depreciation and Impairment | D44: =IF(COUNT(L44:AR44)>0,MEDIAN(L44:AR44),"") | E44: =IF(COUNT(L44:AR44)>0,AVERAGE(L44:AR44),"") | F44: =IF(COUNT(L44:AR44)>0,MIN(L44:AR44),"") | G44: =IF(COUNT(L44:AR44)>0,MAX(L44:AR44),"") | H44: =IF(COUNT(L44:AR44)>0,QUARTILE(L44:AR44,1),"") | I44: =IF(COUNT(L44:AR44)>0,QUARTILE(L44:AR44,3),"") | J44: =IF(COUNT(L44:AR44)>1,STDEV(L44:AR44),"") | K44: =IF(COUNT(L44:AR44)>1,STDEV(L44:AR44)/AVERAGE(L44:AR44),"")
...

Sheet PitchBook_CF
C3: Cash Flow (Fiscal Year)
C4: Downloaded On: 19-Mar-2026 | D4: Summary Stats
C5: Company: NextEra Energy (NYS: NEE) | D5: Median | E5: Mean | F5: Min | G5: Max | H5: 25th pctile | I5: 75th pctile | J5: Std. Dev | K5: Coefficient of Variation | M5: FY 2025 | N5: FY 2024 | O5: FY 2023 | P5: FY 2022 | Q5: FY 2021 | R5: FY 2020 | S5: FY 2019 | T5: FY 2018 | U5: FY 2017 | V5: FY 2016 | W5: FY 2015 | X5: FY 2014 | Y5: FY 2013 | Z5: FY 2012 | AA5: FY 2011 | AB5: FY 2010 | AC5: FY 2009 | AD5: FY 2008 | AE5: FY 2007 | AF5: FY 2006 | AG5: FY 2005 | AH5: FY 2004 | AI5: FY 2003 | AJ5: FY 2002 | AK5: FY 2001 | AL5: FY 2000 | AM5: FY 1999 | AN5: FY 1998 | AO5: FY 1997 | AP5: FY 1996 | AQ5: FY 1995 | AR5: FY 1994
C7: Amounts in Thousands, USD (except Ratios, Multiples & per share items)
M9: Filed: 13-Feb-2026 | N9: Filed: 13-Feb-2026 | O9: Filed: 13-Feb-2026 | P9: Filed: 14-Feb-2025 | Q9: Filed: 16-Feb-2024 | R9: Filed: 18-Feb-2022 | S9: Filed: 18-Feb-2022 | T9: Filed: 12-Feb-2021 | U9: Filed: 14-Feb-2020 | V9: Filed: 15-Feb-2019 | W9: Filed: 16-Feb-2018 | X9: Filed: 23-Feb-2017 | Y9: Filed: 22-Feb-2016 | Z9: Filed: 31-Dec-2012 | AA9: Filed: 31-Dec-2011 | AB9: Filed: 31-Dec-2010 | AC9: Filed: 31-Dec-2009 | AD9: Filed: 31-Dec-2008 | AE9: Filed: 31-Dec-2007 | AF9: Filed: 31-Dec-2006 | AG9: Filed: 31-Dec-2005 | AH9: Filed: 31-Dec-2004 | AI9: Filed: 31-Dec-2003 | AJ9: Filed: 31-Dec-2002 | AK9: Filed: 31-Dec-2001 | AL9: Filed: 31-Dec-2000 | AM9: Filed: 31-Dec-1999 | AN9: Filed: 31-Dec-1998 | AO9: Filed: 31-Dec-1997 | AP9: Filed: 31-Dec-1996 | AQ9: Filed: 31-Dec-1995 | AR9: Filed: 31-Dec-1994
M10: View 10-K | N10: View 10-K | O10: View 10-K | P10: View 10-K | Q10: View 10-K | R10: View 10-K | S10: View 10-K | T10: View 10-K | U10: View 10-K | V10: View 10-K | W10: View 10-K | X10: View 10-K | Y10: View 10-K | Z10: View 10-K | AA10: View 10-K | AB10: View 10-K | AC10: View 10-K | AD10: View 10-K
C11: Cash Flow from Operating Activities, Indirect | D11: =IF(COUNT(L11:AR11)>0,MEDIAN(L11:AR11),"") | E11: =IF(COUNT(L11:AR11)>0,AVERAGE(L11:AR11),"") | F11: =IF(COUNT(L11:AR11)>0,MIN(L11:AR11),"") | G11: =IF(COUNT(L11:AR11)>0,MAX(L11:AR11),"") | H11: =IF(COUNT(L11:AR11)>0,QUARTILE(L11:AR11,1),"") | I11: =IF(COUNT(L11:AR11)>0,QUARTILE(L11:AR11,3),"") | J11: =IF(COUNT(L11:AR11)>1,STDEV(L11:AR11),"") | K11: =IF(COUNT(L11:AR11)>1,STDEV(L11:AR11)/AVERAGE(L11:AR11),"")
C12: Net Cash Flow from Continuing Operating Activities, Indirect | D12: =IF(COUNT(L12:AR12)>0,MEDIAN(L12:AR12),"") | E12: =IF(COUNT(L12:AR12)>0,AVERAGE(L12:AR12),"") | F12: =IF(COUNT(L12:AR12)>0,MIN(L12:AR12),"") | G12: =IF(COUNT(L12:AR12)>0,MAX(L12:AR12),"") | H12: =IF(COUNT(L12:AR12)>0,QUARTILE(L12:AR12,1),"") | I12: =IF(COUNT(L12:AR12)>0,QUARTILE(L12:AR12,3),"") | J12: =IF(COUNT(L12:AR12)>1,STDEV(L12:AR12),"") | K12: =IF(COUNT(L12:AR12)>1,STDEV(L12:AR12)/AVERAGE(L12:AR12),"")
C13: Cash Generated from Operating Activities | D13: =IF(COUNT(L13:AR13)>0,MEDIAN(L13:AR13),"") | E13: =IF(COUNT(L13:AR13)>0,AVERAGE(L13:AR13),"") | F13: =IF(COUNT(L13:AR13)>0,MIN(L13:AR13),"") | G13: =IF(COUNT(L13:AR13)>0,MAX(L13:AR13),"") | H13: =IF(COUNT(L13:AR13)>0,QUARTILE(L13:AR13,1),"") | I13: =IF(COUNT(L13:AR13)>0,QUARTILE(L13:AR13,3),"") | J13: =IF(COUNT(L13:AR13)>1,STDEV(L13:AR13),"") | K13: =IF(COUNT(L13:AR13)>1,STDEV(L13:AR13)/AVERAGE(L13:AR13),"")
C14: Income/(Loss) before Non-Cash Adjustment | D14: =IF(COUNT(L14:AR14)>0,MEDIAN(L14:AR14),"") -> 1658000 | E14: =IF(COUNT(L14:AR14)>0,AVERAGE(L14:AR14),"") -> 2189115.6 | F14: =IF(COUNT(L14:AR14)>0,MIN(L14:AR14),"") -> 473000 | G14: =IF(COUNT(L14:AR14)>0,MAX(L14:AR14),"") -> 6282000 | H14: =IF(COUNT(L14:AR14)>0,QUARTILE(L14:AR14,1),"") -> 761750 | I14: =IF(COUNT(L14:AR14)>0,QUARTILE(L14:AR14,3),"") -> 2870000 | J14: =IF(COUNT(L14:AR14)>1,STDEV(L14:AR14),"") -> 1756384.9 | K14: =IF(COUNT(L14:AR14)>1,STDEV(L14:AR14)/AVERAGE(L14:AR14),"") -> 0.80232624 | M14: 5332000 | N14: 5698000 | O14: 6282000 | P14: 3246000 | Q14: 2827000 | R14: 2369000 | S14: 3388000 | T14: 5776000 | U14: 5323000 | V14: 2999000 | W14: 2762000 | X14: 2469000 | Y14: 1677000 | Z14: 1911000 | AA14: 1923000 | AB14: 1957000 | AC14: 1615000 | AD14: 1639000 | AE14: 1312000 | AF14: 1281000 | AG14: 901000 | AH14: 887000 | AI14: 890000 | AJ14: 473000 | AK14: 781000 | AL14: 704000 | AM14: 697000 | AN14: 664000 | AO14: 618000 | AP14: 579000 | AQ14: 553000 | AR14: 518700
C15: Adjustments for Non-Cash Items | D15: =IF(COUNT(L15:AR15)>0,MEDIAN(L15:AR15),"") | E15: =IF(COUNT(L15:AR15)>0,AVERAGE(L15:AR15),"") | F15: =IF(COUNT(L15:AR15)>0,MIN(L15:AR15),"") | G15: =IF(COUNT(L15:AR15)>0,MAX(L15:AR15),"") | H15: =IF(COUNT(L15:AR15)>0,QUARTILE(L15:AR15,1),"") | I15: =IF(COUNT(L15:AR15)>0,QUARTILE(L15:AR15,3),"") | J15: =IF(COUNT(L15:AR15)>1,STDEV(L15:AR15),"") | K15: =IF(COUNT(L15:AR15)>1,STDEV(L15:AR15)/AVERAGE(L15:AR15),"")
C16: Depreciation, Amortization and Depletion, Non-Cash Adjustment | D16: =IF(COUNT(L16:AR16)>0,MEDIAN(L16:AR16),"") | E16: =IF(COUNT(L16:AR16)>0,AVERAGE(L16:AR16),"") | F16: =IF(COUNT(L16:AR16)>0,MIN(L16:AR16),"") | G16: =IF(COUNT(L16:AR16)>0,MAX(L16:AR16),"") | H16: =IF(COUNT(L16:AR16)>0,QUARTILE(L16:AR16,1),"") | I16: =IF(COUNT(L16:AR16)>0,QUARTILE(L16:AR16,3),"") | J16: =IF(COUNT(L16:AR16)>1,STDEV(L16:AR16),"") | K16: =IF(COUNT(L16:AR16)>1,STDEV(L16:AR16)/AVERAGE(L16:AR16),"")
