Workbook
Name cost: 'Operating Budgets'!#REF!
Name hours: 'Operating Budgets'!$C$37:$F$37
Name minimum: Assumptions!#REF!
Name price: 'Operating Budgets'!$C$12:$F$12
Name rate: Assumptions!#REF!
Name sales: 'Operating Budgets'!$C$18:$F$18
Name units: 'Operating Budgets'!$C$11:$F$11

Sheet Assumptions
B1: Wicked Smart Concrete Group
B2: Master Budget
B3: Input Section
B6: Sales Budget
B7: Expected unit sales in Year 1 | C7: ='Operating Budgets'!C18 -> 891000
B8: Expected unit sales in Year 2 | C8: ='Operating Budgets'!D18 -> 908820
B9: Expected unit sales in Year 3 | C9: ='Operating Budgets'!E18 -> 926996.4
B10: Expected unit sales in Year 4 | C10: ='Operating Budgets'!F18 -> 945536.33
B11: Expected unit sales in Year 5 | C11: ='Operating Budgets'!G18 -> 964447.05
B12: Selling price | C12: 180
B13: % conservative increase of selling price to inflation | C13: 0.02
B15: Direct Materials Budget
B16: Cement & Aggregates Cost | C16: 85 | D16: per cubic meter
B17: % conservative increase of Cement & Aggregates Cost to inflation | C17: 0.02
B18: Chemical Additives Cost | C18: 14.6 | D18: per cubic meter
B19: % conservative increase of Chemical Additives Cost to inflation | C19: 0.02
B20: Electricity (Fuel) Cost | C20: 0.6 | D20: per cubic meter
B21: % conservative increase of Electricity (Fuel) Cost to inflation | C21: 0.02
B22: Total Direct Material Cost | C22: =SUM(C16,C18,C20) -> 100.2 | D22: per cubic meter
B23: Beginning material inventory | C23: 0 | D23: *none because concrete is used during the day of
B25: Direct Labor Budget
B26: Shuttle Driver hourly rate | C26: 20.186 | D26: per hour
B27: Micro-Mixer Hourly rate | C27: 22.39 | D27: per hour
B28: % conservative increase of Salary Spending due to CCNL wage indexing | C28: 0.02
B29: Electric Micro-Mixers ( X m³ output capacity, cement poured) | C29: =22.5/8 -> 2.8125 | D29: per hour
B31: Manufacturing Overhead Budget
B32: Variable Overhead
B33: Tires & Suspension | C33: 0.73 | D33: per cubic meter
B34: Fixed Overhead
B35: Insurance (ZTL/Risk) | C35: 7500 | D35: per year
B36: Charging Infra Depreciation | C36: 3000 | D36: per year
B37: Fleet Depreciation | C37: 75000 | D37: per year
B39: Selling and Administrative Expense Budget
B40: Fixed SG&A
B41: Zona a Traffico Limitato (Limited Traffic Zone) Permit | C41: 10000 | D41: per year
B43: Income Statement Budget
B44: Income Tax | C44: 0.279 | D44: *Unibeton Balance Sheet
B46: Cash Budget
B47: Tax Credit Inflow (50% of €234k) | C47: 234000
B48: Capital Expenditure
...

Sheet Operating Budgets
B1: Wicked Smart Concrete Group
B2: Operating Budgets
B3: For the next 5 years
B7: Sales Budget
C9: Year 1 | D9: Year 2 | E9: Year 3 | F9: Year 4 | G9: Year 5
B11: Trucks | C11: 3 | D11: 3 | E11: 3 | F11: 3 | G11: 3
B12: Trips per day | C12: 3 | D12: 3 | E12: 3 | F12: 3 | G12: 3
B13: Electric Micro-Mixers ( X m³ output capacity) | C13: =2.5 -> 2.5 | D13: =2.5 -> 2.5 | E13: =2.5 -> 2.5 | F13: =2.5 -> 2.5 | G13: =2.5 -> 2.5
B14: Days of work | C14: 220 | D14: 220 | E14: 220 | F14: 220 | G14: 220
B15: Output Capacity (in cubic meter) | C15: =C11*C12*C13*C14 -> 4950 | D15: =D11*D12*D13*D14 -> 4950 | E15: =E11*E12*E13*E14 -> 4950 | F15: =F11*F12*F13*F14 -> 4950 | G15: =G11*G12*G13*G14 -> 4950
B16: Premium Service Rate | C16: =Assumptions!C12 -> 180 | D16: =C16*(1+Assumptions!$C$13) -> 183.6 | E16: =D16*(1+Assumptions!$C$13) -> 187.272 | F16: =E16*(1+Assumptions!$C$13) -> 191.01744 | G16: =F16*(1+Assumptions!$C$13) -> 194.83779
B18: Total Sales | C18: =C15*C16 -> 891000 | D18: =D15*D16 -> 908820 | E18: =E15*E16 -> 926996.4 | F18: =F15*F16 -> 945536.33 | G18: =G15*G16 -> 964447.05
B21: Direct Materials Budget
C23: Year 1 | D23: Year 2 | E23: Year 3 | F23: Year 4 | G23: Year 5
B25: Output Capacity (in cubic meter) | C25: =C15 -> 4950 | D25: =D15 -> 4950 | E25: =E15 -> 4950 | F25: =F15 -> 4950 | G25: =G15 -> 4950
B26: Cement & Aggregates Cost | C26: =C25*Assumptions!$C$16 -> 420750 | D26: =C26*(1+Assumptions!$C$13) -> 429165 | E26: =D26*(1+Assumptions!$C$13) -> 437748.3 | F26: =E26*(1+Assumptions!$C$13) -> 446503.27 | G26: =F26*(1+Assumptions!$C$13) -> 455433.33
B27: Chemical Additives Cost | C27: =C25*Assumptions!$C$18 -> 72270 | D27: =C27*(1+Assumptions!$C$13) -> 73715.4 | E27: =D27*(1+Assumptions!$C$13) -> 75189.708 | F27: =E27*(1+Assumptions!$C$13) -> 76693.502 | G27: =F27*(1+Assumptions!$C$13) -> 78227.372
B28: Electricity (Fuel) Cost | C28: =C25*Assumptions!$C$20 -> 2970 | D28: =C28*(1+Assumptions!$C$13) -> 3029.4 | E28: =D28*(1+Assumptions!$C$13) -> 3089.988 | F28: =E28*(1+Assumptions!$C$13) -> 3151.7878 | G28: =F28*(1+Assumptions!$C$13) -> 3214.8235
B29: Total cost of raw materials purchases | C29: =SUM(C26:C28) -> 495990 | D29: =SUM(D26:D28) -> 505909.8 | E29: =SUM(E26:E28) -> 516028 | F29: =SUM(F26:F28) -> 526348.56 | G29: =SUM(G26:G28) -> 536875.53
B31: Direct Labor Budget
C33: Year 1 | D33: Year 2 | E33: Year 3 | F33: Year 4 | G33: Year 5
B35: 1 Shuttle Driver (to transport the micro-Mixer) per hour | C35: ='Operating Budgets'!C37*Assumptions!$C$26 -> 41986.88 | D35: =C35*(1+Assumptions!$C$13) -> 42826.618 | E35: =D35*(1+Assumptions!$C$13) -> 43683.15 | F35: =E35*(1+Assumptions!$C$13) -> 44556.813 | G35: =F35*(1+Assumptions!$C$13) -> 45447.949
B36: 3 Micro-Mixer Driver | C36: =C37*Assumptions!$C$27*3 -> 139713.6 | D36: =C36*(1+Assumptions!$C$13) -> 142507.87 | E36: =D36*(1+Assumptions!$C$13) -> 145358.03 | F36: =E36*(1+Assumptions!$C$13) -> 148265.19 | G36: =F36*(1+Assumptions!$C$13) -> 151230.49
B37: Total direct labor hours required (40h per week*52 weeks) | C37: =40*52 -> 2080 | D37: =40*52 -> 2080 | E37: =40*52 -> 2080 | F37: =40*52 -> 2080 | G37: =40*52 -> 2080
B38: Total direct labor cost | C38: =SUM(C35:C36) -> 181700.48 | D38: =SUM(D35:D36) -> 185334.49 | E38: =SUM(E35:E36) -> 189041.18 | F38: =SUM(F35:F36) -> 192822 | G38: =SUM(G35:G36) -> 196678.44
B43: Manufacturing Overhead Budget
C45: Year 1 | D45: Year 2 | E45: Year 3 | F45: Year 4 | G45: Year 5
B47: Output Capacity (in cubic meter) | C47: =C25 -> 4950 | D47: =D25 -> 4950 | E47: =E25 -> 4950 | F47: =F25 -> 4950 | G47: =G25 -> 4950
B48: Variable Costs
B49: Tires and Suspension | C49: =Assumptions!$C$33*'Operating Budgets'!C47 -> 3613.5 | D49: =C49*(1+Assumptions!$C$13) -> 3685.77 | E49: =D49*(1+Assumptions!$C$13) -> 3759.4854 | F49: =E49*(1+Assumptions!$C$13) -> 3834.6751 | G49: =F49*(1+Assumptions!$C$13) -> 3911.3686
B50: Variable manufacturing overhead cost | C50: =C49 -> 3613.5 | D50: =D49 -> 3685.77 | E50: =E49 -> 3759.4854 | F50: =F49 -> 3834.6751 | G50: =G49 -> 3911.3686
B51: Fixed Costs
B52: Insurance/Infrastructure (ZTL/Risk) | C52: =Assumptions!$C$35 -> 7500 | D52: =Assumptions!$C$35 -> 7500 | E52: =Assumptions!$C$35 -> 7500 | F52: =Assumptions!$C$35 -> 7500 | G52: =Assumptions!$C$35 -> 7500
B53: Charging Infrastructure (Electric Powertrain Kit) Depreciation | C53: =Assumptions!$C$36 -> 3000 | D53: =Assumptions!$C$36 -> 3000 | E53: =Assumptions!$C$36 -> 3000 | F53: =Assumptions!$C$36 -> 3000 | G53: =Assumptions!$C$36 -> 3000
B54: Fleet Depreciation | C54: =Assumptions!$C$37 -> 75000 | D54: =Assumptions!$C$37 -> 75000 | E54: =Assumptions!$C$37 -> 75000 | F54: =Assumptions!$C$37 -> 75000 | G54: =Assumptions!$C$37 -> 75000
B55: Total Manufacturing Overhead | C55: =SUM(C50,C52:C54) -> 89113.5 | D55: =SUM(D50,D52:D54) -> 89185.77 | E55: =SUM(E50,E52:E54) -> 89259.485 | F55: =SUM(F50,F52:F54) -> 89334.675 | G55: =SUM(G50,G52:G54) -> 89411.369
B56: Less Depreciation (non-cash disbursement) | C56: =SUM(C53:C54) -> 78000 | D56: =SUM(D53:D54) -> 78000 | E56: =SUM(E53:E54) -> 78000 | F56: =SUM(F53:F54) -> 78000 | G56: =SUM(G53:G54) -> 78000
B57: Cash disbursement for manufacturing overhead | C57: =C55-C56 -> 11113.5 | D57: =D55-D56 -> 11185.77 | E57: =E55-E56 -> 11259.485 | F57: =F55-F56 -> 11334.675 | G57: =G55-G56 -> 11411.369
B59: Total Manufacturing Overhead for Year 1 | G59: =G56+G57 -> 89411.369
B60: Total direct labor hours required | G60: =G37 -> 2080
...

Sheet Financial Budgets
B1: Wicked Smart Concrete Group
B2: Financial Budgets
B3: ='Operating Budgets'!B3:F3 -> For the next 5 years
B6: Cash Budget
C8: Year 1 | D8: Year 2 | E8: Year 3 | F8: Year 4 | G8: Year 5
B10: Beginning cash balance | C10: 0 | D10: =C26 -> -112664.67 | E10: =D28 -> 167694.48 | F10: =E28 -> 334137.92 | G10: =F28 -> 503727.34
B12: Add: Receipts
B13: Collections from customers | C13: ='Operating Budgets'!C18 -> 891000 | D13: ='Operating Budgets'!D18 -> 908820 | E13: ='Operating Budgets'!E18 -> 926996.4 | F13: ='Operating Budgets'!F18 -> 945536.33 | G13: ='Operating Budgets'!G18 -> 964447.05
B14: Tax Credit Inflow (50% of €234k) | C14: 117000 | D14: 117000
B15: Total cash available | C15: =SUM(C13:C14) -> 1008000 | D15: =SUM(D13:D14) -> 1025820 | E15: =SUM(E13:E14) -> 926996.4 | F15: =SUM(F13:F14) -> 945536.33 | G15: =SUM(G13:G14) -> 964447.05
B17: Cash Outflows
B18: Direct Materials (Var) | C18: =-'Operating Budgets'!C29 -> -495990 | D18: =-'Operating Budgets'!D29 -> -505909.8 | E18: =-'Operating Budgets'!E29 -> -516028 | F18: =-'Operating Budgets'!F29 -> -526348.56 | G18: =-'Operating Budgets'!G29 -> -536875.53
B19: Direct Labor (Fixed) | C19: =-'Operating Budgets'!C38 -> -181700.48 | D19: =-'Operating Budgets'!D38 -> -185334.49 | E19: =-'Operating Budgets'!E38 -> -189041.18 | F19: =-'Operating Budgets'!F38 -> -192822 | G19: =-'Operating Budgets'!G38 -> -196678.44
B20: Cash paid for Manufacturing overhead | C20: =-'Operating Budgets'!C57 -> -11113.5 | D20: =-'Operating Budgets'!D57 -> -11185.77 | E20: =-'Operating Budgets'!E57 -> -11259.485 | F20: =-'Operating Budgets'!F57 -> -11334.675 | G20: =-'Operating Budgets'!G57 -> -11411.369
B21: Cash paid for S&A expenses | C21: =-'Operating Budgets'!C88 -> -10000 | D21: =-'Operating Budgets'!D88 -> -10000 | E21: =-'Operating Budgets'!E88 -> -10000 | F21: =-'Operating Budgets'!F88 -> -10000 | G21: =-'Operating Budgets'!G88 -> -10000
B22: Income Taxes Paid | C22: ='Operating Budgets'!C115 -> -31860.69 | D22: ='Operating Budgets'!D115 -> -33030.793 | E22: ='Operating Budgets'!E115 -> -34224.299 | F22: ='Operating Budgets'!F115 -> -35441.675 | G22: ='Operating Budgets'!G115 -> -36683.399
B23: Capital Expenditures (Fleet) | C23: -390000
B24: Total disbursements | C24: =SUM(C18:C23) -> -1120664.7 | D24: =SUM(D18:D23) -> -745460.85 | E24: =SUM(E18:E23) -> -760552.96 | F24: =SUM(F18:F23) -> -775946.91 | G24: =SUM(G18:G23) -> -791648.74
B26: Excess (deficiency) of receipts over disbursement | C26: =SUM(C15,C24) -> -112664.67 | D26: =SUM(D15,D24) -> 280359.15 | E26: =SUM(E15,E24) -> 166443.44 | F26: =SUM(F15,F24) -> 169589.42 | G26: =SUM(G15,G24) -> 172798.32
B28: Ending Cash Balance | C28: =C26 -> -112664.67 | D28: =SUM(D10,D26) -> 167694.48 | E28: =SUM(E10,E26) -> 334137.92 | F28: =SUM(F10,F26) -> 503727.34 | G28: =SUM(G10,G26) -> 676525.65
B30: Budgeted Balance Sheet
C32: Year 1 | D32: Year 2 | E32: Year 3 | F32: Year 4 | G32: Year 5
B34: Assets
B36: Cash | C36: =C28 -> -112664.67 | D36: =D28 -> 167694.48 | E36: =E28 -> 334137.92 | F36: =F28 -> 503727.34 | G36: =G28 -> 676525.65
B37: Total current assets | C37: =C36 -> -112664.67 | D37: =D36 -> 167694.48 | E37: =E36 -> 334137.92 | F37: =F36 -> 503727.34 | G37: =G36 -> 676525.65
B39: Gross Plant & Equipment | C39: 390000 | D39: 390000 | E39: 390000 | F39: 390000 | G39: 390000
B40: Less: Accumulated depreciation | C40: =-78000 -> -78000 | D40: =C40-78000 -> -156000 | E40: =D40-78000 -> -234000 | F40: =E40-78000 -> -312000 | G40: =F40-78000 -> -390000
B41: Net Plant & Equipment | C41: =SUM(C39:C40) -> 312000 | D41: =SUM(D39:D40) -> 234000 | E41: =SUM(E39:E40) -> 156000 | F41: =SUM(F39:F40) -> 78000 | G41: =SUM(G39:G40) -> 0
B43: Total assets | C43: =SUM(C37,C41) -> 199335.33 | D43: =SUM(D37,D41) -> 401694.48 | E43: =SUM(E37,E41) -> 490137.92 | F43: =SUM(F37,F41) -> 581727.34 | G43: =SUM(G37,G41) -> 676525.65
J44: a
B45: Liabilities and Stockholders' Equity
B47: Total liabilities and stockholders' equity | C47: =0 -> 0 | D47: =0 -> 0 | E47: =0 -> 0 | F47: =0 -> 0 | G47: =0 -> 0
B49: Deferred Income (Risconti Passivi) | C49: =390000*0.3 -> 117000 | D49: =390000*0.6 -> 234000 | E49: =390000*0.6 -> 234000 | F49: =390000*0.6 -> 234000 | G49: =390000*0.6 -> 234000
B50: Retained earnings (Cumulative) year end | C50: ='Operating Budgets'!C117 -> 82335.33 | D50: =SUM('Operating Budgets'!C117:D117) -> 167694.48 | E50: =SUM('Operating Budgets'!C117:E117) -> 256137.92 | F50: =SUM('Operating Budgets'!C117:F117) -> 347727.34 | G50: =SUM('Operating Budgets'!C117:G117) -> 442525.65
B51: Total liabilities and stockholders' equity | C51: =SUM(C47,C49:C50) -> 199335.33 | D51: =SUM(D47,D49:D50) -> 401694.48 | E51: =SUM(E47,E49:E50) -> 490137.92 | F51: =SUM(F47,F49:F50) -> 581727.34 | G51: =SUM(G47,G49:G50) -> 676525.65

Sheet NPV
B1: Wicked Smart Concrete Group
B2: Net Present Value
B3: Budgeted Income Statement
C6: Year 0 | D6: Year 1 | E6: Year 2 | F6: Year 3 | G6: Year 4 | H6: Year 5
B8: Fixed Capital Investment | C8: =Assumptions!C49 -> 390000
B9: Sales Volume in cubic meters | D9: ='Operating Budgets'!C98 -> 4950 | E9: ='Operating Budgets'!D98 -> 4950 | F9: ='Operating Budgets'!E98 -> 4950 | G9: ='Operating Budgets'!F98 -> 4950 | H9: ='Operating Budgets'!G98 -> 4950
B10: Unit Price | D10: ='Operating Budgets'!C99 -> 180 | E10: ='Operating Budgets'!D99 -> 183.6 | F10: ='Operating Budgets'!E99 -> 187.272 | G10: ='Operating Budgets'!F99 -> 191.01744 | H10: ='Operating Budgets'!G99 -> 194.83779
B11: Sales Revenue | D11: ='Operating Budgets'!C100 -> 891000 | E11: ='Operating Budgets'!D100 -> 908820 | F11: ='Operating Budgets'!E100 -> 926996.4 | G11: ='Operating Budgets'!F100 -> 945536.33 | H11: ='Operating Budgets'!G100 -> 964447.05
B12: Variable Cost of Goods | D12: ='Operating Budgets'!C101 -> 0 | E12: ='Operating Budgets'!D101 -> 0 | F12: ='Operating Budgets'!E101 -> 0 | G12: ='Operating Budgets'!F101 -> 0 | H12: ='Operating Budgets'!G101 -> 0
B13: Direct Materials & Energy | D13: ='Operating Budgets'!C102 -> -495990 | E13: ='Operating Budgets'!D102 -> -505909.8 | F13: ='Operating Budgets'!E102 -> -516028 | G13: ='Operating Budgets'!F102 -> -526348.56 | H13: ='Operating Budgets'!G102 -> -536875.53
B14: Variable MOH (Tires) | D14: ='Operating Budgets'!C103 -> -3613.5 | E14: ='Operating Budgets'!D103 -> -3685.77 | F14: ='Operating Budgets'!E103 -> -3759.4854 | G14: ='Operating Budgets'!F103 -> -3834.6751 | H14: ='Operating Budgets'!G103 -> -3911.3686
B15: Fixed Cost of Goods | D15: ='Operating Budgets'!C104 -> 0 | E15: ='Operating Budgets'!D104 -> 0 | F15: ='Operating Budgets'!E104 -> 0 | G15: ='Operating Budgets'!F104 -> 0 | H15: ='Operating Budgets'!G104 -> 0
B16: Direct Labor | D16: ='Operating Budgets'!C105 -> -181700.48 | E16: ='Operating Budgets'!D105 -> -185334.49 | F16: ='Operating Budgets'!E105 -> -189041.18 | G16: ='Operating Budgets'!F105 -> -192822 | H16: ='Operating Budgets'!G105 -> -196678.44
B17: Fixed MOH (Insurance/Infrastructure) | D17: ='Operating Budgets'!C106 -> -7500 | E17: ='Operating Budgets'!D106 -> -7500 | F17: ='Operating Budgets'!E106 -> -7500 | G17: ='Operating Budgets'!F106 -> -7500 | H17: ='Operating Budgets'!G106 -> -7500
B18: Depreciation | D18: ='Operating Budgets'!C107 -> -78000 | E18: ='Operating Budgets'!D107 -> -78000 | F18: ='Operating Budgets'!E107 -> -78000 | G18: ='Operating Budgets'!F107 -> -78000 | H18: ='Operating Budgets'!G107 -> -78000
B19: Total COGS | D19: ='Operating Budgets'!C108 -> -766803.98 | E19: ='Operating Budgets'!D108 -> -780430.06 | F19: ='Operating Budgets'!E108 -> -794328.66 | G19: ='Operating Budgets'!F108 -> -808505.23 | H19: ='Operating Budgets'!G108 -> -822965.34
D20: ='Operating Budgets'!C109 -> 0 | E20: ='Operating Budgets'!D109 -> 0 | F20: ='Operating Budgets'!E109 -> 0 | G20: ='Operating Budgets'!F109 -> 0 | H20: ='Operating Budgets'!G109 -> 0
B21: Gross Margin | D21: ='Operating Budgets'!C110 -> 124196.02 | E21: ='Operating Budgets'!D110 -> 128389.94 | F21: ='Operating Budgets'!E110 -> 132667.74 | G21: ='Operating Budgets'!F110 -> 137031.09 | H21: ='Operating Budgets'!G110 -> 141481.72
B22: SG&A Expenses | D22: ='Operating Budgets'!C111 -> 0 | E22: ='Operating Budgets'!D111 -> 0 | F22: ='Operating Budgets'!E111 -> 0 | G22: ='Operating Budgets'!F111 -> 0 | H22: ='Operating Budgets'!G111 -> 0
B23: Zona a Traffico Limitato (Limited Traffic Zone) Permit | D23: ='Operating Budgets'!C112 -> -10000 | E23: ='Operating Budgets'!D112 -> -10000 | F23: ='Operating Budgets'!E112 -> -10000 | G23: ='Operating Budgets'!F112 -> -10000 | H23: ='Operating Budgets'!G112 -> -10000
D24: ='Operating Budgets'!C113 -> 0 | E24: ='Operating Budgets'!D113 -> 0 | F24: ='Operating Budgets'!E113 -> 0 | G24: ='Operating Budgets'!F113 -> 0 | H24: ='Operating Budgets'!G113 -> 0
B25: Operating Income (EBIT) | D25: ='Operating Budgets'!C114 -> 114196.02 | E25: ='Operating Budgets'!D114 -> 118389.94 | F25: ='Operating Budgets'!E114 -> 122667.74 | G25: ='Operating Budgets'!F114 -> 127031.09 | H25: ='Operating Budgets'!G114 -> 131481.72
B26: Income Tax (27.9%) | D26: ='Operating Budgets'!C115 -> -31860.69 | E26: ='Operating Budgets'!D115 -> -33030.793 | F26: ='Operating Budgets'!E115 -> -34224.299 | G26: ='Operating Budgets'!F115 -> -35441.675 | H26: ='Operating Budgets'!G115 -> -36683.399
D27: ='Operating Budgets'!C116 -> 0 | E27: ='Operating Budgets'!D116 -> 0 | F27: ='Operating Budgets'!E116 -> 0 | G27: ='Operating Budgets'!F116 -> 0 | H27: ='Operating Budgets'!G116 -> 0
B28: Net Income | D28: ='Operating Budgets'!C117 -> 82335.33 | E28: ='Operating Budgets'!D117 -> 85359.147 | F28: ='Operating Budgets'!E117 -> 88443.44 | G28: ='Operating Budgets'!F117 -> 91589.419 | H28: ='Operating Budgets'!G117 -> 94798.317
B30: FCFF is calculated using the formula given below
B31: FCFF = EBIT (1-t) + Depreciation & Amortization - Fixed Capital Investment - Working Capital Investment
C33: Year 0 | D33: Year 1 | E33: Year 2 | F33: Year 3 | G33: Year 4 | H33: Year 5
B34: FCFF | C34: =-C8 -> -390000 | D34: =D28-D18 -> 160335.33 | E34: =E28-E18 -> 163359.15 | F34: =F28-F18 -> 166443.44 | G34: =G28-G18 -> 169589.42 | H34: =H28-H18 -> 172798.32
B36: Economic Growth Rate (g) | C36: =Assumptions!C13 -> 0.02
B37: WACC | C37: =Assumptions!C61 -> 0.085
B40: Salvage Value (25% of fleet value of 390000) at end of year 5 | C40: =0.25*C8 -> 97500
B42: Discounted Terminal Value is calculated as
C43: =1 -> 1 | D43: =C43+1 -> 2 | E43: =D43+1 -> 3 | F43: =E43+1 -> 4 | G43: =F43+1 -> 5
C44: Year 1 | D44: Year 2 | E44: Year 3 | F44: Year 4 | G44: Year 5
B45: Discounted Terminal Value | C45: =D34/(1+$C$37)^C43 -> 147774.5 | D45: =E34/(1+$C$37)^D43 -> 138766.29 | E45: =F34/(1+$C$37)^E43 -> 130309.92 | F45: =G34/(1+$C$37)^F43 -> 122371.36 | G45: =(H34+C40)/(1+$C$37)^G43 -> 179760.66
B47: Net Present Value is calculated using the formula given below
B48: NPV = ∑(CFn / (1 + i)n) - Initial Investment
B50: Net Present Value | D50: =SUM(C45:G45)-C8 -> 328982.73
B52: Net Present Value | D52: =NPV(C37,D34,E34,F34,G34,H34+C40)+C34 -> 328982.73 | F52: *cell for validation
