Workbook
Name adj.ev.edbitda: 'Market '!#REF!
Name alpha: #REF!
Name capex.life: #REF!
Name case: DCF!$C$11
Name control.pre: 'Market '!$C$55
Name ctry: WACC!$C$8
Name curr: Input!$D$7
Name DLOM: 'Market '!$C$56
Name f.COGS: #REF!
Name f.depre: #REF!
Name f.ebit: #REF!
Name f.ebitda: #REF!
Name f.other.op.exp: #REF!
Name f.salary.exp: #REF!
Name f.sales: #REF!
Name f.selling.exp: #REF!
Name h.cash.conv: Historicals!$D$201:$H$201
Name h.COGS: Historicals!$D$19:$H$19
Name h.Inv: Historicals!$D$168:$H$168
Name h.other.op.exp: Historicals!$D$24:$H$24
Name h.salary.exp: Historicals!$D$23:$H$23
Name h.sales: Historicals!$D$16:$H$16
Name h.selling.exp: Historicals!$D$22:$H$22
Name h.TP: Historicals!$D$169:$H$169
Name h.TR: Historicals!$D$167:$H$167
Name IQ_CH: 110000
Name IQ_CQ: 5000
Name IQ_CY: 10000
Name IQ_DAILY: 500000
Name IQ_FH: 100000
Name IQ_FQ: 500
Name IQ_FY: 1000
Name IQ_LTM: 2000
Name IQ_MONTH: 15000
Name IQ_NTM: 6000
Name IQ_WEEK: 50000
Name IQ_YTD: 3000
Name midyear: C0!$O$24:$AR$24
Name next.fy: Input!$D$12
Name pcent: Input!$D$5
Name raw.ev.ebitda: 'Market '!#REF!
Name RUL: #REF!
Name Subject: Cover!$D$5
Name tax: Input!$D$6
Name tv.growth: DCF!$E$57
Name units: Historicals!$C$10
Name vd: Input!$D$11
Name wacc: WACC!$C$30

Sheet Cover
B1: Super Simple Template
B3: General Information
B5: Subject Company | D5: Grab Holdings
B6: Reference no | E6: Project ref number
B7: Model version | E7: This model version number must match with report version
B8: Prepared | E8: Name of preparer
B9: Reviewed | E9: Name of reviewer
B10: Approved | E10: Name of approver
B12: Cells Styles
B14: Input | D14: User input/ Assumptions
B16: CIQ | D16: The whole column is inputs from CIQ. To paste value and change back to normal color
B18: Results | D18: Results. Please do not change
B20: Offsheet | D20: Linked to another tab

Sheet FinancialData(BS&IS)
I2: Forecast
D3: 2021 | E3: 2022 | F3: 2023 | G3: 2024 | H3: 2025 | I3: 2026 | J3: 2027 | K3: 2028 | L3: 2029 | M3: 2030 | N3: 2031 | O3: 2032 | P3: 2033 | Q3: 2034 | R3: 2035
C4: Income Statement
C5: Revenue | D5: =IS!Q13 -> 675000 | E5: =IS!P13 -> 1433000 | F5: =IS!O13 -> 2359000 | G5: =IS!N13 -> 2797000 | H5: =IS!M13 -> 3370000 | I5: =H5*(1+I55) -> 4077700 | J5: =I5*(1+J55) -> 4852463 | K5: =J5*(1+K55) -> 5677381.7 | L5: =K5*(1+L55) -> 6528989 | M5: =L5*(1+M55) -> 7377757.5 | N5: =M5*(1+N55) -> 8115533.3 | O5: =N5*(1+O55) -> 8845931.3 | P5: =O5*(1+P55) -> 9642065.1 | ... R5: =Q5*(1+R55) -> 11142370
C6: Cost of Goods Sold | D6: =IS!Q15 -> 1070000 | E6: =IS!P15 -> 1356000 | F6: =IS!O15 -> 1499000 | G6: =IS!N15 -> 1623000 | H6: =IS!M15 -> 1914000 | I6: =I5*$E$65 -> 2303900.5 | J6: =J5*$E$65 -> 2741641.6 | K6: =K5*$E$65 -> 3207720.7 | L6: =L5*$E$65 -> 3688878.8 | M6: =M5*$F$65 -> 4020877.9 | N6: =N5*$F$65 -> 4422965.6 | O6: =O5*$F$65 -> 4821032.5 | P6: =P5*$F$65 -> 5254925.5 | Q6: =Q5*$F$65 -> 5675319.5 | R6: =R5*G65 -> 5961168.2
C7: Gross Profit | D7: =D5-D6 -> -395000 | E7: =E5-E6 -> 77000 | F7: =F5-F6 -> 860000 | G7: =G5-G6 -> 1174000 | H7: =H5-H6 -> 1456000 | I7: =I5-I6 -> 1773799.5 | J7: =J5-J6 -> 2110821.4 | K7: =K5-K6 -> 2469661 | ... R7: =R5-R6 -> 5181202.2
C8: General & Administrative Expenses | D8: =IS!Q19 -> 544000 | E8: =IS!P19 -> 646000 | F8: =IS!O19 -> 550000 | G8: =IS!N19 -> 512000 | H8: =IS!M19 -> 459000 | I8: =I5*$E$66 -> 203885 | J8: =J5*$E$66 -> 242623.15 | K8: =K5*$E$66 -> 283869.09 | L8: =L5*$E$66 -> 326449.45 | M8: =M5*$F$66 -> 302488.06 | N8: =N5*$F$66 -> 332736.86 | O8: =O5*$F$66 -> 362683.18 | P8: =P5*$F$66 -> 395324.67 | Q8: =Q5*$F$66 -> 426950.64 | R8: =R5*G66 -> 401125.34
C9: Selling & Marketing Expenses | D9: =IS!Q20 -> 241000 | E9: =IS!P20 -> 278000 | F9: =IS!O20 -> 293000 | G9: =IS!N20 -> 324000 | H9: =IS!M20 -> 367000 | I9: =I5*$E$67 -> 440391.6 | J9: =J5*$E$67 -> 524066 | K9: =K5*$E$67 -> 613157.22 | L9: =L5*$E$67 -> 705130.81 | M9: =M5*$F$67 -> 723020.24 | N9: =N5*$F$67 -> 795322.26 | O9: =O5*$F$67 -> 866901.27 | P9: =P5*$F$67 -> 944922.38 | Q9: =Q5*$F$67 -> 1020516.2 | R9: =R5*G67 -> 1002813.3
C10: Research & Development | D10: =IS!Q22 -> 356000 | E10: =IS!P22 -> 465000 | F10: =IS!O22 -> 421000 | G10: =IS!N22 -> 410000 | H10: =IS!M22 -> 428000 | I10: =I5*$E$68 -> 509712.5 | J10: =J5*$E$68 -> 606557.88 | K10: =K5*$E$68 -> 709672.71 | L10: =L5*$E$68 -> 816123.62 | M10: =M5*$F$68 -> 774664.54 | N10: =N5*$F$68 -> 852130.99 | O10: =O5*$F$68 -> 928822.78 | P10: =P5*$F$68 -> 1012416.8 | Q10: =Q5*$F$68 -> 1093410.2 | R10: =R5*G68 -> 1002813.3
C11: Other (Income)/Expense, Operating | D11: =IS!Q26 -> -12000 | E11: =IS!P26 -> -17000 | F11: =IS!O26 -> -17000 | G11: =IS!N26 -> -17000 | H11: =IS!M26 -> -20000 | I11: =-I5*$E$69 -> -20388.5 | J11: =-J5*$E$69 -> -24262.315 | K11: =-K5*$E$69 -> -28386.909 | L11: =-L5*$E$69 -> -32644.945 | M11: =-M5*$F$69 -> -36888.788 | N11: =-N5*$F$69 -> -40577.666 | O11: =-O5*$F$69 -> -44229.656 | P11: =-P5*$F$69 -> -48210.325 | Q11: =-Q5*$F$69 -> -52067.152 | R11: =-R5*G69 -> -55711.852
C12: Depreciation & Amortization | D12: 0 | E12: 0 | F12: 0 | G12: 0 | H12: 0 | I12: 0 | J12: 0 | K12: 0 | L12: 0 | M12: 0 | N12: 0 | O12: 0 | P12: 0 | Q12: 0 | R12: 0
C13: Operating Income | D13: =D7-SUM(D8:D11) -> -1524000 | E13: =E7-SUM(E8:E11) -> -1295000 | F13: =F7-SUM(F8:F11) -> -387000 | G13: =G7-SUM(G8:G11) -> -55000 | H13: =H7-SUM(H8:H11) -> 222000 | I13: =I7-SUM(I8:I11) -> 640198.9 | J13: =J7-SUM(J8:J11) -> 761836.69 | K13: =K7-SUM(K8:K11) -> 891348.93 | ... R13: =R7-SUM(R8:R11) -> 2830162.1
C14: Financial Non-Cash (Gains)/Losses | D14: 0 | E14: 0 | F14: 0 | G14: 0 | H14: 0 | I14: 0 | J14: 0 | K14: 0 | L14: 0 | M14: 0 | N14: 0 | O14: 0 | P14: 0 | Q14: 0 | R14: 0
C15: Irregular Cash (Gains)/Losses | D15: =IS!Q49 -> 28000 | E15: =IS!P49 -> 69000 | F15: =IS!O49 -> 128000 | G15: =IS!N49 -> 109000 | H15: =IS!M49 -> 152000
C16: Net Finance Expense | D16: =IS!Q34 -> 1675000 | E16: =IS!P34 -> 58000 | F16: =IS!O34 -> -98000 | G16: =IS!N34 -> -146000 | H16: =IS!M34 -> -96000
C17: Income Tax Expense | D17: =IS!Q53 -> 3000 | E17: =IS!P53 -> 6000 | F17: =IS!O53 -> 19000 | G17: =IS!N53 -> 63000 | H17: =IS!M53 -> 69000
C18: Net Income | D18: =D13-SUM(D14:D17) -> -3230000 | E18: =E13-SUM(E14:E17) -> -1428000 | F18: =F13-SUM(F14:F17) -> -436000 | G18: =G13-SUM(G14:G17) -> -81000 | H18: =H13-SUM(H14:H17) -> 97000 | S18: *note: net investment income and non-operating income/expenses were excluded since it is not a core operating income
C19: Balance Sheet
C20: Cash, Cash Equivalents | D20: =BS!Q17 -> 4838000 | E20: =BS!P17 -> 1952000 | F20: =BS!O17 -> 3138000 | G20: =BS!N17 -> 2964000 | H20: =BS!M17 -> 3433000
C21: Short-Term Investments | D21: =BS!Q21 -> 3240000 | E21: =BS!P21 -> 3134000 | F21: =BS!O21 -> 1905000 | G21: =BS!N21 -> 2665000 | H21: =BS!M21 -> 3371000
C22: Inventory | D22: =BS!Q24 -> 4000 | E22: =BS!P24 -> 48000 | F22: =BS!O24 -> 49000 | G22: =BS!N24 -> 59000 | H22: =BS!M24 -> 87000
C23: Accounts Receivable | D23: =BS!Q34 -> 288000 | E23: =BS!P34 -> 406000 | F23: =BS!O34 -> 486000 | G23: =BS!N34 -> 663000 | H23: =BS!M34 -> 1034000
C24: Prepayments and Deposits, Current | D24: =BS!Q35 -> 129000 | E24: =BS!P35 -> 124000 | F24: =BS!O35 -> 163000 | G24: =BS!N35 -> 134000 | H24: =BS!M35 -> 144000
C25: Other Current Assets | D25: =BS!Q36 -> 23000 | E25: =BS!P36 -> 24000 | F25: =BS!O36 -> 27000 | G25: =BS!N36 -> 81000 | H25: =BS!M36 -> 11000
C26: Net Property, Plant, and Equipment | D26: =BS!Q60 -> 441000 | E26: =BS!P60 -> 492000 | F26: =BS!O60 -> 512000 | G26: =BS!N60 -> 567000 | H26: =BS!M60 -> 831000
C27: Other Non-Current Assets | D27: 2215000 | E27: 2990000 | F27: 2512000 | G27: 2162000 | H27: 3072000
C28: Total Assets | D28: =SUM(D20:D27) -> 11178000 | E28: =SUM(E20:E27) -> 9170000 | F28: =SUM(F20:F27) -> 8792000 | G28: =SUM(G20:G27) -> 9295000 | H28: =SUM(H20:H27) -> 11983000
C29: Accounts Payable | D29: 838000 | E29: 930000 | F29: 933000 | G29: 1103000 | H29: 1293000
C30: Debt | D30: 2074000 | E30: 1213000 | F30: 669000 | G30: 337000 | H30: 1868000
C31: Other Operating Liabilities | D31: 247000 | E31: 370000 | F31: 722000 | G31: 1504000 | H31: 2065000
C32: Non-Operating Liabilities | D32: 0 | E32: 0 | F32: 0 | G32: 0 | H32: 0 | I32: 0 | J32: 0 | K32: 0 | L32: 0 | M32: 0 | N32: 0 | O32: 0 | P32: 0 | Q32: 0 | R32: 0
C33: Total Liabilities | D33: =SUM(D29:D32) -> 3159000 | E33: =SUM(E29:E32) -> 2513000 | F33: =SUM(F29:F32) -> 2324000 | G33: =SUM(G29:G32) -> 2944000 | H33: =SUM(H29:H32) -> 5226000
C34: Shareholder's Equity | D34: 7733000 | E34: 6603000 | F34: 6449000 | G34: 6399000 | H34: 6728000
C35: Non-Controlling/Minority Interests | D35: 286000 | E35: 54000 | F35: 19000 | G35: -48000 | H35: 29000
C36: Total Equity | D36: 8019000 | E36: 6657000 | F36: 6468000 | G36: 6351000 | H36: 6757000 | S36: Stage II | T36: Stage II | U36: Stage II | V36: Stage II | W36: Stage II | X36: Stage III | Y36: Stage III | Z36: Stage III | AA36: Stage III | AB36: Stage III | AC36: Stage III | AD36: Stage III | AE36: Stage III | AF36: Stage III | AG36: Stage III | AH36: Stage III | AI36: Stage III | AJ36: Stage III | AK36: Stage III | AL36: Stage III | AM36: Stage III | AN36: Stage III | AO36: Stage III | AP36: Stage III | AQ36: Stage III | AR36: Stage III
C39: Forecast Notes
C40: Grab Holdings Ltd. (NASDAQ: GRAB) | Valuation date 31 Dec 2025 | Currency USD | Singapore tax 17%
C42: BUY — Full Model DCF: USD $4.70/sh (+34% upside from $3.50)
C43: Market (Median EV/Rev): $4.10 | Triangulated range $3.00-5.45 | WACC 11.29% (US 10Y + SEA CRP)
C46: 1.Data Points Timeline
...

Sheet IS
C3: Income Statement (Fiscal Year)
C4: Downloaded on: 23-May-2026 | D4: Summary Stats
C5: Company: Grab Holdings (NAS: GRAB) | D5: Median | E5: Mean | F5: Min | G5: Max | H5: 25th pctile | I5: 75th pctile | J5: Std. Dev | K5: Coefficient of Variation | M5: FY 2025 | N5: FY 2024 | O5: FY 2023 | P5: FY 2022 | Q5: FY 2021 | R5: FY 2020 | S5: FY 2019 | T5: FY 2018 | U5: FY 2017 | V5: FY 2015 | W5: FY 2014 | X5: FY 2013
M6: End: 31-Dec-2025 | N6: End: 31-Dec-2024 | O6: End: 31-Dec-2023 | P6: End: 31-Dec-2022 | Q6: End: 31-Dec-2021 | R6: End: 31-Dec-2020 | S6: End: 31-Dec-2019 | T6: End: 31-Dec-2018 | U6: End: 31-Dec-2017 | V6: End: 31-Dec-2015 | W6: End: 31-Dec-2014 | X6: End: 31-Dec-2013
C7: Amount in thousands (USD) (except Ratios, Multiples & per share items) | M7: Filed: 06-Mar-2026 | N7: Filed: 06-Mar-2026 | O7: Filed: 06-Mar-2026 | P7: Filed: 14-Mar-2025 | Q7: Filed: 28-Mar-2024 | R7: Filed: 26-Apr-2023 | S7: Filed: 28-Apr-2022 | T7: View | U7: View | V7: View
M8: View 20-F | N8: View 20-F | O8: View 20-F | P8: View 20-F | Q8: View 20-F | R8: View 20-F | S8: View 20-F
C11: Gross Profit
C12: Revenue
C13: Business Revenue | D13: 1433000 | E13: 1465429 | F13: -845000 | G13: 3370000 | H13: 572000 | I13: 2578000 | J13: 1480750 | K13: 1.01 | M13: 3370000 | N13: 2797000 | O13: 2359000 | P13: 1433000 | Q13: 675000 | R13: 469000 | S13: -845000
C14: Total Revenue | D14: 254595 | E14: 861057 | F14: -845000 | G14: 3370000 | H14: 3574 | I14: 1664500 | J14: 1324367 | K14: 1.54 | M14: 3370000 | N14: 2797000 | O14: 2359000 | P14: 1433000 | Q14: 675000 | R14: 469000 | S14: -845000 | T14: 40190 | U14: 3756 | V14: 27000 | W14: 3030 | X14: 713
C15: Cost of Revenue | D15: 1356000 | E15: 1392143 | F15: 963000 | G15: 1914000 | H15: 1195000 | I15: 1561000 | J15: 324422 | K15: 0.23 | M15: 1914000 | N15: 1623000 | O15: 1499000 | P15: 1356000 | Q15: 1070000 | R15: 963000 | S15: 1320000
C16: Total Gross Profit | D16: 77000 | E16: 73286 | F16: -2165000 | G16: 1456000 | H16: -444500 | I16: 1017000 | J16: 1244550 | K16: 16.98 | M16: 1456000 | N16: 1174000 | O16: 860000 | P16: 77000 | Q16: -395000 | R16: -494000 | S16: -2165000
C17: Operating (Income)/Expenses
C18: Selling, General and Administrative Expenses
C19: General and Administrative Expenses | D19: 512000 | E19: 477286 | F19: 304000 | G19: 646000 | H19: 392500 | I19: 547000 | J19: 124269 | K19: 0.26 | M19: 459000 | N19: 512000 | O19: 550000 | P19: 646000 | Q19: 544000 | R19: 326000 | S19: 304000
C20: Selling and Marketing Expenses | D20: 278000 | E20: 270286 | F20: 151000 | G20: 367000 | H20: 239500 | I20: 308500 | J20: 69454 | K20: 0.26 | M20: 367000 | N20: 324000 | O20: 293000 | P20: 278000 | Q20: 241000 | R20: 151000 | S20: 238000
C21: Total Selling, General and Administrative Expenses | D21: 826000 | E21: 747571 | F21: 477000 | G21: 924000 | H21: 663500 | I21: 839500 | J21: 168856 | K21: 0.23 | M21: 826000 | N21: 836000 | O21: 843000 | P21: 924000 | Q21: 785000 | R21: 477000 | S21: 542000
C22: Research and Development Expenses | D22: 410000 | E22: 366857 | F22: 231000 | G22: 465000 | H22: 306500 | I22: 424500 | J22: 90191 | K22: 0.25 | M22: 428000 | N22: 410000 | O22: 421000 | P22: 465000 | Q22: 356000 | R22: 257000 | S22: 231000
C23: Other (Income)/Expense, Operating
C24: Income from Grants Received, Operating | D24: -7000 | E24: -6800 | F24: -18000 | G24: 0 | H24: -8000 | I24: -1000 | J24: 7190 | K24: -1.06 | O24: -1000 | P24: -7000 | Q24: -8000 | R24: -18000 | S24: 0
C25: Other Income, Operating | D25: -15000 | E25: -13714 | F25: -20000 | G25: -4000 | H25: -16500 | I25: -12000 | J25: 5251 | K25: -0.38 | M25: -20000 | N25: -17000 | O25: -16000 | P25: -10000 | Q25: -4000 | R25: -15000 | S25: -14000
C26: Total Other (Income)/Expense, Operating | D26: -17000 | E26: -18571 | F26: -33000 | G26: -12000 | H26: -18500 | I26: -15500 | J26: 6852 | K26: -0.37 | M26: -20000 | N26: -17000 | O26: -17000 | P26: -17000 | Q26: -12000 | R26: -33000 | S26: -14000
C27: Total Operating (Income)/Expenses | D27: 1229000 | E27: 1095857 | F27: 701000 | G27: 1372000 | H27: 944000 | I27: 1240500 | J27: 260254 | K27: 0.24 | M27: 1234000 | N27: 1229000 | O27: 1247000 | P27: 1372000 | Q27: 1129000 | R27: 701000 | S27: 759000
C28: Total Operating Profit/(Loss) | D28: -1195000 | E28: -1022571 | F28: -2924000 | G28: 222000 | H28: -1409500 | I28: -221000 | J28: 1069261 | K28: -1.05 | M28: 222000 | N28: -55000 | O28: -387000 | P28: -1295000 | Q28: -1524000 | R28: -1195000 | S28: -2924000
C29: Non-Operating Income/(Expenses)
C30: Net Finance (Income)/Expense
C31: Net Interest (Income)/Expense
C32: Interest Expense Net of Capitalized Interest | D32: 99000 | E32: 507791 | F32: 1234 | G32: 1701000 | H32: 41000 | I32: 1053000 | J32: 687279 | K32: 1.35 | M32: 71000 | N32: 41000 | O32: 99000 | P32: 165000 | Q32: 1701000 | R32: 1433000 | S32: 1053000 | T32: 5885 | U32: 1234
C33: Interest Income | D33: 137000 | E33: 126667 | F33: 26000 | G33: 197000 | H33: 83750 | I33: 182000 | J33: 68266 | K33: 0.54 | M33: 167000 | N33: 187000 | O33: 197000 | P33: 107000 | Q33: 26000 | S33: 76000
C34: Total Net Interest (Income)/Expense | D34: -1234 | E34: 421764 | F34: -146000 | G34: 1675000 | H34: -96000 | I34: 977000 | J34: 729401 | K34: 1.73 | M34: -96000 | N34: -146000 | O34: -98000 | P34: 58000 | Q34: 1675000 | R34: 1433000 | S34: 977000 | T34: -5885 | U34: -1234
C35: Other Finance (Income)/Expenses
C36: Other Finance Income | D36: 31000 | E36: 31000 | F36: 31000 | G36: 31000 | H36: 31000 | I36: 31000 | M36: 31000
C37: Other Finance Expenses | D37: 0 | E37: 117667 | F37: 0 | G37: 353000 | H37: 0 | I37: 176500 | J37: 203805 | K37: 1.73 | Q37: 353000 | R37: 0 | S37: 0
C38: Total Other Finance (Income)/Expenses | D38: 0 | E38: 80500 | F38: -31000 | G38: 353000 | H38: -7750 | I38: 88250 | J38: 182253 | K38: 2.26 | M38: -31000 | Q38: 353000 | R38: 0 | S38: 0
C39: Total Net Finance (Income)/Expense | D39: 58000 | E39: 589286 | F39: -146000 | G39: 2028000 | H39: -112500 | I39: 1205000 | J39: 888858 | K39: 1.51 | M39: -127000 | N39: -146000 | O39: -98000 | P39: 58000 | Q39: 2028000 | R39: 1433000 | S39: 977000
C40: Net Investment Income
C41: Fair Value or Unrealized Gain/(Loss) on Financial Assets | D41: -1500 | E41: -44167 | F41: -294000 | G41: 37000 | H41: -30000 | I41: 25500 | J41: 125528 | K41: -2.84 | M41: 34000 | O41: -39000 | P41: -294000 | Q41: 37000 | R41: 0 | S41: -3000
C42: Income from Associates, Joint Ventures and Other Participating Interests | D42: -8000 | E42: -6333 | F42: -8000 | G42: 1000 | H42: -8000 | I42: -7250 | J42: 3615 | K42: -0.57 | M42: 1000 | N42: -8000 | O42: -7000 | P42: -8000 | Q42: -8000 | R42: -8000
C43: Gain/(Loss) on Foreign Exchange | D43: 2000 | E43: -143 | F43: -65000 | G43: 42000 | H43: 0 | I43: 10000 | J43: 32137 | K43: -224.96 | M43: 42000 | N43: -65000 | O43: 1000 | P43: -1000 | Q43: 2000 | R43: 11000 | S43: 9000
C44: Total Net Investment Income | D44: 3000 | E44: -43429 | F44: -303000 | G44: 77000 | H44: -59000 | I44: 18500 | J44: 124429 | K44: -2.87 | M44: 77000 | N44: -73000 | O44: -45000 | P44: -303000 | Q44: 31000 | R44: 3000 | S44: 6000
...

Sheet BS
C3: Balance Sheet (Fiscal Year)
C4: Downloaded on: 23-May-2026 | D4: Summary Stats
C5: Company: Grab Holdings (NAS: GRAB) | D5: Median | E5: Mean | F5: Min | G5: Max | H5: 25th pctile | I5: 75th pctile | J5: Std. Dev | K5: Coefficient of Variation | M5: FY 2025 | N5: FY 2024 | O5: FY 2023 | P5: FY 2022 | Q5: FY 2021 | R5: FY 2020 | S5: FY 2019 | T5: FY 2018 | U5: FY 2017
M6: End: 31-Dec-2025 | N6: End: 31-Dec-2024 | O6: End: 31-Dec-2023 | P6: End: 31-Dec-2022 | Q6: End: 31-Dec-2021 | R6: End: 31-Dec-2020 | S6: End: 31-Dec-2019 | T6: End: 31-Dec-2018 | U6: End: 31-Dec-2017
C7: Amount in thousands (USD) (except Ratios, Multiples & per share items) | M7: Filed: 06-Mar-2026 | N7: Filed: 06-Mar-2026 | O7: Filed: 14-Mar-2025 | P7: Filed: 28-Mar-2024 | Q7: Filed: 26-Apr-2023 | R7: Filed: 28-Apr-2022 | S7: Filed: 19-Nov-2021 | T7: View | U7: View
M8: View 20-F | N8: View 20-F | O8: View 20-F | P8: View 20-F | Q8: View 20-F | R8: View 20-F | S8: View 20-F
C11: Assets
C12: Current Assets
C13: Cash, Cash Equivalents and Short Term Investments
C14: Cash and Cash Equivalents
C15: Cash | D15: 2295500 | E15: 2187750 | F15: 1448000 | G15: 2712000 | H15: 1939250 | I15: 2544000 | J15: 553595 | K15: 0.25 | M15: 2712000 | N15: 2103000 | O15: 2488000 | P15: 1448000
C16: Cash Equivalents | D16: 685500 | E16: 684000 | F16: 504000 | G16: 861000 | H16: 613500 | I16: 756000 | J16: 148609 | K16: 0.22 | M16: 721000 | N16: 861000 | O16: 650000 | P16: 504000
C17: Total Cash and Cash Equivalents | D17: 2964000 | E17: 2814429 | F17: 1372000 | G17: 4838000 | H17: 1978000 | I17: 3285500 | J17: 1160870 | K17: 0.41 | M17: 3433000 | N17: 2964000 | O17: 3138000 | P17: 1952000 | Q17: 4838000 | R17: 2004000 | S17: 1372000
C18: Short Term Investments
C19: Available-for-Sale Securities, Current | D19: 22000 | E19: 22000 | F19: 22000 | G19: 22000 | H19: 22000 | I19: 22000 | M19: 22000
C20: Other Short Term Investments | D20: 2665000 | E20: 2404857 | F20: 1243000 | G20: 3349000 | H20: 1601500 | I20: 3187000 | J20: 914066 | K20: 0.38 | M20: 3349000 | N20: 2665000 | O20: 1905000 | P20: 3134000 | Q20: 3240000 | R20: 1298000 | S20: 1243000
C21: Total Short Term Investments | D21: 2665000 | E21: 2408000 | F21: 1243000 | G21: 3371000 | H21: 1601500 | I21: 3187000 | J21: 917883 | K21: 0.38 | M21: 3371000 | N21: 2665000 | O21: 1905000 | P21: 3134000 | Q21: 3240000 | R21: 1298000 | S21: 1243000
C22: Total Cash, Cash Equivalents and Short Term Investments | D22: 5086000 | E22: 5222429 | F22: 2615000 | G22: 8078000 | H22: 4172500 | I22: 6216500 | J22: 1886730 | K22: 0.36 | M22: 6804000 | N22: 5629000 | O22: 5043000 | P22: 5086000 | Q22: 8078000 | R22: 3302000 | S22: 2615000
C23: Cash Restricted or Pledged, Current | D23: 153000 | E23: 153667 | F23: 139000 | G23: 169000 | H23: 146000 | I23: 161000 | J23: 15011 | K23: 0.1 | Q23: 153000 | R23: 169000 | S23: 139000
C24: Inventories | D24: 48000 | E24: 36429 | F24: 3000 | G24: 87000 | H24: 4500 | I24: 54000 | J24: 32954 | K24: 0.9 | M24: 87000 | N24: 59000 | O24: 49000 | P24: 48000 | Q24: 4000 | R24: 3000 | S24: 5000
C25: Trade and Other Receivables, Current
C26: Trade/Accounts Receivable, Current
C27: Gross Trade/Accounts Receivable, Current | D27: 124000 | E27: 132429 | F27: 95000 | G27: 169000 | H27: 118500 | I27: 151000 | J27: 26114 | K27: 0.2 | M27: 169000 | N27: 161000 | O27: 141000 | P27: 120000 | Q27: 117000 | R27: 124000 | S27: 95000
C28: Allowance/Adjustments for Trade/Accounts Receivable, Current | D28: -23000 | E28: -26571 | F28: -40000 | G28: -20000 | H28: -29500 | I28: -22000 | J28: 7300 | K28: -0.27 | M28: -33000 | N28: -23000 | O28: -22000 | P28: -20000 | Q28: -22000 | R28: -40000 | S28: -26000
C29: Total Trade/Accounts Receivable, Current | D29: 100000 | E29: 105857 | F29: 69000 | G29: 138000 | H29: 89500 | I29: 127500 | J29: 26150 | K29: 0.25 | M29: 136000 | N29: 138000 | O29: 119000 | P29: 100000 | Q29: 95000 | R29: 84000 | S29: 69000
C30: Loans Receivable, Current | D30: 185000 | E30: 262714 | F30: 31000 | G30: 760000 | H30: 80000 | I30: 351500 | J30: 259377 | K30: 0.99 | M30: 760000 | N30: 431000 | O30: 272000 | P30: 185000 | Q30: 107000 | R30: 31000 | S30: 53000
C31: Taxes Receivable, Current | D31: 34000 | E31: 40000 | F31: 25000 | G31: 71000 | H31: 28000 | I31: 47000 | J31: 16422 | K31: 0.41 | M31: 34000 | N31: 26000 | O31: 30000 | P31: 46000 | Q31: 48000 | R31: 25000 | S31: 71000
C32: Other Receivables, Current | D32: 77000 | E32: 75286 | F32: 53000 | G32: 104000 | H32: 62500 | I32: 84000 | J32: 17708 | K32: 0.24 | M32: 104000 | N32: 68000 | O32: 77000 | P32: 87000 | Q32: 53000 | R32: 57000 | S32: 81000
C33: General Allowance for Receivables and Write Offs, Current | D33: -12500 | E33: -13000 | F33: -15000 | G33: -12000 | H33: -13500 | I33: -12000 | J33: 1414 | K33: -0.11 | O33: -12000 | P33: -12000 | Q33: -15000 | R33: -13000
C34: Total Trade and Other Receivables, Current | D34: 406000 | E34: 476429 | F34: 184000 | G34: 1034000 | H34: 281000 | I34: 574500 | J34: 292331 | K34: 0.61 | M34: 1034000 | N34: 663000 | O34: 486000 | P34: 406000 | Q34: 288000 | R34: 184000 | S34: 274000
C35: Prepayments and Deposits, Current | D35: 129000 | E35: 124286 | F35: 69000 | G35: 163000 | H35: 115500 | I35: 139000 | J35: 29887 | K35: 0.24 | M35: 144000 | N35: 134000 | O35: 163000 | P35: 124000 | Q35: 129000 | R35: 69000 | S35: 107000
C36: Other Current Assets | D36: 25500 | E36: 32333 | F36: 11000 | G36: 81000 | H36: 23250 | I36: 27750 | J36: 24606 | K36: 0.76 | M36: 11000 | N36: 81000 | O36: 27000 | P36: 24000 | Q36: 23000 | R36: 28000
C37: Total Current Assets | D37: 5688000 | E37: 4631416 | F37: 285 | G37: 8675000 | H37: 3140000 | I37: 6566000 | J37: 3165974 | K37: 0.68 | M37: 8080000 | N37: 6566000 | O37: 5768000 | P37: 5688000 | Q37: 8675000 | R37: 3755000 | S37: 3140000 | T37: 285 | U37: 10463
C38: Non-Current Assets
C39: Net Property, Plant and Equipment
C40: Gross Property, Plant and Equipment
C41: Properties
C42: Buildings and Improvements | D42: 291000 | E42: 251429 | F42: 117000 | G42: 390000 | H42: 178500 | I42: 302500 | J42: 99711 | K42: 0.4 | M42: 390000 | N42: 308000 | O42: 297000 | P42: 291000 | Q42: 228000 | R42: 129000 | S42: 117000
C43: Total Properties | D43: 291000 | E43: 251429 | F43: 117000 | G43: 390000 | H43: 178500 | I43: 302500 | J43: 99711 | K43: 0.4 | M43: 390000 | N43: 308000 | O43: 297000 | P43: 291000 | Q43: 228000 | R43: 129000 | S43: 117000
C44: Machinery, Furniture and Equipment
...

Sheet CF
C3: Cash Flow (Fiscal Year)
C4: Downloaded on: 23-May-2026 | D4: Summary Stats
C5: Company: Grab Holdings (NAS: GRAB) | D5: Median | E5: Mean | F5: Min | G5: Max | H5: 25th pctile | I5: 75th pctile | J5: Std. Dev | K5: Coefficient of Variation | M5: FY 2025 | N5: FY 2024 | O5: FY 2023 | P5: FY 2022 | Q5: FY 2021 | R5: FY 2020 | S5: FY 2019 | T5: FY 2018 | U5: FY 2017
M6: End: 31-Dec-2025 | N6: End: 31-Dec-2024 | O6: End: 31-Dec-2023 | P6: End: 31-Dec-2022 | Q6: End: 31-Dec-2021 | R6: End: 31-Dec-2020 | S6: End: 31-Dec-2019 | T6: End: 31-Dec-2018 | U6: End: 31-Dec-2017
C7: Amount in thousands (USD) (except Ratios, Multiples & per share items) | M7: Filed: 06-Mar-2026 | N7: Filed: 06-Mar-2026 | O7: Filed: 06-Mar-2026 | P7: Filed: 14-Mar-2025 | Q7: Filed: 28-Mar-2024 | R7: Filed: 28-Apr-2022 | S7: Filed: 28-Apr-2022 | T7: View | U7: View
M8: View 20-F | N8: View 20-F | O8: View 20-F | P8: View 20-F | Q8: View 20-F | R8: View 20-F | S8: View 20-F
C11: Cash Flows from/Used in Operating Activities, Direct | D11: -136205 | E11: -136205 | F11: -257697 | G11: -14714 | H11: -196951 | I11: -75459 | J11: 171815 | K11: -1.26 | T11: -257697 | U11: -14714
C12: Cash Flow from Operating Activities, Indirect
C13: Net Cash Flow from Continuing Operating Activities, Indirect
C14: Cash Generated from Operating Activities
C15: Income/(Loss) before Non-Cash Adjustment | D15: -1734000 | E15: -1757429 | F15: -3981000 | G15: 269000 | H15: -3147500 | I15: -280500 | J15: 1716320 | K15: -0.98 | M15: 269000 | N15: -95000 | O15: -466000 | P15: -1734000 | Q15: -3552000 | R15: -2743000 | S15: -3981000
C16: Adjustments for Non-Cash Items
C17: Depreciation, Amortization and Depletion, Non-Cash Adjustment
C18: Depreciation and Amortization, Non-Cash Adjustment
C19: Depreciation, Non-Cash Adjustment | D19: 126000 | E19: 124000 | F19: 109000 | G19: 145000 | H19: 115500 | I19: 128500 | J19: 12517 | K19: 0.1 | M19: 145000 | N19: 122000 | O19: 128000 | P19: 129000 | Q19: 109000 | R19: 126000 | S19: 109000
C20: Amortization, Non-Cash Adjustment | D20: 32000 | E20: 161429 | F20: 17000 | G20: 538000 | H20: 23000 | I20: 248500 | J20: 197157 | K20: 1.22 | M20: 32000 | N20: 25000 | O20: 17000 | P20: 21000 | Q20: 236000 | R20: 261000 | S20: 538000
C21: Total Depreciation and Amortization, Non-Cash Adjustment | D21: 177000 | E21: 285429 | F21: 145000 | G21: 647000 | H21: 148500 | I21: 366000 | J21: 188671 | K21: 0.66 | M21: 177000 | N21: 147000 | O21: 145000 | P21: 150000 | Q21: 345000 | R21: 387000 | S21: 647000
C22: Total Depreciation, Amortization and Depletion, Non-Cash Adjustment | D22: 177000 | E22: 285429 | F22: 145000 | G22: 647000 | H22: 148500 | I22: 366000 | J22: 188671 | K22: 0.66 | M22: 177000 | N22: 147000 | O22: 145000 | P22: 150000 | Q22: 345000 | R22: 387000 | S22: 647000
C23: Stock-Based Compensation, Non-Cash Adjustment | D23: 279000 | E23: 240143 | F23: 34000 | G23: 412000 | H23: 147500 | I23: 330500 | J23: 144869 | K23: 0.6 | M23: 241000 | N23: 279000 | O23: 304000 | P23: 412000 | Q23: 357000 | R23: 54000 | S23: 34000
C24: Interest and Finance (Income)/Expenses, Non-Cash Adjustment | D24: 59000 | E24: 535571 | F24: -169000 | G24: 1673000 | H24: -90000 | I24: 1183000 | J24: 788283 | K24: 1.47 | M24: -169000 | N24: -81000 | O24: -99000 | P24: 59000 | Q24: 1673000 | R24: 1395000 | S24: 971000
C25: Other Provisions, Non-Cash Adjustment | D25: 3000 | E25: 5000 | F25: -18000 | G25: 31000 | H25: 0 | I25: 9500 | J25: 15067 | K25: 3.01 | M25: -18000 | N25: 4000 | O25: 1000 | P25: 3000 | Q25: 15000 | R25: 31000 | S25: -1000
C26: Net Investment (Income)/Loss, Non-Cash Adjustment
C27: Dividend and Interest Income, Non-Cash Adjustment | D27: 0 | E27: -2333 | F27: -7000 | G27: 0 | H27: -3500 | I27: 0 | J27: 4041 | K27: -1.73 | M27: -7000 | N27: 0 | O27: 0
C28: Unrealized (Gain)/Loss on Financial Instruments, Non-Cash Adjustment | D28: 39000 | E28: 60800 | F28: -37000 | G28: 294000 | H28: -34000 | I28: 42000 | J28: 135797 | K28: 2.23 | M28: -34000 | O28: 39000 | P28: 294000 | Q28: -37000 | R28: 42000
C29: Share of (Profit)/Loss from Associates, Joint Ventures and other Equity Investments, Non-Cash Adjustment | D29: 8000 | E29: 6333 | F29: -1000 | G29: 8000 | H29: 7250 | I29: 8000 | J29: 3615 | K29: 0.57 | M29: -1000 | N29: 8000 | O29: 7000 | P29: 8000 | Q29: 8000 | R29: 8000
C30: Total Net Investment (Income)/Loss, Non-Cash Adjustment | D30: 27000 | E30: 55833 | F30: -42000 | G30: 302000 | H30: -19750 | I30: 49000 | J30: 126321 | K30: 2.26 | M30: -42000 | N30: 8000 | O30: 46000 | P30: 302000 | Q30: -29000 | R30: 50000
C31: Irregular (Income)/Loss, Non-Cash Adjustment
C32: (Gain)/Loss on Disposals, Non-Cash Adjustment
C33: (Gain)/Loss on Disposal/Sale of Fixed Assets, Non-Cash Adjustment | D33: -1000 | E33: -1857 | F33: -11000 | G33: 9000 | H33: -6500 | I33: 1500 | J33: 6986 | K33: -3.76 | M33: 1000 | N33: -10000 | O33: -11000 | P33: -3000 | Q33: -1000 | R33: 9000 | S33: 2000
C34: (Gain)/Loss on Disposal/Sale of Business, Non-Cash Adjustment | D34: -1000 | E34: -1000 | F34: -2000 | G34: 0 | H34: -2000 | I34: 0 | J34: 1155 | K34: -1.15 | P34: -2000 | Q34: -2000 | R34: 0 | S34: 0
C35: Total (Gain)/Loss on Disposals, Non-Cash Adjustment | D35: -3000 | E35: -2429 | F35: -11000 | G35: 9000 | H35: -7500 | I35: 1500 | J35: 7068 | K35: -2.91 | M35: 1000 | N35: -10000 | O35: -11000 | P35: -5000 | Q35: -3000 | R35: 9000 | S35: 2000
C36: Impairment/Write Off/Write Down of Capital Assets Loss/Reversal, Non-Cash Adjustment | D36: 15000 | E36: 24800 | F36: 0 | G36: 60000 | H36: 6000 | I36: 43000 | J36: 25665 | K36: 1.03 | N36: 0 | P36: 6000 | Q36: 15000 | R36: 43000 | S36: 60000
C37: Impairment/Write Off/Write Down of Other Assets, Non-Cash Adjustment | D37: 63000 | E37: 71857 | F37: 19000 | G37: 140000 | H37: 57000 | I37: 83500 | J37: 37627 | K37: 0.52 | M37: 140000 | N37: 95000 | O37: 72000 | P37: 58000 | Q37: 19000 | R37: 63000 | S37: 56000
C38: Total Irregular (Income)/Loss, Non-Cash Adjustment | D38: 85000 | E38: 87143 | F38: 31000 | G38: 141000 | H38: 60000 | I38: 116500 | J38: 39287 | K38: 0.45 | M38: 141000 | N38: 85000 | O38: 61000 | P38: 59000 | Q38: 31000 | R38: 115000 | S38: 118000
C39: Other Non-Cash Items | D39: 0 | E39: 117667 | F39: 0 | G39: 353000 | H39: 0 | I39: 176500 | J39: 203805 | K39: 1.73 | Q39: 353000 | R39: 0 | S39: 0
C40: Total Adjustments for Non-Cash Items | D40: 985000 | E40: 1251571 | F40: 330000 | G40: 2745000 | H40: 450000 | I40: 1900500 | J40: 940979 | K40: 0.75 | M40: 330000 | N40: 442000 | O40: 458000 | P40: 985000 | Q40: 2745000 | R40: 2032000 | S40: 1769000
C41: Changes in Operating Capital
C42: Change in Inventories | D42: -1000 | E42: -1429 | F42: -9000 | G42: 6000 | H42: -5000 | I42: 2000 | J42: 5682 | K42: -3.98 | M42: -9000 | N42: -9000 | O42: -1000 | P42: 6000 | Q42: -1000 | R42: 2000 | S42: 2000
C43: Change in Trade and Other Receivables
C44: Change in Trade/Accounts Receivable | D44: -50000 | E44: -52400 | F44: -97000 | G44: -10000 | H44: -94000 | I44: -11000 | J44: 42536 | K44: -0.81 | M44: -10000 | N44: -97000 | O44: -11000 | P44: -50000 | Q44: -94000
...

Sheet Input
B1: General Information
B3: General | C3: Unit | D3: Value
B4: Subject company | C4: Name | D4: =Subject -> Grab Holdings | E4: Name of Target Company
B5: % | C5: % | D5: 1 | E5: Percentage of shares to be acquired
B6: Corporate tax rate | C6: % | D6: 0.17 | E6: Enter corporate rate rate
B7: Currency | C7: Currency | D7: USD | E7: Enter currency
B8: Display unit | D8: k | E8: Enter k for thousands, m for millions and b for billions
B10: Date & Time period
B11: Valuation Date | C11: Date | D11: 46022 | E11: Valuation Date
B12: Next FY date | C12: Date | D12: 46387 | E12: Next financial year end. | H12: Cannot be equal to Valuation Date
B13: Available historical info | C13: years | D13: 5 | E13: Number of full years of available historical information
B14: Forecast period | C14: years | D14: 10 | E14: Number of full years of forecast

Sheet Historicals
B1: Historical Financial Performance
B10: Display unit | C10: 1,000
B11: No of months | H11: 12 | I11: 1
B12: Full year? | H12: Y
A13: 1 | B13: Index | D13: -4 | E13: -3 | F13: -2 | G13: -1 | H13: 0
A14: 2 | B14: Grab Holdings's historical P&L
A15: 3 | B15: (USD k) | D15: FY21 | E15: FY22 | F15: FY23 | G15: FY24 | H15: FY25 | I15: % of full year
A16: 4 | B16: Revenue | D16: =SUM(D17) -> 675000 | E16: =SUM(E17:E17) -> 1433000 | F16: =SUM(F17:F17) -> 2359000 | G16: =SUM(G17:G17) -> 2797000 | H16: =SUM(H17:H17) -> 3370000 | I16: n.m
B17: Business Revenue | D17: =IS!Q13 -> 675000 | E17: =IS!P13 -> 1433000 | F17: =IS!O13 -> 2359000 | G17: =IS!N13 -> 2797000 | H17: =IS!M13 -> 3370000
A18: 7
A19: 8 | B19: COGS | D19: =-'FinancialData(BS&IS)'!D6 -> -1070000 | E19: =-'FinancialData(BS&IS)'!E6 -> -1356000 | F19: =-'FinancialData(BS&IS)'!F6 -> -1499000 | G19: =-'FinancialData(BS&IS)'!G6 -> -1623000 | H19: =-'FinancialData(BS&IS)'!H6 -> -1914000 | I19: n.m
A20: 9 | B20: Gross Profit | D20: =SUM(D17:D19) -> -395000 | E20: =SUM(E17:E19) -> 77000 | F20: =SUM(F17:F19) -> 860000 | G20: =SUM(G17:G19) -> 1174000 | H20: =SUM(H17:H19) -> 1456000 | I20: n.m
A21: 10
A22: 11 | B22: Selling & marketing | C22: [variable only] | D22: =-IS!Q20 -> -241000 | E22: =-IS!P20 -> -278000 | F22: =-IS!O20 -> -293000 | G22: =-IS!N20 -> -324000 | H22: =-IS!M20 -> -367000 | I22: n.m | J22: Selling & marketing expenses is a VC.
A23: 12 | B23: Salary & wages | C23: [fixed only] | D23: =-IS!Q19*0.7 -> -380800 | E23: =-IS!R19*0.7 -> -228200 | F23: =-IS!O19*0.7 -> -385000 | G23: =-IS!N19*0.7 -> -358400 | H23: =-IS!M19*0.7 -> -321300 | I23: n.m | J23: Salary and wages are FC and analysed based on y-o-y growth. * 70% is allocated salary and wages and 30% is allocated to general admin
A24: 13 | B24: General & Admin | C24: [fixed only] | D24: =-IS!Q19*0.3 -> -163200 | E24: =-IS!P19*0.3 -> -193800 | F24: =-IS!O19*0.3 -> -165000 | G24: =-IS!N19*0.3 -> -153600 | H24: =-IS!M19*0.3 -> -137700 | I24: n.m | J24: Other operating expenses are FC and analysed based on y-o-y growth.
B25: Research & Development | C25: [fixed only] | D25: =-IS!Q22 -> -356000 | E25: =-IS!P22 -> -465000 | F25: =-IS!O22 -> -421000 | G25: =-IS!N22 -> -410000 | H25: =-IS!M22 -> -428000
A26: 14 | B26: Other Op Inc/(Exp) | C26: [fixed only] | D26: 12000 | E26: 17000 | F26: 17000 | G26: 17000 | H26: 20000 | I26: n.m | J26: Other operating expenses are FC and analysed based on y-o-y growth.
A27: 16 | B27: EBIT | D27: =SUM(D20:D26) -> -1524000 | E27: =SUM(E20:E26) -> -1071000 | F27: =SUM(F20:F26) -> -387000 | G27: =SUM(G20:G26) -> -55000 | H27: =SUM(H20:H26) -> 222000 | I27: n.m
A28: 17
A29: 18 | B29: Add: Depreciation | D29: =-BS!Q59 -> 358000 | E29: =-BS!P59 -> 442000 | F29: =-BS!O59 -> 522000 | G29: =-BS!N59 -> 558000 | H29: =-BS!M59 -> 654000 | I29: n.m | J29: Add back Depreciation & Amortisation
A30: 19 | B30: Add: Amortisation | I30: n.m | J30: Add back Depreciation & Amortisation
A31: 20 | B31: EBITDA | D31: =SUM(D27:D30) -> -1166000 | E31: =SUM(E27:E30) -> -629000 | F31: =SUM(F27:F30) -> 135000 | G31: =SUM(G27:G30) -> 503000 | H31: =SUM(H27:H30) -> 876000 | I31: n.m
A32: 21 | B32: Source: Management accounts/ financial statements
A34: 30
A36: 31 | B36: Key Financial Ratios - Historical P&L
A37: 32 | D37: FY21 | E37: FY22 | F37: FY23 | G37: FY24 | H37: FY25 | I37: 3-YR CAGR
B38: y-o-y growth
A39: 33 | B39: Revenue | E39: 1.123 | F39: 0.646 | G39: 0.186 | H39: 0.205 | I39: 0.33 | J39: Check and change CAGR formula depending on how many years of data available
A40: 34 | B40: COGS | F40: 0.105 | G40: 0.083 | H40: 0.179 | I40: 0.122
A41: 35 | B41: Salary & wages | E41: 0.158 | F41: -0.136 | G41: -0.053 | H41: -0.097 | I41: -0.096
A42: 36 | B42: General & Admin | E42: 0.256 | F42: -0.175 | G42: -0.106 | H42: -0.118 | I42: -0.134
A43: 37 | B43: Research & Development | E43: 0.306 | F43: -0.095 | G43: -0.026 | H43: 0.044 | I43: -0.027
A44: 38 | B44: Other Op Inc/(Exp) | E44: 0.417 | F44: 0 | G44: 0 | H44: 0.176 | I44: 0.056
A45: 39
A46: 40
A47: 41 | B47: % of revenue | I47: 3-Year Average
A48: 42 | B48: Selling & marketing | D48: 0.357 | E48: 0.194 | F48: 0.124 | G48: 0.116 | H48: 0.109 | I48: 0.116
A49: 43 | B49: GP margin | D49: 1 | E49: 0.054 | F49: 0.365 | G49: 0.42 | H49: 0.432 | I49: 0.405
A50: 44 | B50: EBIT margin | D50: -0.673 | E50: -0.904 | F50: -0.164 | G50: -0.02 | H50: 0.066 | I50: -0.039
...

Sheet Forecast
B1: Financial Forecast
B11: Display unit | C11: 1,000
B12: No of months (first period) | D12: 12
B13: Full year? (First period) | D13: Y
B15: Grab Holdings P&L Forecast
B16: (USD k) | D16: FY26F | E16: FY27F | F16: FY28F | G16: FY29F | H16: FY30F | I16: FY31F | J16: FY32F | K16: FY33F | L16: FY34F | M16: FY35F
B17: Revenue | D17: =SUM(D18:D21) -> 4077700 | E17: =SUM(E18:E21) -> 4852463 | F17: =SUM(F18:F21) -> 5677381.7 | G17: =SUM(G18:G21) -> 6528989 | H17: =SUM(H18:H21) -> 7377757.5 | I17: =SUM(I18:I21) -> 8115533.3 | J17: =SUM(J18:J21) -> 8845931.3 | K17: =SUM(K18:K21) -> 9642065.1 | ... M17: =SUM(M18:M21) -> 11142370
B18: Deliveries | D18: =(Historicals!H16*(1+0.21))*0.53 -> 2161181 | E18: =(D17*(1+0.19))*0.52 -> 2523280.8 | F18: =(E17*(1+0.17))*0.51 -> 2895464.7 | G18: =(F17*(1+0.15))*0.5 -> 3264494.5 | H18: =(G17*(1+0.13))*0.49 -> 3615101.2 | I18: =(H17*(1+0.1))*0.48 -> 3895456 | J18: =(I17*(1+0.09))*0.47 -> 4157587.7 | K18: =(J17*(1+0.09))*0.465 -> 4483560.3 | L18: =(K17*(1+0.08))*0.46 -> 4790177.9 | M18: =(L17*(1+0.07))*0.455 -> 5069778.5
B19: Mobility | D19: =(Historicals!H16*(1+0.21))*0.35 -> 1427195 | E19: =(D17*(1+0.19))*0.345 -> 1674099.7 | F19: =(E17*(1+0.17))*0.34 -> 1930309.8 | G19: =(F17*(1+0.15))*0.335 -> 2187211.3 | H19: =(G17*(1+0.13))*0.33 -> 2434660 | I19: =(H17*(1+0.1))*0.325 -> 2637548.3 | J19: =(I17*(1+0.09))*0.32 -> 2830698 | K19: =(J17*(1+0.09))*0.315 -> 3037250.5 | L19: =(K17*(1+0.08))*0.31 -> 3228163.4 | M19: =(L17*(1+0.07))*0.305 -> 3398423
B20: Financial Services | D20: =(Historicals!H16*(1+0.21))*0.115 -> 468935.5 | E20: =(D17*(1+0.19))*0.13 -> 630820.19 | F20: =(E17*(1+0.17))*0.145 -> 823220.35 | G20: =(F17*(1+0.15))*0.16 -> 1044638.2 | H20: =(G17*(1+0.13))*0.175 -> 1291107.6 | I20: =(H17*(1+0.1))*0.19 -> 1541951.3 | J20: =(I17*(1+0.09))*0.205 -> 1813415.9 | K20: =(J17*(1+0.09))*0.215 -> 2073044 | L20: =(K17*(1+0.08))*0.225 -> 2343021.8 | M20: =(L17*(1+0.07))*0.235 -> 2618457
B21: Others / Enterprise | D21: =(Historicals!H16*(1+0.21))*0.005 -> 20388.5 | E21: =(D17*(1+0.19))*0.005 -> 24262.315 | F21: =(E17*(1+0.17))*0.005 -> 28386.909 | G21: =(F17*(1+0.15))*0.005 -> 32644.945 | H21: =(G17*(1+0.13))*0.005 -> 36888.788 | I21: =(H17*(1+0.1))*0.005 -> 40577.666 | J21: =(I17*(1+0.09))*0.005 -> 44229.656 | K21: =(J17*(1+0.09))*0.005 -> 48210.325 | L21: =(K17*(1+0.08))*0.005 -> 52067.152 | M21: =(L17*(1+0.07))*0.005 -> 55711.852
B23: COGS | D23: =-D17*0.565 -> -2303900.5 | E23: =-E17*0.56 -> -2717379.3 | F23: =-F17*0.555 -> -3150946.8 | G23: =-G17*0.55 -> -3590943.9 | H23: =-H17*0.545 -> -4020877.9 | I23: =-I17*0.545 -> -4422965.6 | J23: =-J17*0.54 -> -4776802.9 | K23: =-K17*0.54 -> -5206715.2 | L23: =-L17*0.535 -> -5571185.2 | M23: =-M17*0.535 -> -5961168.2
B24: Gross Profit | D24: =SUM(D17,D23) -> 1773799.5 | E24: =SUM(E17,E23) -> 2135083.7 | F24: =SUM(F17,F23) -> 2526434.9 | G24: =SUM(G17,G23) -> 2938045 | H24: =SUM(H17,H23) -> 3356879.7 | I24: =SUM(I17,I23) -> 3692567.6 | J24: =SUM(J17,J23) -> 4069128.4 | K24: =SUM(K17,K23) -> 4435349.9 | ... M24: =SUM(M17,M23) -> 5181202.2
A26: VC | B26: Selling & marketing | C26: [variable only] | D26: =-D17*0.108 -> -440391.6 | E26: =-E17*0.105 -> -509508.62 | F26: =-F17*0.102 -> -579092.93 | G26: =-G17*0.1 -> -652898.9 | H26: =-H17*0.098 -> -723020.24 | I26: =-I17*0.097 -> -787206.73 | J26: =-J17*0.095 -> -840363.47 | K26: =-K17*0.093 -> -896712.05 | L26: =-L17*0.091 -> -947622.16 | M26: =-M17*0.09 -> -1002813.3
A27: FC | B27: Salary & wages | C27: [fixed only] | D27: =-D17*0.078 -> -318060.6 | E27: =-E17*0.073 -> -354229.8 | F27: =-F17*0.068 -> -386061.96 | G27: =-G17*0.065 -> -424384.28 | H27: =-H17*0.062 -> -457420.97 | I27: =-I17*0.06 -> -486932 | J27: =-J17*0.058 -> -513064.01 | K27: =-K17*0.056 -> -539955.65 | L27: =-L17*0.054 -> -562325.24 | M27: =-M17*0.052 -> -579403.26
A28: FC | B28: General & Admin | C28: [fixed only] | D28: =-D17*0.05 -> -203885 | E28: =-E17*0.047 -> -228065.76 | F28: =-F17*0.045 -> -255482.18 | G28: =-G17*0.043 -> -280746.53 | H28: =-H17*0.041 -> -302488.06 | I28: =-I17*0.04 -> -324621.33 | J28: =-J17*0.039 -> -344991.32 | K28: =-K17*0.038 -> -366398.47 | L28: =-L17*0.037 -> -385296.92 | M28: =-M17*0.036 -> -401125.34
A29: FC | B29: Research & Development | C29: [fixed only] | D29: =-D17*0.125 -> -509712.5 | E29: =-E17*0.12 -> -582295.56 | F29: =-F17*0.115 -> -652898.9 | G29: =-G17*0.11 -> -718188.79 | H29: =-H17*0.105 -> -774664.54 | I29: =-I17*0.102 -> -827784.4 | J29: =-J17*0.1 -> -884593.13 | K29: =-K17*0.098 -> -944922.38 | L29: =-L17*0.095 -> -989275.88 | M29: =-M17*0.09 -> -1002813.3
A30: FC | B30: Other Op Income / (Exp) | C30: [fixed only] | D30: =D17*0.005 -> 20388.5 | E30: =E17*0.005 -> 24262.315 | F30: =F17*0.005 -> 28386.909 | G30: =G17*0.005 -> 32644.945 | H30: =H17*0.005 -> 36888.788 | I30: =I17*0.005 -> 40577.666 | J30: =J17*0.005 -> 44229.656 | K30: =K17*0.005 -> 48210.325 | ... M30: =M17*0.005 -> 55711.852
B31: EBIT | D31: =SUM(D24:D30) -> 322138.3 | E31: =SUM(E24:E30) -> 485246.3 | F31: =SUM(F24:F30) -> 681285.81 | G31: =SUM(G24:G30) -> 894471.49 | H31: =SUM(H24:H30) -> 1136174.7 | I31: =SUM(I24:I30) -> 1306600.9 | J31: =SUM(J24:J30) -> 1530346.1 | K31: =SUM(K24:K30) -> 1735571.7 | ... M31: =SUM(M24:M30) -> 2250758.8
B33: Add: Depreciation | D33: =D17*0.04 -> 163108 | E33: =E17*0.04 -> 194098.52 | F33: =F17*0.04 -> 227095.27 | G33: =G17*0.04 -> 261159.56 | H33: =H17*0.04 -> 295110.3 | I33: =I17*0.04 -> 324621.33 | J33: =J17*0.04 -> 353837.25 | K33: =K17*0.04 -> 385682.6 | ... M33: =M17*0.04 -> 445694.82
B34: Add: Amortisation | D34: =D17*0.01 -> 40777 | E34: =E17*0.01 -> 48524.63 | F34: =F17*0.01 -> 56773.817 | G34: =G17*0.01 -> 65289.89 | H34: =H17*0.01 -> 73777.575 | I34: =I17*0.01 -> 81155.333 | J34: =J17*0.01 -> 88459.313 | K34: =K17*0.01 -> 96420.651 | ... M34: =M17*0.01 -> 111423.7
B35: EBITDA | D35: =SUM(D31:D34) -> 526023.3 | E35: =SUM(E31:E34) -> 727869.45 | F35: =SUM(F31:F34) -> 965154.89 | G35: =SUM(G31:G34) -> 1220920.9 | H35: =SUM(H31:H34) -> 1505062.5 | I35: =SUM(I31:I34) -> 1712377.5 | J35: =SUM(J31:J34) -> 1972642.7 | K35: =SUM(K31:K34) -> 2217675 | ... M35: =SUM(M31:M34) -> 2807877.3
B36: Source: Management forecast
B39: Key financial ratios
D40: FY26F | E40: FY27F | F40: FY28F | G40: FY29F | H40: FY30F | I40: FY31F | J40: FY32F | K40: FY33F | L40: FY34F | M40: FY35F
B41: y-o-y growth
B42: Revenue | D42: 0.21 | E42: 0.19 | F42: 0.17 | G42: 0.15 | H42: 0.13 | I42: 0.1 | J42: 0.09 | K42: 0.09 | L42: 0.08 | M42: 0.07
B43: COGS | D43: 0.2 | E43: 0.18 | F43: 0.16 | G43: 0.14 | H43: 0.12 | I43: 0.1 | J43: 0.08 | K43: 0.09 | L43: 0.07 | M43: 0.07
B44: Salary & wages | D44: -0.02 | E44: 0.11 | F44: 0.09 | G44: 0.1 | H44: 0.08 | I44: 0.06 | J44: 0.05 | K44: 0.05 | L44: 0.04 | M44: 0.03
B45: General & Admin | D45: 0.52 | E45: 0.12 | F45: 0.12 | G45: 0.1 | H45: 0.08 | I45: 0.07 | J45: 0.06 | K45: 0.06 | L45: 0.05 | M45: 0.04
B46: Research & Development | D46: 0.19 | E46: 0.14 | F46: 0.12 | G46: 0.1 | H46: 0.08 | I46: 0.07 | J46: 0.07 | K46: 0.07 | L46: 0.05 | M46: 0.01
B47: Other Op Income / (Exp) | D47: 0.02 | E47: 0.19 | F47: 0.17 | G47: 0.15 | H47: 0.13 | I47: 0.1 | J47: 0.09 | K47: 0.09 | L47: 0.08 | M47: 0.07
B49: % of revenue
B50: Selling & marketing | D50: 0.11 | E50: 0.11 | F50: 0.1 | G50: 0.1 | H50: 0.1 | I50: 0.1 | J50: 0.1 | K50: 0.09 | L50: 0.09 | M50: 0.09
B51: GP margin | D51: 0.44 | E51: 0.44 | F51: 0.45 | G51: 0.45 | H51: 0.46 | I51: 0.46 | J51: 0.46 | K51: 0.46 | L51: 0.47 | M51: 0.47
B52: EBIT margin | D52: 0.08 | E52: 0.1 | F52: 0.12 | G52: 0.14 | H52: 0.15 | I52: 0.16 | J52: 0.17 | K52: 0.18 | L52: 0.19 | M52: 0.2
B53: EBITDA margin | D53: 0.13 | E53: 0.15 | F53: 0.17 | G53: 0.19 | H53: 0.2 | I53: 0.21 | J53: 0.22 | K53: 0.23 | L53: 0.24 | M53: 0.25
B54: Source: FVA's computation
B56: Selected Capex | C56: 1 | D56: =IF($C$56=$A$66,D66,IF($C$56=$A$77,D77,D86)) -> -122331 | E56: =IF($C$56=$A$66,E66,IF($C$56=$A$77,E77,E86)) -> -145573.89 | F56: =IF($C$56=$A$66,F66,IF($C$56=$A$77,F77,F86)) -> -170321.45 | G56: =IF($C$56=$A$66,G66,IF($C$56=$A$77,G77,G86)) -> -195869.67 | H56: =IF($C$56=$A$66,H66,IF($C$56=$A$77,H77,H86)) -> -221332.73 | I56: =IF($C$56=$A$66,I66,IF($C$56=$A$77,I77,I86)) -> -243466 | J56: =IF($C$56=$A$66,J66,IF($C$56=$A$77,J77,J86)) -> -265377.94 | K56: =IF($C$56=$A$66,K66,IF($C$56=$A$77,K77,K86)) -> -289261.95 | ... M56: =IF($C$56=$A$66,M66,IF($C$56=$A$77,M77,M86)) -> -334271.11
B57: Selected Change in NWC | C57: 1 | D57: =IF($C$57=$A$100,D100,IF($C$57=$A$119,D119,D131)) -> -353700.45 | E57: =IF($C$57=$A$100,E100,IF($C$57=$A$119,E119,E131)) -> -330919.88 | F57: =IF($C$57=$A$100,F100,IF($C$57=$A$119,F119,F131)) -> -348596.95 | G57: =IF($C$57=$A$100,G100,IF($C$57=$A$119,G119,G131)) -> -349683.94 | H57: =IF($C$57=$A$100,H100,IF($C$57=$A$119,H119,H131)) -> -316727.52 | I57: =IF($C$57=$A$100,I100,IF($C$57=$A$119,I119,I131)) -> -239069.66 | J57: =IF($C$57=$A$100,J100,IF($C$57=$A$119,J119,J131)) -> -251544.85 | K57: =IF($C$57=$A$100,K100,IF($C$57=$A$119,K119,K131)) -> -341975.22 | ... M57: =IF($C$57=$A$100,M100,IF($C$57=$A$119,M119,M131)) -> -282533.48
...

Sheet Sheet2

Sheet Combined
B1: ="("&curr&" "&Input!D8&")" -> (USD k) | C1: =Historicals!D15 -> FY21 | D1: =Historicals!E15 -> FY22 | E1: =Historicals!F15 -> FY23 | F1: =Historicals!G15 -> FY24 | G1: =Historicals!H15 -> FY25 | H1: 3-Year Average | I1: =Forecast!D16 -> FY26F | J1: =Forecast!E16 -> FY27F | K1: =Forecast!F16 -> FY28F | L1: =Forecast!G16 -> FY29F | M1: =Forecast!H16 -> FY30F | N1: =Forecast!I16 -> FY31F | O1: =Forecast!J16 -> FY32F | P1: =Forecast!K16 -> FY33F | ... R1: =Forecast!M16 -> FY35F | S1: 5-Year CAGR
B2: ="Historical " & B43 -> Historical Revenue | C2: =Historicals!D16 -> 675000 | D2: =Historicals!E16 -> 1433000 | E2: =Historicals!F16 -> 2359000 | F2: =Historicals!G16 -> 2797000 | G2: =Historicals!H16 -> 3370000
B3: ="Forecast " & B43 -> Forecast Revenue | I3: =Forecast!D17 -> 4077700 | J3: =Forecast!E17 -> 4852463 | K3: =Forecast!F17 -> 5677381.7 | L3: =Forecast!G17 -> 6528989 | M3: =Forecast!H17 -> 7377757.5 | N3: =Forecast!I17 -> 8115533.3 | O3: =Forecast!J17 -> 8845931.3 | P3: =Forecast!K17 -> 9642065.1 | ... R3: =Forecast!M17 -> 11142370 | S3: =(M3/G2)^(1/5)-1 -> 0.169658
B4: =B43 & " YoY Growth %" -> Revenue YoY Growth % | C4: =Historicals!D48 -> 0.357 | D4: =Historicals!E48 -> 0.194 | E4: =Historicals!F48 -> 0.124 | F4: =Historicals!G48 -> 0.116 | G4: =Historicals!H48 -> 0.109 | H4: =Historicals!I48 -> 0.116 | I4: =Forecast!E44 -> 0.11 | J4: =Forecast!E43 -> 0.18 | K4: =Forecast!F43 -> 0.16 | L4: =Forecast!G43 -> 0.14 | M4: =Forecast!H43 -> 0.12 | N4: =Forecast!I43 -> 0.1 | O4: =Forecast!J43 -> 0.08 | P4: =Forecast!K43 -> 0.09 | Q4: =Forecast!L43 -> 0.07 | R4: =Forecast!M43 -> 0.07
B5: ="Historical " & B44 -> Historical Gross Profit | C5: =Historicals!D20 -> -395000 | D5: =Historicals!E20 -> 77000 | E5: =Historicals!F20 -> 860000 | F5: =Historicals!G20 -> 1174000 | G5: =Historicals!H20 -> 1456000
B6: ="Forecast " & B44 -> Forecast Gross Profit | I6: =Forecast!D24 -> 1773799.5 | J6: =Forecast!E24 -> 2135083.7 | K6: =Forecast!F24 -> 2526434.9 | L6: =Forecast!G24 -> 2938045 | M6: =Forecast!H24 -> 3356879.7 | N6: =Forecast!I24 -> 3692567.6 | O6: =Forecast!J24 -> 4069128.4 | P6: =Forecast!K24 -> 4435349.9 | ... R6: =Forecast!M24 -> 5181202.2 | S6: =(M6/G5)^(1/5)-1 -> 0.18182965
B7: =B44 & " Margin" -> Gross Profit Margin | C7: =Historicals!D58 | D7: =Historicals!E58 | E7: =Historicals!F58 | F7: =Historicals!G58 | G7: =Historicals!H58 | H7: =Historicals!I58 | I7: =Forecast!D52 -> 0.08 | J7: =Forecast!E52 -> 0.1 | K7: =Forecast!F52 -> 0.12 | L7: =Forecast!G52 -> 0.14 | M7: =Forecast!H52 -> 0.15 | N7: =Forecast!I52 -> 0.16 | O7: =Forecast!J52 -> 0.17 | P7: =Forecast!K52 -> 0.18 | ... R7: =Forecast!M52 -> 0.2
B8: ="Historical " & B45 -> Historical Selling & marketing | C8: =Historicals!D22 -> -241000 | D8: =Historicals!E22 -> -278000 | E8: =Historicals!F22 -> -293000 | F8: =Historicals!G22 -> -324000 | G8: =Historicals!H22 -> -367000
B9: ="Forecast " & B45 -> Forecast Selling & marketing | I9: =Forecast!D26 -> -440391.6 | J9: =Forecast!E26 -> -509508.62 | K9: =Forecast!F26 -> -579092.93 | L9: =Forecast!G26 -> -652898.9 | M9: =Forecast!H26 -> -723020.24 | N9: =Forecast!I26 -> -787206.73 | O9: =Forecast!J26 -> -840363.47 | P9: =Forecast!K26 -> -896712.05 | ... R9: =Forecast!M26 -> -1002813.3 | S9: =(M9/G8)^(1/5)-1 -> 0.14524097
B10: =B45 & "as a % of revenue" -> Selling & marketingas a % of revenue | C10: =Historicals!D57 -> 0 | D10: =Historicals!E57 -> 0 | E10: =Historicals!F57 -> 0 | F10: =Historicals!G57 -> 0 | G10: =Historicals!H57 -> 0 | H10: =Historicals!I57 -> 0 | I10: =Forecast!D51 -> 0.44 | J10: =Forecast!E51 -> 0.44 | K10: =Forecast!F51 -> 0.45 | L10: =Forecast!G51 -> 0.45 | M10: =Forecast!H51 -> 0.46 | N10: =Forecast!I51 -> 0.46 | O10: =Forecast!J51 -> 0.46 | P10: =Forecast!K51 -> 0.46 | ... R10: =Forecast!M51 -> 0.47
B11: ="Historical " & B46 -> Historical Salary & wages | C11: =Historicals!D23 -> -380800 | D11: =Historicals!E23 -> -228200 | E11: =Historicals!F23 -> -385000 | F11: =Historicals!G23 -> -358400 | G11: =Historicals!H23 -> -321300
B12: ="Forecast " & B46 -> Forecast Salary & wages | I12: =Forecast!D27 -> -318060.6 | J12: =Forecast!E27 -> -354229.8 | K12: =Forecast!F27 -> -386061.96 | L12: =Forecast!G27 -> -424384.28 | M12: =Forecast!H27 -> -457420.97 | N12: =Forecast!I27 -> -486932 | O12: =Forecast!J27 -> -513064.01 | P12: =Forecast!K27 -> -539955.65 | ... R12: =Forecast!M27 -> -579403.26 | S12: =(M12/G11)^(1/5)-1 -> 0.073200999
B13: =B46 & " YoY Growth %" -> Salary & wages YoY Growth % | C13: =Historicals!D50 -> -0.673 | D13: =Historicals!E50 -> -0.904 | E13: =Historicals!F50 -> -0.164 | F13: =Historicals!G50 -> -0.02 | G13: =Historicals!H50 -> 0.066 | H13: =Historicals!I50 -> -0.039 | I13: =Forecast!D45 -> 0.52 | J13: =Forecast!E45 -> 0.12 | K13: =Forecast!F45 -> 0.12 | L13: =Forecast!G45 -> 0.1 | M13: =Forecast!H45 -> 0.08 | N13: =Forecast!I45 -> 0.07 | O13: =Forecast!J45 -> 0.06 | P13: =Forecast!K45 -> 0.06 | ... R13: =Forecast!M45 -> 0.04
B14: ="Historical " & B47 -> Historical General & Admin | C14: =Historicals!D24 -> -163200 | D14: =Historicals!E24 -> -193800 | E14: =Historicals!F24 -> -165000 | F14: =Historicals!G24 -> -153600 | G14: =Historicals!H24 -> -137700
B15: ="Forecast " & B47 -> Forecast General & Admin | I15: =Forecast!D28 -> -203885 | J15: =Forecast!E28 -> -228065.76 | K15: =Forecast!F28 -> -255482.18 | L15: =Forecast!G28 -> -280746.53 | M15: =Forecast!H28 -> -302488.06 | N15: =Forecast!I28 -> -324621.33 | O15: =Forecast!J28 -> -344991.32 | P15: =Forecast!K28 -> -366398.47 | ... R15: =Forecast!M28 -> -401125.34 | S15: =(M15/G14)^(1/5)-1 -> 0.17045537
B16: =B47 & " YoY Growth %" -> General & Admin YoY Growth % | C16: =Historicals!D51 -> -0.584 | D16: =Historicals!E51 -> -0.834 | E16: =Historicals!F51 -> -0.107 | F16: =Historicals!G51 -> 0.033 | G16: =Historicals!H51 -> 0.117 | H16: =Historicals!I51 -> 0.014 | I16: =Forecast!D46 -> 0.19 | J16: =Forecast!E46 -> 0.14 | K16: =Forecast!F46 -> 0.12 | L16: =Forecast!G46 -> 0.1 | M16: =Forecast!H46 -> 0.08 | N16: =Forecast!I46 -> 0.07 | O16: =Forecast!J46 -> 0.07 | P16: =Forecast!K46 -> 0.07 | ... R16: =Forecast!M46 -> 0.01
B17: ="Historical " & B48 -> Historical Other Op Inc/(Exp) | C17: =Historicals!D26 -> 12000 | D17: =Historicals!E26 -> 17000 | E17: =Historicals!F26 -> 17000 | F17: =Historicals!G26 -> 17000 | G17: =Historicals!H26 -> 20000
B18: ="Forecast " & B48 -> Forecast Other Op Inc/(Exp) | I18: =Forecast!D29 -> -509712.5 | J18: =Forecast!E29 -> -582295.56 | K18: =Forecast!F29 -> -652898.9 | L18: =Forecast!G29 -> -718188.79 | M18: =Forecast!H29 -> -774664.54 | N18: =Forecast!I29 -> -827784.4 | O18: =Forecast!J29 -> -884593.13 | P18: =Forecast!K29 -> -944922.38 | ... R18: =Forecast!M29 -> -1002813.3 | S18: =(M18/G17)^(1/5)-1 -> -3.0778622
B19: =B48 & " YoY Growth %" -> Other Op Inc/(Exp) YoY Growth % | C19: =Historicals!D52 | D19: =Historicals!E52 | E19: =Historicals!F52 | F19: =Historicals!G52 | G19: =Historicals!H52 | H19: =Historicals!I52 | I19: =Forecast!D47 -> 0.02 | J19: =Forecast!E47 -> 0.19 | K19: =Forecast!F47 -> 0.17 | L19: =Forecast!G47 -> 0.15 | M19: =Forecast!H47 -> 0.13 | N19: =Forecast!I47 -> 0.1 | O19: =Forecast!J47 -> 0.09 | P19: =Forecast!K47 -> 0.09 | ... R19: =Forecast!M47 -> 0.07
B20: ="Historical " & B49 -> #REF! | C20: =Historicals!#REF! -> #REF! | D20: =Historicals!#REF! -> #REF! | E20: =Historicals!#REF! -> #REF! | F20: =Historicals!#REF! -> #REF! | G20: =Historicals!#REF! -> #REF!
B21: ="Forecast " & B49 -> #REF! | I21: =Forecast!D30 -> 20388.5 | J21: =Forecast!E30 -> 24262.315 | K21: =Forecast!F30 -> 28386.909 | L21: =Forecast!G30 -> 32644.945 | M21: =Forecast!H30 -> 36888.788 | N21: =Forecast!I30 -> 40577.666 | O21: =Forecast!J30 -> 44229.656 | P21: =Forecast!K30 -> 48210.325 | ... R21: =Forecast!M30 -> 55711.852 | S21: =(M21/G20)^(1/5)-1 -> #REF!
B22: =B49 & " YoY Growth %" -> #REF! | C22: =Historicals!D53 -> 0 | D22: =Historicals!E53 -> 0 | E22: =Historicals!F53 -> 0 | F22: =Historicals!G53 -> 0 | G22: =Historicals!H53 -> 0 | H22: =Historicals!I53 -> 0 | I22: =Forecast!D48 -> 0 | J22: =Forecast!E48 -> 0 | K22: =Forecast!F48 -> 0 | L22: =Forecast!G48 -> 0 | M22: =Forecast!H48 -> 0 | N22: =Forecast!I48 -> 0 | O22: =Forecast!J48 -> 0 | P22: =Forecast!K48 -> 0 | ... R22: =Forecast!M48 -> 0
B23: ="Historical " & B50 -> Historical EBITDA | C23: =Historicals!D31 -> -1166000 | D23: =Historicals!E31 -> -629000 | E23: =Historicals!F31 -> 135000 | F23: =Historicals!G31 -> 503000 | G23: =Historicals!H31 -> 876000
B24: ="Forecast " & B50 -> Forecast EBITDA | I24: =Forecast!D35 -> 526023.3 | J24: =Forecast!E35 -> 727869.45 | K24: =Forecast!F35 -> 965154.89 | L24: =Forecast!G35 -> 1220920.9 | M24: =Forecast!H35 -> 1505062.5 | N24: =Forecast!I35 -> 1712377.5 | O24: =Forecast!J35 -> 1972642.7 | P24: =Forecast!K35 -> 2217675 | ... R24: =Forecast!M35 -> 2807877.3 | S24: =(M24/G23)^(1/5)-1 -> 0.11432042
B25: =B50 & " Margin" -> EBITDA Margin | C25: =Historicals!D60 -> 0 | D25: =Historicals!E60 -> 0 | E25: =Historicals!F60 -> 0 | F25: =Historicals!G60 -> 0 | G25: =Historicals!H60 -> 0 | H25: =Historicals!I59 -> 3-YR CAGR | I25: =Forecast!D54 -> 0 | J25: =Forecast!E54 -> 0 | K25: =Forecast!F54 -> 0 | L25: =Forecast!G54 -> 0 | M25: =Forecast!H54 -> 0 | N25: =Forecast!I54 -> 0 | O25: =Forecast!J54 -> 0 | P25: =Forecast!K54 -> 0 | ... R25: =Forecast!M54 -> 0
B26: ="Historical " & B51 -> Historical Net Working Capital | C26: =Historicals!D129 -> 449000 | D26: =Historicals!E129 -> 622000 | E26: =Historicals!F129 -> 781000 | F26: =Historicals!G129 -> 1004000 | G26: =Historicals!H129 -> 1361000
B27: ="Forecast " & B51 -> Forecast Net Working Capital | I27: =Forecast!D57 -> -353700.45 | J27: =Forecast!E57 -> -330919.88 | K27: =Forecast!F57 -> -348596.95 | L27: =Forecast!G57 -> -349683.94 | M27: =Forecast!H57 -> -316727.52 | N27: =Forecast!I57 -> -239069.66 | O27: =Forecast!J57 -> -251544.85 | P27: =Forecast!K57 -> -341975.22 | ... R27: =Forecast!M57 -> -282533.48 | S27: =(M27/G26)^(1/5)-1 -> -1.7470773
B28: =B51 & " / Sales %" -> Net Working Capital / Sales % | C28: =Historicals!D133 -> -0.64148148 | D28: =Historicals!E133 -> -0.24982554 | E28: =Historicals!F133 -> -0.24247563 | F28: =Historicals!G133 -> -0.48873793 | G28: =Historicals!H133 -> -0.47062315 | H28: =Historicals!#REF! -> #REF! | I28: =IFERROR(I27/I3,"") -> -0.086740183 | J28: =IFERROR(J27/J3,"") -> -0.06819627 | K28: =IFERROR(K27/K3,"") -> -0.061401007 | L28: =IFERROR(L27/L3,"") -> -0.053558666 | M28: =IFERROR(M27/M3,"") -> -0.042930052 | N28: =IFERROR(N27/N3,"") -> -0.029458281 | O28: =IFERROR(O27/O3,"") -> -0.02843622 | P28: =IFERROR(P27/P3,"") -> -0.03546701 | ... R28: =IFERROR(R27/R3,"") -> -0.025356676
B29: Fixed Asset Turnover ratio | C29: =Historicals!D190 -> -0.93481481 | D29: =Historicals!E190 -> -1.0118519 | E29: =Historicals!F190 -> -1.5185185 | F29: =Historicals!G190 -> -2.9511111 | G29: =Historicals!H190 -> -3.5007407 | H29: =Historicals!I190 -> -2.6567901 | I29: =Forecast!D72 -> 0 | J29: =Forecast!E72 -> 0 | K29: =Forecast!F72 -> 0 | L29: =Forecast!G72 -> 0 | M29: =Forecast!H72 -> 0 | N29: =Forecast!I72 -> 0 | O29: =Forecast!J72 -> 0 | P29: =Forecast!K72 -> 0 | ... R29: =Forecast!M72 -> 0
B30: ="Historical " & B52 -> Historical 0 | C30: =Historicals!D141 -> 4838000 | D30: =Historicals!E141 -> 1952000 | E30: =Historicals!F141 -> 3138000 | F30: =Historicals!G141 -> 2964000 | G30: =Historicals!H141 -> 3433000
B31: ="Forecast " & B52 -> Forecast 0 | I31: =Forecast!D100 -> -353700.45 | J31: =Forecast!E100 -> -330919.88 | K31: =Forecast!F100 -> -348596.95 | L31: =Forecast!G100 -> -349683.94 | M31: =Forecast!H100 -> -316727.52 | N31: =Forecast!I100 -> -239069.66 | O31: =Forecast!J100 -> -251544.85 | P31: =Forecast!K100 -> -341975.22 | ... R31: =Forecast!M100 -> -282533.48 | S31: =(M31/G30)^(1/5)-1 -> -1.6208725
B32: =Historicals!B198 -> 0 | C32: =Historicals!D198 -> 0 | D32: =Historicals!E198 -> 0 | E32: =Historicals!F198 -> 0 | F32: =Historicals!G198 -> 0 | G32: =Historicals!H198 -> 0 | H32: =Historicals!I198 -> 0 | I32: =Forecast!D105 -> 112 | J32: =Forecast!E105 -> 113 | K32: =Forecast!F105 -> 113 | L32: =Forecast!G105 -> 114 | M32: =Forecast!H105 -> 114 | N32: =Forecast!I105 -> 115 | O32: =Forecast!J105 -> 115 | P32: =Forecast!K105 -> 115 | ... R32: =Forecast!M105 -> 116
B33: =Historicals!B199 -> 0 | C33: =Historicals!D199 -> 0 | D33: =Historicals!E199 -> 0 | E33: =Historicals!F199 -> 0 | F33: =Historicals!G199 -> 0 | G33: =Historicals!H199 -> 0 | H33: =Historicals!I199 -> 0 | I33: =Forecast!D106 -> 17 | J33: =Forecast!E106 -> 16 | K33: =Forecast!F106 -> 15 | L33: =Forecast!G106 -> 15 | M33: =Forecast!H106 -> 14 | N33: =Forecast!I106 -> 14 | O33: =Forecast!J106 -> 13 | P33: =Forecast!K106 -> 13 | ... R33: =Forecast!M106 -> 12
B34: =Historicals!B200 -> 0 | C34: =Historicals!D200 -> 0 | D34: =Historicals!E200 -> 0 | E34: =Historicals!F200 -> 0 | F34: =Historicals!G200 -> 0 | G34: =Historicals!H200 -> 0 | H34: =Historicals!I200 -> 0 | I34: =Forecast!D107 -> 205 | J34: =Forecast!E107 -> 205 | K34: =Forecast!F107 -> 203 | L34: =Forecast!G107 -> 201 | M34: =Forecast!H107 -> 200 | N34: =Forecast!I107 -> 199 | O34: =Forecast!J107 -> 198 | P34: =Forecast!K107 -> 195 | ... R34: =Forecast!M107 -> 194
B35: =Historicals!B201 -> 0 | C35: =Historicals!D201 -> 0 | D35: =Historicals!E201 -> 0 | E35: =Historicals!F201 -> 0 | F35: =Historicals!G201 -> 0 | G35: =Historicals!H201 -> 0 | H35: =Historicals!I201 -> 0 | I35: =IFERROR(I32+I34-I33,"") -> 300 | J35: =IFERROR(J32+J34-J33,"") -> 302 | K35: =IFERROR(K32+K34-K33,"") -> 301 | L35: =IFERROR(L32+L34-L33,"") -> 300 | M35: =IFERROR(M32+M34-M33,"") -> 300 | N35: =IFERROR(N32+N34-N33,"") -> 300 | O35: =IFERROR(O32+O34-O33,"") -> 300 | P35: =IFERROR(P32+P34-P33,"") -> 297 | ... R35: =IFERROR(R32+R34-R33,"") -> 298
B36: =Historicals!B204 & " as a % of revenue" -> as a % of revenue | C36: =Historicals!D204 -> 0 | D36: =Historicals!E204 -> 0 | E36: =Historicals!F204 -> 0 | F36: =Historicals!G204 -> 0 | G36: =Historicals!H204 -> 0 | H36: =Historicals!I204 -> 0 | I36: =Forecast!D111 -> -0.7 | J36: =Forecast!E111 -> -0.68 | K36: =Forecast!F111 -> -0.66 | L36: =Forecast!G111 -> -0.64 | M36: =Forecast!H111 -> -0.62 | N36: =Forecast!I111 -> -0.6 | O36: =Forecast!J111 -> -0.585 | P36: =Forecast!K111 -> -0.575 | ... R36: =Forecast!M111 -> -0.555
B37: =Historicals!B205 & " as a % of revenue" -> as a % of revenue | C37: =Historicals!D205 -> 0 | D37: =Historicals!E205 -> 0 | E37: =Historicals!F205 -> 0 | F37: =Historicals!G205 -> 0 | G37: =Historicals!H205 -> 0 | H37: =Historicals!I205 -> 0 | I37: =Forecast!D112 | J37: =Forecast!E112 | K37: =Forecast!F112 | L37: =Forecast!G112 | M37: =Forecast!H112 | N37: =Forecast!I112 | O37: =Forecast!J112 | P37: =Forecast!K112 | ... R37: =Forecast!M112
B43: =Historicals!B16 -> Revenue
B44: =Historicals!B20 -> Gross Profit
B45: =Historicals!B22 -> Selling & marketing
...

Sheet Comps
B1: Comparable Companies & Risk Free Rate | T1: EV/EBITDA Excl. Oper. Leases | U1: IQ_TEV_EBITDA_EXCL_OPER_LEASES | V1: IQ_LTM
T2: EV/EBITDA | U2: IQ_TEV_EBITDA | V2: IQ_LTM
B3: New CapIQ Model | T3: 1YR Forward EV/EBITDA | U3: IQ_TEV_EBITDA_FWD | V3: IQ_NTM
C4: =C5 -> 46022 | E4: Multiple | F4: EV/Revenue | I4: Change this field if EV/EBITDA is N.A | T4: EV/EBIT | U4: IQ_TEV_EBIT | V4: IQ_LTM
B5: Valuation Date | C5: =vd -> 46022 | E5: Interval (yrs) | F5: 5Y | I5: =VLOOKUP($F$4,$T$1:$V$7,2,0) -> IQ_TEV_TOTAL_REV | T5: 1YR Forward EV/EBIT | U5: IQ_TEV_EBIT_FWD | V5: IQ_NTM
