Workbook
Name _Div1: #REF!
Name _Div1: #REF!
Name _Div2: #REF!
Name _Div2: #REF!
Name _Div3: #REF!
Name _Div3: #REF!
Name _Div4: #REF!
Name _Div4: #REF!
Name _Regression_Int: 1
Name coup: [1]Convexity!$C$7
Name g_firm: #REF!
Name g_firm: #REF!
Name g_firm: #REF!
Name IQ_CH: 110000
Name IQ_CQ: 5000
Name IQ_CY: 10000
Name IQ_DAILY: 500000
Name IQ_FH: 100000
Name IQ_FQ: 500
Name IQ_FY: 1000
Name IQ_LTM: 2000
Name IQ_MONTH: 15000
Name IQ_NTM: 6000
Name IQ_WEEK: 50000
Name IQ_YTD: 3000
Name k: #REF!
Name k: #REF!
Name k: #REF!
Name k_eq: #REF!
Name k_eq: #REF!
Name mat: [1]Convexity!$C$9
Name price: [1]Convexity!$C$10
Name Price4: #REF!
Name Price4: #REF!
Name Price4: #REF!
Name Print_Area_MI: #REF!
Name Print_Area_MI: #REF!
Name rdebt: #REF!
Name rdebt: #REF!
Name Selling_Price: '[2]Base Case'!$B$11
Name tax_rate: #REF!
Name tax_rate: #REF!
Name tax_rate: #REF!
Name taxtable: #REF!
Name taxtable: #REF!
Name taxtable: #REF!
Name taxtable: #REF!
Name taxtable: #REF!
Name term_g: #REF!
Name term_g: #REF!
Name Variable_Cost_per_unit: '[2]Base Case'!$B$12
Name WACC_5: #REF!
Name WACC_5: #REF!
Name WACC_5: #REF!
Name ytm: [1]Convexity!$C$8

Sheet Capital Allocation
B2: Capital Allocation. Optimal Captial Allocation using Maximum Utility
B3: Capital Allocation > Asset Classes Allocation > Security Selection
B5: Risky Pf (P) only
B6: rf: rate of return of risk-free asset | D6: 0.0495
B7: E(Rp): expected return of risky pf | D7: ='Asset Classes Allocation'!D26 -> 0.29475541
B8: 𝜎 p: SD of risky pf | D8: ='Asset Classes Allocation'!E26 -> 0.2212053
B10: Complete Pf (C). Risk free + Risky Pf
B11: y: weight of risky pf | D11: =(D7-D6)/(D17*D8^2) -> 0.55691001
B12: 1-y: weight of risk free asset | D12: =1-D11 -> 0.44308999
B13: E(rc): expected return of the Complete pf | D13: =D11*D7+D12*D6 -> 0.18608519
B14: 𝜎 c: SD of Complete pf | D14: =D11*D8 -> 0.12319145
B15: Slope: Capital Allocation Line ( Sharpe) | D15: =(D7-D6)/D8 -> 1.108723
B16: Risk Tolerance Score | D16: 55
B17: Risk Aversion Index (A: 1~20)* | D17: =20*(1-D16/100) -> 9
B18: Utility at the risk aversion level | D18: =D13-1/2*D17*D14^2 -> 0.1177926
B19: *Bear (1~5), Normal (1~10), Bull (1~20), Bubble (1~30)
F21: 0.097283828
B22: W of risky pf: y | C22: E(rc) on CAL | D22: 𝜎 c | E22: Utiliity | F22: E(rc) on Indiff.
B23: Max. U | C23: =D13 -> 0.18608519 | D23: =D14 -> 0.12319145 | E23: =D18 -> 0.1177926 | F23: =$F$21+1/2*$D$17*D23^2 -> 0.16557642
B24: 0.1 | C24: 0.074025541 | D24: 0.02212053 | E24: 0.071823611 | F24: =$F$21+1/2*$D$17*D24^2 -> 0.099485758
B25: 0.2 | C25: 0.098551083 | D25: 0.04424106 | E25: 0.089743361 | F25: =$F$21+1/2*$D$17*D25^2 -> 0.10609155
B26: 0.3 | C26: 0.12307662 | D26: 0.066361591 | E26: 0.10325925 | F26: =$F$21+1/2*$D$17*D26^2 -> 0.1171012
B27: 0.4 | C27: 0.14760217 | D27: 0.088482121 | E27: 0.11237128 | F27: =$F$21+1/2*$D$17*D27^2 -> 0.13251471
B28: 0.5 | C28: 0.17212771 | D28: 0.11060265 | E28: 0.11707945 | F28: =$F$21+1/2*$D$17*D28^2 -> 0.15233209
B29: 0.6 | C29: 0.19665325 | D29: 0.13272318 | E29: 0.11738375 | F29: =$F$21+1/2*$D$17*D29^2 -> 0.17655332
B30: 0.7 | C30: 0.22117879 | D30: 0.15484371 | E30: 0.1132842 | F30: =$F$21+1/2*$D$17*D30^2 -> 0.20517842
B31: 0.8 | C31: 0.24570433 | D31: 0.17696424 | E31: 0.10478079 | F31: =$F$21+1/2*$D$17*D31^2 -> 0.23820737
B32: 0.9 | C32: 0.27022987 | D32: 0.19908477 | E32: 0.091873512 | F32: =$F$21+1/2*$D$17*D32^2 -> 0.27564019
B33: 1 | C33: 0.29475541 | D33: 0.2212053 | E33: 0.074562376 | F33: =$F$21+1/2*$D$17*D33^2 -> 0.31747686

Sheet Asset Classes Allocation
B2: Asset Classes Allocation Analysis: Optimal Complete Pf Model
B3: Capital Allocation > Asset Classes Allocation > Security Selection
B5: Securities | C5: Expected Return | D5: Standard Deviation | E5: Corr. Coefficient B,E | F5: Covariance B,E | H5: Efficient Frontier meets CAL with Optimal Risky Pf
B6: Bond Pf (B) | C6: ='Data. Bond Duration & Convexity'!C16 -> 0.15449548 | D6: ='Data. Securities'!N8 -> 0.14724104 | E6: =CORREL('Data. Securities'!AP42:AP100,'Data. Securities'!AS42:AS100) -> 0.43659125 | F6: =$D$6*$D$7*$E$6 -> 0.014219995
B7: Equity Pf (E) | C7: ='Security Allocation'!C64+C8 -> 0.29475541 | D7: ='Security Allocation'!C65 -> 0.2212053
B8: T-Bill | C8: 0.0495 | D8: 0
B10: Risky Asset Portfolio: Weights | F10: Reward to Variability
B11: Bond weight | C11: Equity weight | D11: Expected Return | E11: Standard Deviation | F11: (Sharpe ratio)
B12: 1 | C12: 0 | D12: =$C$6*$B12+$C$7*$C12 -> 0.15449548 | E12: =($B12^2*$D$6^2+$C12^2*$D$7^2+2*$B12*$C12*$F$6)^0.5 -> 0.14724104 | F12: =(D12-$C$8)/E12 -> 0.71308572
B13: 0.9 | C13: 0.1 | D13: =$C$6*$B13+$C$7*$C13 -> 0.16852148 | E13: =($B13^2*$D$6^2+$C13^2*$D$7^2+2*$B13*$C13*$F$6)^0.5 -> 0.14356064 | F13: =(D13-$C$8)/E13 -> 0.82906764
B14: 0.8 | C14: 0.2 | D14: =$C$6*$B14+$C$7*$C14 -> 0.18254747 | E14: =($B14^2*$D$6^2+$C14^2*$D$7^2+2*$B14*$C14*$F$6)^0.5 -> 0.14276842 | F14: =(D14-$C$8)/E14 -> 0.93191107
B15: 0.7 | C15: 0.3 | D15: =$C$6*$B15+$C$7*$C15 -> 0.19657346 | E15: =($B15^2*$D$6^2+$C15^2*$D$7^2+2*$B15*$C15*$F$6)^0.5 -> 0.14491177 | F15: =(D15-$C$8)/E15 -> 1.0149173
B16: 0.6 | C16: 0.4 | D16: =$C$6*$B16+$C$7*$C16 -> 0.21059946 | E16: =($B16^2*$D$6^2+$C16^2*$D$7^2+2*$B16*$C16*$F$6)^0.5 -> 0.14986479 | F16: =(D16-$C$8)/E16 -> 1.0749653
B17: 0.5 | C17: 0.5 | D17: =$C$6*$B17+$C$7*$C17 -> 0.22462545 | E17: =($B17^2*$D$6^2+$C17^2*$D$7^2+2*$B17*$C17*$F$6)^0.5 -> 0.1573624 | F17: =(D17-$C$8)/E17 -> 1.1128799
B18: 0.4 | C18: 0.6 | D18: =$C$6*$B18+$C$7*$C18 -> 0.23865144 | E18: =($B18^2*$D$6^2+$C18^2*$D$7^2+2*$B18*$C18*$F$6)^0.5 -> 0.16706235 | F18: =(D18-$C$8)/E18 -> 1.1322206
B19: 0.3 | C19: 0.7 | D19: =$C$6*$B19+$C$7*$C19 -> 0.25267743 | E19: =($B19^2*$D$6^2+$C19^2*$D$7^2+2*$B19*$C19*$F$6)^0.5 -> 0.17860618 | F19: =(D19-$C$8)/E19 -> 1.1375723
B20: 0.2 | C20: 0.8 | D20: =$C$6*$B20+$C$7*$C20 -> 0.26670343 | E20: =($B20^2*$D$6^2+$C20^2*$D$7^2+2*$B20*$C20*$F$6)^0.5 -> 0.191661 | F20: =(D20-$C$8)/E20 -> 1.1332688
B21: 0.1 | C21: 0.9 | D21: =$C$6*$B21+$C$7*$C21 -> 0.28072942 | E21: =($B21^2*$D$6^2+$C21^2*$D$7^2+2*$B21*$C21*$F$6)^0.5 -> 0.20593966 | F21: =(D21-$C$8)/E21 -> 1.1228018
B22: 0 | C22: 1 | D22: =$C$6*$B22+$C$7*$C22 -> 0.29475541 | E22: =($B22^2*$D$6^2+$C22^2*$D$7^2+2*$B22*$C22*$F$6)^0.5 -> 0.2212053 | F22: =(D22-$C$8)/E22 -> 1.108723
B23: A. Minimum Variance Portfolio of Risky Assets | D23: Expected Return | E23: Min. Standard Deviation | F23: Sharpe Ratio
B24: 1 | C24: =1-$B$24 -> 0 | D24: =$C$6*$B24+$C$7*$C24 -> 0.15449548 | E24: =((($B$24^2)*($D$6^2))+(($C$24^2)*($D$7^2))+(2*$B$24*$C$24*$F$6))^0.5 -> 0.14724104 | F24: =(D24-$C$8)/E24 -> 0.71308572 | G24: short-not allowed
B25: B. Optimal Risky Portfolio. Maximum of Sharpe ratio | D25: Expected Return | E25: Standard Deviation | F25: Max. of Sharpe Ratio
B26: 0 | C26: 1 | D26: =$C$6*$B26+$C$7*$C26 -> 0.29475541 | E26: =((($B$26^2)*($D$6^2))+(($C$26^2)*($D$7^2))+(2*$B$26*$C$26*$F$6))^0.5 -> 0.2212053 | F26: =(D26-$C$8)/E26 -> 1.108723 | G26: short-not allowed
B28: C. Optimal Complete Portfolio with U w/ Risk-Free Asset
B29: Weight y: Optimal Risky Portfolio | D29: =(D26-C8)/('Capital Allocation'!D17*E26^2) -> 0.55691001
B30: Weight (1-y): Risk-Free Asset | D30: =1-D29 -> 0.44308999
B31: Bond weight in the Optimal Complete Pf | D31: =D29*B26 -> 0
B32: Equity weight in the Optimal Complete Pf | D32: =D29*C26 -> 0.55691001
B33: E(rc): expected return of the Overall Complete pf | D33: =D29*D26+D30*C8 -> 0.18608519
B34: 𝜎 c: SD of Overall Complete pf | D34: =D29*E26 -> 0.12319145
B35: Sharpe Ratio (Max. Slope of CAL) | D35: =(D33-C8)/D34 -> 1.108723

Sheet Security Allocation
B1: Index Portfolio Model. GRID + Active Portfolio (Large Growth)
B3: Panel A. Risk Parameters of Pf A (annualized) | C3: ='Data. Securities'!F6 -> ACWI | D3: ='Data. Securities'!G6 -> PWR | E3: ='Data. Securities'!H6 -> ETN | F3: ='Data. Securities'!I6 -> AEP | G3: ='Data. Securities'!J6 -> SBGSY | H3: ='Data. Securities'!K6 -> NVT | I3: ='Data. Securities'!L6 -> HUBB | J3: ='Data. Securities'!M6 -> MLI
B4: Beta | C4: ='Data. Securities'!F17 -> 1 | D4: ='Data. Securities'!G17 -> 1.1426533 | E4: ='Data. Securities'!H17 -> 1.1848108 | F4: ='Data. Securities'!I17 -> 0.65975159 | G4: ='Data. Securities'!J17 -> 1.715945 | H4: ='Data. Securities'!K17 -> 1.2999021 | I4: ='Data. Securities'!L17 -> 0.98604857 | J4: ='Data. Securities'!M17 -> 1.0637776
B5: SD of Excess Return | C5: ='Data. Securities'!F8 -> 0.14970927 | D5: ='Data. Securities'!G8 -> 0.31305007 | E5: ='Data. Securities'!H8 -> 0.27224238 | F5: ='Data. Securities'!I8 -> 0.19049373 | G5: ='Data. Securities'!J8 -> 0.30688909 | H5: ='Data. Securities'!K8 -> 0.30019722 | I5: ='Data. Securities'!L8 -> 0.27717203 | J5: ='Data. Securities'!M8 -> 0.30960777
B6: SD of Residual (e), Firm specific Component | C6: ='Data. Securities'!F10 -> 0 | D6: ='Data. Securities'!G10 -> 0.26217712 | E6: ='Data. Securities'!H10 -> 0.20652664 | F6: ='Data. Securities'!I10 -> 0.31664495 | G6: ='Data. Securities'!J10 -> 0.16788975 | H6: ='Data. Securities'!K10 -> 0.22857457 | I6: ='Data. Securities'!L10 -> 0.36828463 | J6: ='Data. Securities'!M10 -> 0.37877785
B7: SD of Systematic Component | C7: =C4*$C$5 -> 0.14970927 | D7: =D4*$C$5 -> 0.1710658 | E7: =E4*$C$5 -> 0.17737716 | F7: =F4*$C$5 -> 0.098770928 | G7: =G4*$C$5 -> 0.25689287 | H7: =H4*$C$5 -> 0.1946074 | I7: =I4*$C$5 -> 0.14762061 | J7: =J4*$C$5 -> 0.15925737
B8: Correlation with the Market Index | C8: =C4*$C$5/C5 -> 1 | D8: =D4*$C$5/D5 -> 0.54644867 | E8: =E4*$C$5/E5 -> 0.65154134 | F8: =F4*$C$5/F5 -> 0.51849964 | G8: =G4*$C$5/G5 -> 0.83708701 | H8: =H4*$C$5/H5 -> 0.64826514 | I8: =I4*$C$5/I5 -> 0.53259562 | J8: =J4*$C$5/J5 -> 0.51438428
B10: Panel B. Correlation Matrix | C10: =C3 -> ACWI | D10: =D3 -> PWR | E10: =E3 -> ETN | F10: =F3 -> AEP | G10: =G3 -> SBGSY | H10: =H3 -> NVT | I10: =I3 -> HUBB | J10: =J3 -> MLI
B11: {=TRANSPOSE(C3:J3)} -> ACWI | C11: ='Data. Securities'!S7 -> 1
B12: PWR | C12: ='Data. Securities'!S8 -> 0.54644867 | D12: ='Data. Securities'!T8 -> 1
B13: ETN | C13: ='Data. Securities'!S9 -> 0.65154134 | D13: ='Data. Securities'!T9 -> 0.3560339 | E13: ='Data. Securities'!U9 -> 1
B14: AEP | C14: ='Data. Securities'!S10 -> 0.51849964 | D14: ='Data. Securities'!T10 -> 0.28333344 | E14: ='Data. Securities'!U10 -> 0.33782395 | F14: ='Data. Securities'!V10 -> 1
B15: SBGSY | C15: ='Data. Securities'!S11 -> 0.83708701 | D15: ='Data. Securities'!T11 -> 0.45742509 | E15: ='Data. Securities'!U11 -> 0.54539679 | F15: ='Data. Securities'!V11 -> 0.43402931 | G15: ='Data. Securities'!W11 -> 1
B16: NVT | C16: ='Data. Securities'!S12 -> 0.64826514 | D16: ='Data. Securities'!T12 -> 0.35424363 | E16: ='Data. Securities'!U12 -> 0.42237154 | F16: ='Data. Securities'!V12 -> 0.33612524 | G16: ='Data. Securities'!W12 -> 0.54265433 | H16: ='Data. Securities'!X12 -> 1
B17: HUBB | C17: ='Data. Securities'!S13 -> 0.53259562 | D17: ='Data. Securities'!T13 -> 0.29103617 | E17: ='Data. Securities'!U13 -> 0.34700807 | F17: ='Data. Securities'!V13 -> 0.27615064 | G17: ='Data. Securities'!W13 -> 0.44582888 | H17: ='Data. Securities'!X13 -> 0.34526318 | I17: ='Data. Securities'!Y13 -> 1
B18: MLI | C18: ='Data. Securities'!S14 -> 0.51438428 | D18: ='Data. Securities'!T14 -> 0.28108461 | E18: ='Data. Securities'!U14 -> 0.33514263 | F18: ='Data. Securities'!V14 -> 0.26670806 | G18: ='Data. Securities'!W14 -> 0.4305844 | H18: ='Data. Securities'!X14 -> 0.3334574 | I18: ='Data. Securities'!Y14 -> 0.27395882 | J18: ='Data. Securities'!Z14 -> 1
B21: Panel C. The Index Model Covariance Matrix | C21: =C3 -> ACWI | D21: =D3 -> PWR | E21: =E3 -> ETN | F21: =F3 -> AEP | G21: =G3 -> SBGSY | H21: =H3 -> NVT | I21: =I3 -> HUBB | J21: =J3 -> MLI
B22: {=TRANSPOSE(C3:J3)} -> ACWI | C22: ='Data. Securities'!S18 -> 0.022412865
B23: PWR | C23: ='Data. Securities'!S19 -> 0.025610135 | D23: ='Data. Securities'!T19 -> 0.098000348
B24: ETN | C24: ='Data. Securities'!S20 -> 0.026555005 | D24: ='Data. Securities'!T20 -> 0.030343166 | E24: ='Data. Securities'!U20 -> 0.074115912
B25: AEP | C25: ='Data. Securities'!S21 -> 0.014786923 | D25: ='Data. Securities'!T21 -> 0.016896328 | E25: ='Data. Securities'!U21 -> 0.017519707 | F25: ='Data. Securities'!V21 -> 0.03628786
B26: SBGSY | C26: ='Data. Securities'!S22 -> 0.038459244 | D26: ='Data. Securities'!T22 -> 0.043945584 | E26: ='Data. Securities'!U22 -> 0.045566929 | F26: ='Data. Securities'!V22 -> 0.025373547 | G26: ='Data. Securities'!W22 -> 0.094180915
B27: NVT | C27: ='Data. Securities'!S23 -> 0.029134531 | D27: ='Data. Securities'!T23 -> 0.033290669 | E27: ='Data. Securities'!U23 -> 0.034518908 | F27: ='Data. Securities'!V23 -> 0.019221553 | G27: ='Data. Securities'!W23 -> 0.049993253 | H27: ='Data. Securities'!X23 -> 0.090118372
B28: HUBB | C28: ='Data. Securities'!S24 -> 0.022100174 | D28: ='Data. Securities'!T24 -> 0.025252837 | E28: ='Data. Securities'!U24 -> 0.026184525 | F28: ='Data. Securities'!V24 -> 0.014580625 | G28: ='Data. Securities'!W24 -> 0.037922683 | H28: ='Data. Securities'!X24 -> 0.028728063 | I28: ='Data. Securities'!Y24 -> 0.076824335
B29: MLI | C29: ='Data. Securities'!S25 -> 0.023842305 | D29: ='Data. Securities'!T25 -> 0.027243489 | E29: ='Data. Securities'!U25 -> 0.028248621 | F29: ='Data. Securities'!V25 -> 0.015729998 | G29: ='Data. Securities'!W25 -> 0.040912084 | H29: ='Data. Securities'!X25 -> 0.030992662 | I29: ='Data. Securities'!Y25 -> 0.02350967 | J29: ='Data. Securities'!Z25 -> 0.095856972
B32: Panel D. Correlation of Residuals in Pf A | C32: =C21 -> ACWI | D32: =D21 -> PWR | E32: =E21 -> ETN | F32: =F21 -> AEP | G32: =G21 -> SBGSY | H32: =H21 -> NVT | I32: =I21 -> HUBB | J32: =J21 -> MLI
B33: {=TRANSPOSE(C3:J3)} -> ACWI
B34: PWR | D34: ='Data. Securities'!T30 -> 1
B35: ETN | D35: ='Data. Securities'!T31 -> 0.48469274 | E35: ='Data. Securities'!U31 -> 1
B36: AEP | D36: ='Data. Securities'!T32 -> -0.30579047 | E36: ='Data. Securities'!U32 -> -0.7993247 | F36: ='Data. Securities'!V32 -> 1
B37: SBGSY | D37: ='Data. Securities'!T33 -> 0.291441 | E37: ='Data. Securities'!U33 -> 0.35585521 | F37: ='Data. Securities'!V33 -> -0.27909689 | G37: ='Data. Securities'!W33 -> 1
B38: NVT | D38: ='Data. Securities'!T34 -> 0.40668987 | E38: ='Data. Securities'!U34 -> 0.61548094 | F38: ='Data. Securities'!V34 -> -0.55455838 | G38: ='Data. Securities'!W34 -> 0.11064935 | H38: ='Data. Securities'!X34 -> 1
B39: HUBB | D39: ='Data. Securities'!T35 -> -0.69696714 | E39: ='Data. Securities'!U35 -> -0.017644133 | F39: ='Data. Securities'!V35 -> 0.070919419 | G39: ='Data. Securities'!W35 -> -0.08761279 | H39: ='Data. Securities'!X35 -> 0.0037089588 | I39: ='Data. Securities'!Y35 -> 1
B40: MLI | D40: ='Data. Securities'!T36 -> -0.35025618 | E40: ='Data. Securities'!U36 -> -0.58850793 | F40: ='Data. Securities'!V36 -> 0.59472054 | G40: ='Data. Securities'!W36 -> -0.27967656 | H40: ='Data. Securities'!X36 -> -0.23607943 | I40: ='Data. Securities'!Y36 -> 0.36085479 | J40: ='Data. Securities'!Z36 -> 1
B43: Panel E. Macro Forecast and Alpha Forecasts | C43: =C3 -> ACWI | D43: =D3 -> PWR | E43: =E3 -> ETN | F43: =F3 -> AEP | G43: =G3 -> SBGSY | H43: =H3 -> NVT | I43: =I3 -> HUBB | J43: =J3 -> MLI
B44: Adjusted Alpha | C44: ='Data. Securities'!F14 -> 0 | D44: ='Data. Securities'!G14 -> 0.1328109 | E44: ='Data. Securities'!H14 -> 0.085832913 | F44: ='Data. Securities'!I14 -> 0.026141522 | G44: ='Data. Securities'!J16 -> 0.091037173 | H44: ='Data. Securities'!K16 -> 0.12804233 | I44: ='Data. Securities'!L16 -> 0.1372644 | J44: ='Data. Securities'!M16 -> 0.41757036
B45: Beta | C45: =C4 -> 1 | D45: =D4 -> 1.1426533 | E45: =E4 -> 1.1848108 | F45: =F4 -> 0.65975159 | G45: =G4 -> 1.715945 | H45: =H4 -> 1.2999021 | I45: =I4 -> 0.98604857 | J45: =J4 -> 1.0637776
B46: Total Equity Risk Premium E(R) | C46: =C44+C45*$C$47 -> 0.056200006 | D46: =D44+D45*$C$47 -> 0.19702802 | E46: =E44+E45*$C$47 -> 0.15241929 | F46: =F44+F45*$C$47 -> 0.063219565 | G46: =G44+G45*$C$47 -> 0.18747329 | H46: =H44+H45*$C$47 -> 0.20109684 | I46: =I44+I45*$C$47 -> 0.19268034 | J46: =J44+J45*$C$47 -> 0.47735467
B47: Adjusted Market risk premium = | C47: ='Data. Securities'!F7*'Data. Securities'!B27/'Data. Securities'!F27 -> 0.056200006
B49: Panel F. Active Portfolio | E49: Active Pf | F49: =D43 -> PWR | G49: =E43 -> ETN | H49: =F43 -> AEP | I49: =G43 -> SBGSY | J49: =H43 -> NVT | K49: =I43 -> HUBB | L49: =J43 -> MLI
...

Sheet Data. Securities
B2: Data. Security Index Model
B4: Panel 1. Risk & Return Parameters in the Security Index Model | Q4: Panel 2. Correlation and Covariance Matrixs in the Security Index Model
B6: Estimates annualized | E6: T-bill | F6: ACWI | G6: PWR | H6: ETN | I6: AEP | J6: SBGSY | K6: NVT | L6: HUBB | M6: MLI | N6: TLT | R6: Correl (via Index) | S6: =F6 -> ACWI | T6: =G6 -> PWR | U6: =H6 -> ETN | V6: =I6 -> AEP | W6: =J6 -> SBGSY | X6: =K6 -> NVT | Y6: =L6 -> HUBB | Z6: =M6 -> MLI
B7: Expected excess return | E7: 0.0495 | F7: =AVERAGE(E42:E100)*12 -> 0.043535933 | G7: =AVERAGE(H42:H100)*12 -> 0.37697866 | H7: =AVERAGE(M42:M100)*12 -> 0.19727203 | I7: =AVERAGE(R42:R100)*12 -> 0.057797287 | J7: =AVERAGE(W42:W100)*12 -> 0.14492738 | K7: =AVERAGE(AB42:AB100)*12 -> 0.28501098 | L7: =AVERAGE(AG42:AG100)*12 -> 0.20126189 | M7: =AVERAGE(AL42:AL100)*12 -> 0.33528933 | N7: =AVERAGE(AS42:AS100)*12 -> -0.13274896 | R7: GRID | S7: 1
B8: SD of Excess Return | E8: 0 | F8: =_xlfn.STDEV.S(E42:E100)*SQRT(12) -> 0.14970927 | G8: =_xlfn.STDEV.S(H42:H100)*SQRT(12) -> 0.31305007 | H8: =_xlfn.STDEV.S(M42:M100)*SQRT(12) -> 0.27224238 | I8: =_xlfn.STDEV.S(R42:R100)*SQRT(12) -> 0.19049373 | J8: =_xlfn.STDEV.S(W42:W100)*SQRT(12) -> 0.30688909 | K8: =_xlfn.STDEV.S(AB42:AB100)*SQRT(12) -> 0.30019722 | L8: =_xlfn.STDEV.S(AG42:AG100)*SQRT(12) -> 0.27717203 | M8: =_xlfn.STDEV.S(AL42:AL100)*SQRT(12) -> 0.30960777 | N8: =_xlfn.STDEV.S(AS42:AS100)*SQRT(12) -> 0.14724104 | R8: =T6 -> PWR | S8: =G18 -> 0.54644867 | T8: 1
B9: Sharpe Ratio | F9: =F7/F8 -> 0.29080319 | G9: =G7/G8 -> 1.204212 | H9: =H7/H8 -> 0.72461912 | I9: =I7/I8 -> 0.30340783 | J9: =J7/J8 -> 0.47224678 | K9: =K7/K8 -> 0.94941244 | L9: =L7/L8 -> 0.72612625 | M9: =M7/M8 -> 1.0829487 | N9: =N7/N8 -> -0.90157582 | R9: =U6 -> ETN | S9: =H18 -> 0.65154134 | T9: =G18*H18 -> 0.3560339 | U9: 1
B10: SD of Residuals (e) | F10: 0 | G10: =_xlfn.STDEV.S(J42:J100)*SQRT(12) -> 0.26217712 | H10: =_xlfn.STDEV.S(O42:O100)*SQRT(12) -> 0.20652664 | I10: =_xlfn.STDEV.S(T42:T100)*SQRT(12) -> 0.31664495 | J10: =_xlfn.STDEV.S(Y42:Y100)*SQRT(12) -> 0.16788975 | K10: =_xlfn.STDEV.S(AD42:AD100)*SQRT(12) -> 0.22857457 | L10: =_xlfn.STDEV.S(AI42:AI100)*SQRT(12) -> 0.36828463 | M10: =_xlfn.STDEV.S(AN42:AN100)*SQRT(12) -> 0.37877785 | R10: =V6 -> AEP | S10: =I18 -> 0.51849964 | T10: =G18*I18 -> 0.28333344 | U10: =H18*I18 -> 0.33782395 | V10: 1
B11: SD of Systematic component | F11: =F8 -> 0.14970927 | G11: =_xlfn.STDEV.S(I42:I100)*SQRT(12) -> 0.1710658 | H11: =_xlfn.STDEV.S(O42:O100)*SQRT(12) -> 0.20652664 | I11: =_xlfn.STDEV.S(S42:S100)*SQRT(12) -> 0.23612686 | J11: =_xlfn.STDEV.S(X42:X100)*SQRT(12) -> 0.25689287 | K11: =_xlfn.STDEV.S(AC42:AC100)*SQRT(12) -> 0.1946074 | L11: =_xlfn.STDEV.S(AH42:AH100)*SQRT(12) -> 0.34080459 | M11: =_xlfn.STDEV.S(AM42:AM100)*SQRT(12) -> 0.26846442 | R11: =W6 -> SBGSY | S11: =J18 -> 0.83708701 | T11: =G18*J18 -> 0.45742509 | U11: =H18*J18 -> 0.54539679 | V11: =I18*J18 -> 0.43402931 | W11: 1
B12: Covariance | F12: =F8^2 -> 0.022412865 | G12: =_xlfn.COVARIANCE.S($E$42:$E$100,H42:H100)*12 -> 0.025610135 | H12: =_xlfn.COVARIANCE.S($E$42:$E$100,M42:M100)*12 -> 0.026555005 | I12: =_xlfn.COVARIANCE.S($E$42:$E$100,R42:R100)*12 -> 0.014786923 | J12: =_xlfn.COVARIANCE.S($E$42:$E$100,W42:W100)*12 -> 0.038459244 | K12: =_xlfn.COVARIANCE.S($E$42:$E$100,AB42:AB100)*12 -> 0.029134531 | L12: =_xlfn.COVARIANCE.S($E$42:$E$100,AG42:AG100)*12 -> 0.022100174 | M12: =_xlfn.COVARIANCE.S($E$42:$E$100,AL42:AL100)*12 -> 0.023842305 | R12: =$X6 -> NVT | S12: =K18 -> 0.64826514 | T12: =G18*K18 -> 0.35424363 | U12: =H18*K18 -> 0.42237154 | V12: =I18*K18 -> 0.33612524 | W12: =J18*K18 -> 0.54265433 | X12: 1
B13: Alpha (Non-market risk premium in the index model) | F13: 0 | G13: =INTERCEPT(H42:H100,$E$42:$E$100)*12 -> 0.32723218 | H13: =INTERCEPT(M42:M100,$E$42:$E$100)*12 -> 0.14569019 | I13: =INTERCEPT(R42:R100,$E$42:$E$100)*12 -> 0.029074387 | J13: =INTERCEPT(W42:W100,$E$42:$E$100)*12 -> 0.070222118 | K13: =INTERCEPT(AB42:AB100,$E$42:$E$100)*12 -> 0.22841853 | L13: =INTERCEPT(AG42:AG100,$E$42:$E$100)*12 -> 0.15833334 | M13: =INTERCEPT(AL42:AL100,$E$42:$E$100)*12 -> 0.28897677 | R13: =Y6 -> HUBB | S13: =L18 -> 0.53259562 | T13: =$G$18*L18 -> 0.29103617 | U13: =$H$18*L18 -> 0.34700807 | V13: =$I$18*L18 -> 0.27615064 | W13: =$J$18*L18 -> 0.44582888 | X13: =$K$18*L18 -> 0.34526318 | Y13: 1
B14: Adjusted Alpha (a x avg. Market PE / Stock PE) | F14: =F13*$B$27/B27 -> 0 | G14: =G13*$B$27/G27 -> 0.1328109 | H14: =H13*$B$27/H27 -> 0.085832913 | I14: =I13*$B$27/I27 -> 0.026141522 | J14: =J13*$B$27/J27 -> 0.041201119 | K14: =K13*$B$27/K27 -> 0.099900506 | L14: =L13*$B$27/L27 -> 0.10492055 | M14: =M13*$B$27/M27 -> 0.35320904 | R14: =Z6 -> MLI | S14: =M18 -> 0.51438428 | T14: =$G$18*M18 -> 0.28108461 | U14: =$H$18*M18 -> 0.33514263 | V14: =$I$18*M18 -> 0.26670806 | W14: =$J$18*M18 -> 0.4305844 | X14: =$K$18*M18 -> 0.3334574 | Y14: =$L$18*M18 -> 0.27395882 | Z14: 1
B15: Alpha in CAPM (10 yrs market premium) | F15: 0 | G15: =(G7+$E$7-($E$7+G17*($F$7-$E$7))) -> 0.38379352 | H15: =(H7+$E$7-($E$7+H17*($F$7-$E$7))) -> 0.20433832 | I15: =(I7+$E$7-($E$7+I17*($F$7-$E$7))) -> 0.06173209 | J15: =(J7+$E$7-($E$7+J17*($F$7-$E$7))) -> 0.1551614 | K15: =(K7+$E$7-($E$7+K17*($F$7-$E$7))) -> 0.29276368 | L15: =(L7+$E$7-($E$7+L17*($F$7-$E$7))) -> 0.20714275 | M15: =(M7+$E$7-($E$7+M17*($F$7-$E$7))) -> 0.34163377
B16: Adjusted Alpha in CAPM (a x avg. Market PE / Stock PE) | F16: =F15*$B$27/F27 -> 0 | G16: =G15*$B$27/G27 -> 0.15576696 | H16: =H15*$B$27/H27 -> 0.12038528 | I16: =I15*$B$27/I27 -> 0.055504895 | J16: =J15*$B$27/J27 -> 0.091037173 | K16: =K15*$B$27/K27 -> 0.12804233 | L16: =L15*$B$27/L27 -> 0.1372644 | M16: =M15*$B$27/M27 -> 0.41757036
B17: Beta | F17: 1 | G17: =SLOPE(H42:H100,$E$42:$E$100) -> 1.1426533 | H17: =SLOPE(M42:M100,$E$42:$E$100) -> 1.1848108 | I17: =SLOPE(R42:R100,$E$42:$E$100) -> 0.65975159 | J17: =SLOPE(W42:W100,$E$42:$E$100) -> 1.715945 | K17: =SLOPE(AB42:AB100,$E$42:$E$100) -> 1.2999021 | L17: =SLOPE(AG42:AG100,$E$42:$E$100) -> 0.98604857 | M17: =SLOPE(AL42:AL100,$E$42:$E$100) -> 1.0637776 | R17: Covariance (via Index) | S17: =S6 -> ACWI | T17: =T6 -> PWR | U17: =U6 -> ETN | V17: =V6 -> AEP | W17: =W6 -> SBGSY | X17: =X6 -> NVT | Y17: =Y6 -> HUBB | Z17: =Z6 -> MLI
B18: Correlation with Index | F18: 1 | G18: =CORREL($E$42:$E$100,H$42:H$100) -> 0.54644867 | H18: =CORREL($E$42:$E$100,M$42:M$100) -> 0.65154134 | I18: =CORREL($E$42:$E$100,R$42:R$100) -> 0.51849964 | J18: =CORREL($E$42:$E$100,W$42:W$100) -> 0.83708701 | K18: =CORREL($E$42:$E$100,AB$42:AB$100) -> 0.64826514 | L18: =CORREL($E$42:$E$100,AG$42:AG$100) -> 0.53259562 | M18: =CORREL($E$42:$E$100,AL$42:AL$100) -> 0.51438428 | N18: =CORREL($E$42:$E$100,AS$42:AS$100) -> 0.64189949 | R18: GRID | S18: =F8^2 -> 0.022412865
B19: R Squared (Market Determination) | F19: 1 | G19: =G18^2 -> 0.29860615 | H19: =H18^2 -> 0.42450612 | I19: =I18^2 -> 0.26884187 | J19: =J18^2 -> 0.70071466 | K19: =K18^2 -> 0.4202477 | L19: =L18^2 -> 0.2836581 | M19: =M18^2 -> 0.26459119 | R19: =T17 -> PWR | S19: =G17*S18 -> 0.025610135 | T19: =G8^2 -> 0.098000348
B20: 1-R Squared (Firms Specific) | F20: 0 | G20: =1-G19 -> 0.70139385 | H20: =1-H19 -> 0.57549388 | I20: =1-I19 -> 0.73115813 | J20: =1-J19 -> 0.29928534 | K20: =1-K19 -> 0.5797523 | L20: =1-L19 -> 0.7163419 | M20: =1-M19 -> 0.73540881 | R20: =U17 -> ETN | S20: =$H$17*$S$18 -> 0.026555005 | T20: =$H$17*G17*$S$18 -> 0.030343166 | U20: =H8^2 -> 0.074115912
B21: Pf Style. | C21: Value / Blend / Growth | F21: Large Growth | G21: Growth | H21: Growth | I21: Value | J21: Growth | K21: Growth | L21: Growth | M21: Growth | N21: Credit (Investment / High Yield) | R21: =V17 -> AEP | S21: =$I$17*$S$18 -> 0.014786923 | T21: =$I$17*G17*$S$18 -> 0.016896328 | U21: =$I$17*H17*$S$18 -> 0.017519707 | V21: =I8^2 -> 0.03628786
C22: Small / Medium / Large | G22: Large | H22: Large | I22: Large | J22: Large | K22: Medium | L22: Large | M22: Medium | N22: Duration (longer / shorter) | R22: =W17 -> SBGSY | S22: =$J$17*$S$18 -> 0.038459244 | T22: =$J$17*$S$18*G17 -> 0.043945584 | U22: =$J$17*$S$18*H17 -> 0.045566929 | V22: =$J$17*$S$18*I17 -> 0.025373547 | W22: =J8^2 -> 0.094180915
C23: Sector (industry) | G23: Industrials | H23: Utilities | I23: Utilities | J23: Industrials | K23: Industrials | L23: Utilities | M23: Industrials | N23: Issuers (Corporate / Government) | R23: =X17 -> NVT | S23: =$K$17*$S$18 -> 0.029134531 | T23: =$K$17*$S$18*G17 -> 0.033290669 | U23: =$K$17*$S$18*H17 -> 0.034518908 | V23: =$K$17*$S$18*I17 -> 0.019221553 | W23: =$K$17*$S$18*J17 -> 0.049993253 | X23: =K8^2 -> 0.090118372
C24: Themes | G24: Tech | H24: Energy | I24: Energy | J24: AI | K24: Energy | L24: Energy | M24: Materials | N24: Inflation / close-ended / sector… | R24: =Y6 -> HUBB | S24: =$S$18*L17 -> 0.022100174 | T24: =$L$17*$S$18*G17 -> 0.025252837 | U24: =$L$17*$S$18*H17 -> 0.026184525 | V24: =$L$17*$S$18*I17 -> 0.014580625 | W24: =$L$17*$S$18*J17 -> 0.037922683 | X24: =$L$17*$S$18*K17 -> 0.028728063 | Y24: =L8^2 -> 0.076824335
B25: Stock Info. | C25: Current Stock Price (as of April 15th) | F25: 148.8 | G25: 585.36 | H25: 395 | I25: 131.5 | J25: =62.15 -> 62.15 | K25: 131.38 | L25: 526.94 | M25: 118.25 | R25: =Z17 -> MLI | S25: =$S$18*M17 -> 0.023842305 | T25: =$M$17*$S$18*G17 -> 0.027243489 | U25: =$M$17*$S$18*H17 -> 0.028248621 | V25: =$M$17*$S$18*I17 -> 0.015729998 | W25: =$M$17*$S$18*J17 -> 0.040912084 | X25: =$M$17*$S$18*K17 -> 0.030992662 | Y25: =$M$17*$S$18*L17 -> 0.02350967 | Z25: =M8^2 -> 0.095856972
C26: EPS (TTM) | G26: 10.75 | H26: 10.53 | I26: 5.35 | J26: 1.65 | K26: 2.6 | L26: 15.8 | M26: 6.54
B27: 22.1 | C27: PE Ratio (TTM) | F27: 17.12 | G27: =G25/G26 -> 54.452093 | H27: =H25/H26 -> 37.511871 | I27: =I25/I26 -> 24.579439 | J27: =J25/J26 -> 37.666667 | K27: =K25/K26 -> 50.530769 | L27: =L25/L26 -> 33.350633 | M27: =M25/M26 -> 18.08104
C28: 1y Forward Dividend ($) | G28: 0.36 | H28: 4.08 | I28: 3.8 | J28: 0.57 | K28: 0.84 | L28: 4.88 | M28: 0.8 | R28: Correl of Residuals | S28: =S6 -> ACWI | T28: =T6 -> PWR | U28: =U6 -> ETN | V28: =V6 -> AEP | W28: =W6 -> SBGSY | X28: =X6 -> NVT | Y28: =Y6 -> HUBB | Z28: =Z6 -> MLI
C29: 1y Forward Dividend Yield (%) | G29: =G28/G25 -> 0.00061500615 | H29: =H28/H25 -> 0.010329114 | I29: =I28/I25 -> 0.028897338 | J29: =J28/J25 -> 0.0091713596 | K29: =K28/K25 -> 0.0063936672 | L29: =L28/L25 -> 0.0092610164 | M29: =M28/M25 -> 0.0067653277 | R29: SPDR
C30: 1y Target Est. (Consensus) | G30: 593.3 | H30: 404.62 | I30: 136.81 | J30: 65.1 | K30: 148.31 | L30: 445.5 | M30: 142.8 | R30: =T28 -> PWR | T30: 1
C31: 1y Target return ` | G31: =G30/G25-1 -> 0.013564302 | H31: =H30/H25-1 -> 0.02435443 | I31: =I30/I25-1 -> 0.040380228 | J31: =J30/J25-1 -> 0.047465809 | K31: =K30/K25-1 -> 0.12886284 | L31: =L30/L25-1 -> -0.1545527 | M31: =M30/M25-1 -> 0.20761099 | R31: =U28 -> ETN | T31: =CORREL(J42:J100,O42:O100) -> 0.48469274 | U31: 1
B32: Active Pf Weights* (Index model) | F32: ='Security Allocation'!D62 -> 0 | G32: ='Security Allocation'!F62 -> 0.13992865 | H32: ='Security Allocation'!G62 -> 0.14573511 | I32: ='Security Allocation'!H62 -> 0.018882011 | J32: ='Security Allocation'!I62 -> 0.23390145 | K32: ='Security Allocation'!J62 -> 0.17748443 | L32: ='Security Allocation'!K62 -> 0.07329144 | M32: ='Security Allocation'!L62 -> 0.21077691 | R32: =V28 -> AEP | T32: =CORREL(J42:J100,T42:T100) -> -0.30579047 | U32: =CORREL(O42:O100,T42:T100) -> -0.7993247 | V32: 1
R33: =W28 -> SBGSY | T33: =CORREL(J42:J100,Y42:Y100) -> 0.291441 | U33: =CORREL(O42:O100,Y42:Y100) -> 0.35585521 | V33: =CORREL(T42:T100,Y42:Y100) -> -0.27909689 | W33: 1
R34: =X28 -> NVT | T34: =CORREL(J42:J100,AD42:AD100) -> 0.40668987 | U34: =CORREL(O42:O100,AD42:AD100) -> 0.61548094 | V34: =CORREL(T42:T100,AD42:AD100) -> -0.55455838 | W34: =CORREL(Y42:Y100,AD42:AD100) -> 0.11064935 | X34: 1
R35: =Y28 -> HUBB | T35: =CORREL($J$42:$J$100,AI42:AI100) -> -0.69696714 | U35: =CORREL($O$42:$O$100,AI42:AI100) -> -0.017644133 | V35: =CORREL($T$42:$T$100,AI42:AI100) -> 0.070919419 | W35: =CORREL($Y$42:$Y$100,AI42:AI100) -> -0.08761279 | X35: =CORREL($AD$42:$AD$100,AI42:AI100) -> 0.0037089588 | Y35: 1
R36: =Z28 -> MLI | T36: =CORREL($J$42:$J$100,AN42:AN100) -> -0.35025618 | U36: =CORREL($O$42:$O$100,AN42:AN100) -> -0.58850793 | V36: =CORREL($T$42:$T$100,AN42:AN100) -> 0.59472054 | W36: =CORREL($Y$42:$Y$100,AN42:AN100) -> -0.27967656 | X36: =CORREL(AD42:AD100,$AN$42:$AN$100) -> -0.23607943 | Y36: =CORREL(AI42:AI100,AN42:AN100) -> 0.36085479 | Z36: 1
B37: Panel 3. Price information. monthly rate of return and excess returns
T38: =CORREL($J$42:$J$100,AI45:AI104) -> #N/A | Y38: =CORREL(AI43:AI102,#REF!) -> #REF! | Z38: =CORREL(AJ43:AJ103,AO43:AO101) -> #N/A
B39: 60 months | C39: iShares MSCI ACWI ETF (ACWI) | F39: Quanta Services Inc (PWR) | K39: Eaton Corporation PLC (ETN) | P39: American Electric Power Co. (AEP) | U39: Schneider Electric SA (SBGSY) | Z39: nVent Electric PLC (NVT) | AE39: Hubbell Inc (HUBB) | AJ39: Mueller Industries Inc (MLI) | AO39: Equity Pf | AQ39: Bond Pf (TLT) | AU39: Benchmark Check
B40: Dates | C40: Prices | D40: Monthly rate | E40: Benchmark Exces return | F40: Prices | G40: Monthly rate | H40: Exces return | I40: Mkt Prem. Systematic component | J40: Residuals. Unsystematic component | K40: Prices | L40: Monthly rate | M40: Exces return | N40: Mkt Prem. Systematic component | O40: Residuals. Unsystematic component | P40: Prices | Q40: Monthly rate | R40: Exces return | S40: Mkt Prem. Systematic component | T40: Residuals. Unsystematic component | U40: Prices | V40: Monthly rate | W40: Exces return | X40: Mkt Prem. Systematic component | Y40: Residuals. Unsystematic component | Z40: Prices | AA40: Monthly rate | AB40: Exces return | AC40: Mkt Prem. Systematic component | AD40: Residuals. Unsystematic component | AE40: Prices | AF40: Monthly rate | AG40: Exces return | AH40: Mkt Prem. Systematic component | AI40: Residuals. Unsystematic component | AJ40: Prices | AK40: Monthly rate | AL40: Exces return | AM40: Mkt Prem. Systematic component | AN40: Residuals. Unsystematic component | AO40: Adjusted Price of Equity Pf (Back data) | AP40: Active Pf Exces return (Back data) | AQ40: Prices | AR40: Monthly rate | AS40: Exces return | AU40: Active Pf Excess Retun - Benchmark (Back Data)
B41: 44317 | C41: 100.65 | F41: 95.35 | K41: 145.25 | P41: 86 | U41: 31.74 | Z41: 32.54 | AE41: 190.64 | AJ41: 23.22 | AO41: =C41 -> 100.65 | AQ41: 138.44
B42: 44348 | C42: 101.19 | D42: =C42/C41-1 -> 0.0053651267 | E42: =D42-$E$7/12 -> 0.0012401267 | F42: 90.57 | G42: =F42/F41-1 -> -0.050131096 | H42: =G42-$E$7/12 -> -0.054256096 | I42: =$G$17*E42 -> 0.0014170349 | J42: =H42-$G$13/12-I42 -> -0.082942479 | K42: 148.18 | L42: =K42/K41-1 -> 0.020172117 | M42: =L42-$E$7/12 -> 0.016047117 | N42: =$H$17*E42 -> 0.0014693155 | O42: =M42-$G$13/12-N42 -> -0.012691547 | P42: 84.59 | Q42: =P42/P41-1 -> -0.016395349 | R42: =Q42-$E$7/12 -> -0.020520349 | S42: =$I$17*E42 -> 0.00081817555 | T42: =R42-$I$13/12-S42 -> -0.02376139 | U42: 31.59 | V42: =U42/U41-1 -> -0.0047258979 | W42: =V42-$E$7/12 -> -0.0088508979 | X42: =$J$17*E42 -> 0.0021279892 | Y42: =W42-$J$13/12-X42 -> -0.01683073 | Z42: 31.24 | AA42: =Z42/Z41-1 -> -0.03995083 | AB42: =AA42-$E$7/12 -> -0.04407583 | AC42: =$K$17*E42 -> 0.0016120433 | AD42: =AB42-$K$13/12-AC42 -> -0.06472275 | AE42: 186.84 | AF42: =AE42/AE41-1 -> -0.019932858 | AG42: =AF42-$E$7/12 -> -0.024057858 | AH42: =$K$17*J42 -> -0.1078171 | AI42: =AG42-$K$13/12-AH42 -> 0.06472437 | AJ42: 21.66 | AK42: =AJ42/AJ41-1 -> -0.067183463 | AL42: =AK42-$E$7/12 -> -0.071308463 | AM42: =$K$17*O42 -> -0.016497769 | AN42: =AL42-$K$13/12-AM42 -> -0.073845571 | AO42: =AO41*(1+AP42) -> 97.396263 | AP42: =$F$32*E42+$G$32*H42+$H$32*M42+$I$32*R42+$J$32*W42+$K$32*AB42+$L$32*AG42+$M$32*AL42 -> -0.032327243 | AQ42: 144.35 | AR42: =AQ42/AQ41-1 -> 0.042689974 | AS42: =AR42-$E$7/12 -> 0.038564974 | AU42: =AP42-E42 -> -0.03356737
B43: 44378 | C43: 102.11 | D43: =C43/C42-1 -> 0.0090918075 | E43: =D43-$E$7/12 -> 0.0049668075 | F43: 90.9 | G43: =F43/F42-1 -> 0.0036435906 | H43: =G43-$E$7/12 -> -0.00048140941 | I43: =$G$17*E43 -> 0.0056753392 | J43: =H43-$G$13/12-I43 -> -0.033426097 | K43: 158.05 | L43: =K43/K42-1 -> 0.066608179 | M43: =L43-$E$7/12 -> 0.062483179 | N43: =$H$17*E43 -> 0.0058847273 | O43: =M43-$G$13/12-N43 -> 0.029329103 | P43: 88.12 | Q43: =P43/P42-1 -> 0.041730701 | R43: =Q43-$E$7/12 -> 0.037605701 | S43: =$G$17*O43 -> 0.033512998 | T43: =R43-$I$13/12-S43 -> 0.0016698373 | U43: 33.51 | V43: =U43/U42-1 -> 0.060778727 | W43: =V43-$E$7/12 -> 0.056653727 | X43: =$J$17*E43 -> 0.0085227685 | Y43: =W43-$J$13/12-X43 -> 0.042279116 | Z43: 31.61 | AA43: =Z43/Z42-1 -> 0.01184379 | AB43: =AA43-$E$7/12 -> 0.00771879 | AC43: =$K$17*E43 -> 0.0064563636 | AD43: =AB43-$K$13/12-AC43 -> -0.017772451 | AE43: 200.46 | AF43: =AE43/AE42-1 -> 0.072896596 | AG43: =AF43-$E$7/12 -> 0.068771596 | AH43: =$K$17*J43 -> -0.043450654 | AI43: =AG43-$K$13/12-AH43 -> 0.093187373 | AJ43: 21.7 | AK43: =AJ43/AJ42-1 -> 0.0018467221 | AL43: =AK43-$E$7/12 -> -0.0022782779 | AM43: =$K$17*O43 -> 0.038124964 | AN43: =AL43-$K$13/12-AM43 -> -0.059438119 | AO43: =AO42*(1+AP43) -> 100.21396 | AP43: =$F$32*E43+$G$32*H43+$H$32*M43+$I$32*R43+$J$32*W43+$K$32*AB43+$L$32*AG43+$M$32*AL43 -> 0.028930216 | AQ43: 149.52 | AR43: =AQ43/AQ42-1 -> 0.035815726 | AS43: =AR43-$E$7/12 -> 0.031690726 | AU43: =AP43-E43 -> 0.023963409
...

Sheet Data. Bond Duration & Convexity
B2: Calculate the approximate price change for a TLT using only its D* and using D* and Convexity
B4: TLT has the following characteristics:
B5: Maturity | C5: 25.8 | H5: BlackRock, Inc. (2026, April 15). iShares 20+ Year Treasury Bond ETF | TLT: Portfolio characteristics. BlackRock iShares. https://www.blackrock.com/us/financial-professionals/products/239454/ishares-20-year-treasury-bond-etf
B6: Coupon ($100 par) | C6: 0.0342 | H6: BlackRock, Inc. (2026, April 15). iShares 20+ Year Treasury Bond ETF | TLT: Portfolio characteristics. BlackRock iShares. https://www.blackrock.com/us/financial-professionals/products/239454/ishares-20-year-treasury-bond-etf
B7: Yield to maturity | C7: 0.0495 | H7: BlackRock, Inc. (2026, April 15). iShares 20+ Year Treasury Bond ETF | TLT: Portfolio characteristics. BlackRock iShares. https://www.blackrock.com/us/financial-professionals/products/239454/ishares-20-year-treasury-bond-etf
B8: Coupon (frequency) | C8: 12 | H8: BlackRock, Inc. (2026, April 15). iShares 20+ Year Treasury Bond ETF | TLT: Portfolio characteristics. BlackRock iShares. https://www.blackrock.com/us/financial-professionals/products/239454/ishares-20-year-treasury-bond-etf
B9: Convexity (C) | C9: 3.27 | H9: BlackRock, Inc. (2026, April 15). iShares 20+ Year Treasury Bond ETF | TLT: Portfolio characteristics. BlackRock iShares. https://www.blackrock.com/us/financial-professionals/products/239454/ishares-20-year-treasury-bond-etf
B10: Current Bond Price | C10: 86.83 | D10: =_xlfn.FORMULATEXT(C10) -> #N/A
B11: Modified Duration (D*) | C11: =MDURATION(DATE(2026,4,15), DATE(2026+C5,4,15), C6, C7, 2) -> 15.433198 | D11: =_xlfn.FORMULATEXT(C11) -> =MDURATION(DATE(2026,4,15), DATE(2026+C5,4,15), C6, C7, 2)
B13: Changes in YTM | C13: YTM down 100bps
B14: with D* only | C14: =-C11*-1% -> 0.15433198 | D14: =_xlfn.FORMULATEXT(C14) -> =-C11*-1%
B15: Bond Price change | C15: =C10*(1+C14) -> 100.23065 | D15: =_xlfn.FORMULATEXT(C15) -> =C10*(1+C14)
B16: with D* and Convexity | C16: =C14+1/2*C9*-1%^2 -> 0.15449548 | D16: =_xlfn.FORMULATEXT(C16) -> =C14+1/2*C9*-1%^2
B17: Bond Price change | C17: =C10*(1+C16) -> 100.24484 | D17: =_xlfn.FORMULATEXT(C17) -> =C10*(1+C16)

Sheet Section 4
A1: SECTION 4 — ACWI ACTIVE STRATEGY | 7-Stock AI-Energy Growth Portfolio
A2: Benchmark: iShares MSCI ACWI ETF | 7 stocks: PWR ETN AEP SBGSY NVT HUBB MLI | TLT buffer | rf=4.95% | Data April 15, 2026
A4: Table 4.1 — Capital Allocation Parameters (ACWI Benchmark)
A5: Parameter | B5: Value | C5: Formula / Source | D5: Interpretation
A6: Risk Tolerance Score | B6: 55 / 100 | C6: Client Input | D6: Conservative-moderate; drives A via scaling
A7: Risk Aversion Index (A) | B7: 9.0 | C7: Derived (Bull: 1-20) | D7: More conservative than prior A=8.0; higher variance penalty
A8: Risk-Free Rate rf | B8: 4.95% | C8: 3M US Treasury Bill | D8: Updated from 3.70% prior; higher floor return
A9: E(Rp) — Risky Portfolio | B9: 29.48% | C9: Security Allocation (Panel G) | D9: Higher expected return driven by 7-stock active overlay
A10: sp — Risky Portfolio | B10: 22.12% | C10: Security Allocation (Panel G) | D10: Near-identical volatility to prior 7-stock universe
A11: y* — Weight in Risky Pf | B11: 55.69% | C11: y*=E(Rp-rf)/(A·sp²) | D11: Increased vs prior 54.94% despite higher A due to larger Sharpe
A12: (1-y*) — Weight in Risk-Free | B12: 44.31% | C12: 1 - y* | D12: Slightly lower TLT buffer vs prior 45.06%
A13: E(Rc) — Complete Portfolio | B13: 18.61% | C13: rf + y·(E(Rp)-rf) | D13: Materially higher expected return (was 15.53%)
A14: sc — Complete Portfolio | B14: 12.32% | C14: y·sp | D14: Near-identical risk (was 12.16%)
A15: Sharpe Ratio (CAL slope) | B15: 1.109 | C15: E(Rp-rf)/sp | D15: Exceptional (>1.0); higher than prior 0.973
A16: Jensen's Alpha (Active Pf) | B16: 17.37% | C16: Panel G | D16: Nearly 2x prior alpha (was 8.78%)
... A20: Net Selectivity | B20: 18.51% | C20: Panel G | D20: Strong stock selection contribution
A22: KEY CHANGE: Benchmark updated to ACWI; 7 stocks selected; rf increased to 4.95%. Portfolio generates higher expected return with comparable volatility.
A24: Table 4.2 — TLT Duration & Convexity Analysis
A25: Characteristic | B25: Value | C25: Risk Implication | D25: Portfolio Role
A26: Instrument | B26: iShares 20+ Year Treasury Bond ETF (TLT) | C26: Pure US Treasury; zero credit risk | D26: Risk-free proxy for bond sleeve
A27: Maturity | B27: 25.8 years (effective) | C27: Long duration | D27: Maximum rate-cut leverage
A28: Coupon Rate | B28: 3.42% (monthly payments) | C28: Below YTM → priced at discount | D28: Monthly income enhances cash flow
A29: Yield to Maturity (YTM) | B29: 0.0495 | C29: Equals risk-free rate; yield pickup = 0 | D29: TLT functions as rf proxy with upside optionality
A30: Current Price | B30: $86.83 (per $100 par) | C30: Deep discount of $13.17; significant capital upside | D30: Asymmetric upside if Fed/BoA cuts rates
A31: Modified Duration (D*) | B31: 15.43 years | C31: ~15.43% price change per 100bps rate move | D31: Rate sensitivity monitored via Fed/BoA communications
A32: Convexity (C) | B32: 3.27 | C32: Positive convexity = favourable asymmetry | D32: Price gains exceed losses for equal rate moves
A33: 100bps Rate Drop: D* only | B33: +15.43% price change ($86.83→$100.23) | C33: Validated duration hedging effect | D33: Scenario analysis confirmed per model
A34: 100bps Rate Drop: D* + Convexity | B34: +15.45% price change ($86.83→$100.24) | C34: Convexity adds marginal upside | D34: Confirms positive convexity profile
A35: Table 4.3 — 7-Stock Universe (ACWI Benchmark)
A36: Ticker | B36: Company | C36: Role | D36: Price | E36: P/E | F36: Beta | G36: Adj. Alpha | H36: Sharpe | I36: Active Wt.
A37: ACWI | B37: MSCI All Country World Index | C37: Benchmark | D37: $179.79 | E37: 17.1x | F37: 1.000 | G37: 0.0% | H37: 0.291 | I37: —
A38: SBGSY | B38: Schneider Electric SA | C38: Smart Grid Leader | D38: $62.15 | E38: 37.7x | F38: 1.216 | G38: +9.10% | H38: 0.472 | I38: +23.39%
A39: MLI | B39: Mueller Industries | C39: Copper/Electrification | D39: $118.25 | E39: 18.1x | F39: 1.064 | G39: +41.76% | H39: 1.083 | I39: +21.08%
A40: NVT | B40: nVent Electric PLC | C40: Thermal/Data Ctr | D40: $131.38 | E40: 50.5x | F40: 1.300 | G40: +12.80% | H40: 0.949 | I40: +17.75%
A41: ETN | B41: Eaton Corporation | C41: Power Mgmt | D41: $395.00 | E41: 37.5x | F41: 1.185 | G41: +8.58% | H41: 0.725 | I41: +14.57%
A42: PWR | B42: Quanta Services | C42: Grid Builder | D42: $585.36 | E42: 54.5x | F42: 1.143 | G42: +13.28% | H42: 1.204 | I42: +13.99%
A43: HUBB | B43: Hubbell Inc | C43: Utility Solutions | D43: $526.94 | E43: 33.4x | F43: 0.986 | G43: +13.73% | H43: 0.726 | I43: +7.33%
A44: AEP | B44: Am. Electric Power | C44: Utility Defensive | D44: $131.50 | E44: 24.6x | F44: 0.660 | G44: +2.61% | H44: 0.303 | I44: +1.89%
A46: SBGSY tops weights at 23.39% (largest holding). MLI 2nd at 21.08% with HIGHEST alpha (41.76%). Universe composition changed — ITRI/WEC/NGG replaced with NVT/HUBB/MLI.
A47: Figure 4.1 — Alpha vs Beta Map
...

Sheet Section 5
A1: SECTION 5 — RISK MANAGEMENT & PERFORMANCE (ACWI BENCHMARK)
A2: Risk parameters updated for 7-stock universe vs ACWI benchmark. Key change: portfolio beta 1.274 (aggressive growth tilt).
A4: Table 5.1 — Risk Decomposition (Updated Panel A)
A5: Ticker | B5: Company | C5: Beta | D5: s Total | E5: s Syst. | F5: s(e) | G5: R² | H5: Corr | I5: Active Wt
A6: ACWI | B6: MSCI ACWI Index | C6: 1.000 | D6: 14.97% | E6: 14.97% | F6: 0.00% | G6: 100.0% | H6: 1.000 | I6: Benchmark
A7: PWR | B7: Quanta Services | C7: 1.143 | D7: 31.31% | E7: 17.11% | F7: 26.22% | G7: 29.9% | H7: 0.546 | I7: +13.99%
A8: ETN | B8: Eaton Corporation | C8: 1.185 | D8: 27.22% | E8: 17.74% | F8: 20.65% | G8: 42.5% | H8: 0.652 | I8: +14.57%
A9: AEP | B9: Am. Electric Power | C9: 0.660 | D9: 19.05% | E9: 9.88% | F9: 31.66% | G9: 26.9% | H9: 0.518 | I9: +1.89%
A10: SBGSY | B10: Schneider Electric | C10: 1.216 | D10: 30.69% | E10: 25.69% | F10: 16.79% | G10: 70.1% | H10: 0.837 | I10: +23.39%
A11: NVT | B11: nVent Electric | C11: 1.300 | D11: 30.02% | E11: 19.46% | F11: 22.86% | G11: 42.0% | H11: 0.648 | I11: +17.75%
A12: HUBB | B12: Hubbell Inc | C12: 0.986 | D12: 27.72% | E12: 14.76% | F12: 36.83% | G12: 28.4% | H12: 0.533 | I12: +7.33%
A13: MLI | B13: Mueller Industries | C13: 1.064 | D13: 30.96% | E13: 15.93% | F13: 37.88% | G13: 26.5% | H13: 0.514 | I13: +21.08%
A15: HUBB has HIGHEST residual variance (36.83%) and MLI close behind (37.88%). AEP low R² (26.9%) — drives p-value concerns (see S8).
A19: Figure 5.1 — Risk Decomposition
A45: Figure 5.2 — Risk-Return Map

Sheet Section 6
A1: SECTION 6 — VALUATION (7 STOCKS, ACWI BENCHMARK, TLT BUFFER)
A2: All prices, EPS, dividends, and analyst targets updated April 15, 2026. Market avg P/E = 29.7x. TLT yield now 4.95% (matches rf).
A4: Table 6.1 — Valuation Summary
A5: Ticker | B5: Company | C5: Price | D5: EPS (TTM) | E5: P/E | F5: Fwd Div ($) | G5: 1yr Target | H5: Target Return | I5: Div Yield
A6: ACWI | B6: MSCI ACWI Index | C6: $179.79 | D6: — | E6: 17.1x | F6: $0.36 | G6: — | H6: — | I6: 0.06%
A7: PWR | B7: Quanta Services | C7: $585.36 | D7: $10.75 | E7: 54.5x | F7: $0.44 | G7: $593.30 | H7: +1.36% | I7: 0.08%
A8: ETN | B8: Eaton Corporation | C8: $395.00 | D8: $10.53 | E8: 37.5x | F8: $4.08 | G8: $404.62 | H8: +2.44% | I8: 1.03%
A9: AEP | B9: Am. Electric Power | C9: $131.50 | D9: $5.35 | E9: 24.6x | F9: $3.80 | G9: $136.81 | H9: +4.04% | I9: 2.89%
A10: SBGSY | B10: Schneider Electric | C10: $62.15 | D10: $1.65 | E10: 37.7x | F10: $0.57 | G10: $65.10 | H10: +4.75% | I10: 0.92%
A11: NVT | B11: nVent Electric | C11: $131.38 | D11: $2.60 | E11: 50.5x | F11: $0.84 | G11: $148.31 | H11: +12.89% | I11: 0.64%
A12: HUBB | B12: Hubbell Inc | C12: $526.94 | D12: $15.80 | E12: 33.4x | F12: $4.88 | G12: $445.50 | H12: −15.46% | I12: 0.93%
A13: MLI | B13: Mueller Industries | C13: $118.25 | D13: $6.54 | E13: 18.1x | F13: $0.80 | G13: $142.80 | H13: +20.76% | I13: 0.68%
A15: MLI: +20.76% upside + cheapest P/E (18.1x). HUBB: ONLY holding with NEGATIVE consensus target (-15.46%) — flagged for reduction. See S8 P-value analysis.
A17: Figure 6.1 — Analyst Consensus Target Returns
A18: Ticker | B18: Target Return %
A19: PWR | B19: 1.36
A20: ETN | B20: 2.44
A21: AEP | B21: 4.04
A22: SBGSY | B22: 4.75
A23: NVT | B23: 12.89
A24: HUBB | B24: -15.46
A25: MLI | B25: 20.76
A40: Table 6.2 — TLT Bond Analysis (YTM = rf = 4.95%)
A41: Characteristic | B41: Value | C41: Risk Implication | D41: Portfolio Role
A42: Instrument | B42: iShares 20+ Year Treasury Bond ETF (TLT) | C42: Pure US Treasury; zero credit risk | D42: 44.31% capital protection
A43: Maturity | B43: 25.8 years | C43: Long duration | D43: Maximum rate-cut leverage
A44: Coupon | B44: 3.42% (monthly) | C44: Below YTM | D44: Monthly income
A45: YTM | B45: 4.95% | C45: Equal to risk-free rate | D45: Equals rf — TLT used as rf proxy
A46: Current Price | B46: $86.83 | C46: Deep discount (-13.17) | D46: Capital upside if rates fall
A47: Modified Duration (D*) | B47: 15.43 years | C47: ~15.4% move per 100bps | D47: ~2x LQD duration
A48: Convexity | B48: 3.27 | C48: Favourable asymmetry | D48: Upside > downside equal moves
A49: 100bps rate drop (D* only) | B49: $86.83 → $100.23 (+15.43%) | C49: Duration estimate | D49: Total: 15.43% + 4.95% = 20.38%
A50: D* + Convexity | B50: $86.83 → $100.24 (+15.45%) | C50: Convexity benefit | D50: Confirmed positive

Sheet Section 7
A1: SECTION 7 — PERFORMANCE MEASUREMENT & MONITORING
A2: The GRID-to-ACWI transition moves every Minh Tri KPI: y*=55.69%, E(Rc)=18.61%, Sharpe=1.109, β=1.274. All monitoring thresholds recalibrated.
A4: Table 7.0 — Portfolio Construction Bridge: Client Goals → Model → Execution
A5: Stage | B5: Client Input | C5: Model Formula | D5: Output | E5: Portfolio Execution
A6: Stage 1: Capital Allocation | B6: Risk Tolerance 55/100 A = 9.0 | C6: y* = E(Rp-rf)/(A·σp²) | D6: y* = 55.69% | E6: 44.31% TLT / T-Bill 55.69% active equity sleeve
A7: Stage 2: Security Selection | B7: Conservative mandate AI-energy theme | C7: wᵢ = αᵢ/σ²(eᵢ) — Treynor-Black | D7: 7 stocks, β = 1.274 | E7: SBGSY 23.4%, MLI 21.1%, NVT 17.7%, ETN 14.6%, PWR 14.0%, HUBB 7.3%, AEP 1.9%
A8: Stage 3: Execution | B8: E(Rc) target 18.61% σc max 12.32% | C8: E(Rc) = rf + y(E(Rp)-rf) σc = y·σp | D8: E(Rc)=18.61%, σc=12.32% Sharpe=1.109, α=17.37% | E8: Live portfolio matches model outputs quarterly
A11: Table 7.1 — 12-KPI Monitoring Dashboard
A12: KPI / Metric | B12: Source (Sheet/Panel) | C12: Target / Threshold | D12: Frequency | E12: Trigger Action
A13: Portfolio Return E(Rc) | B13: Capital Allocation | C13: >= 18.61% (3yr) | D13: Quarterly | E13: Review if below target -200bps for 2Q
A14: Sharpe Ratio | B14: Panel G | C14: >= 0.80 (12M rolling) | D14: Quarterly | E14: Reduce active if < 0.70 for one quarter
A15: Jensen's Alpha | B15: Panel G | C15: > 0% (3yr rolling) | D15: Quarterly | E15: Reduce if negative for 2 consecutive quarters
A16: Information Ratio | B16: Panel G | C16: >= 0.30 (current 0.855) | D16: Quarterly | E16: Review if IR < 0.20
A17: Portfolio Beta | B17: Panel A | C17: 1.00 - 1.40 | D17: Monthly | E17: Rebalance if outside ±0.15 of 1.274
A18: Complete Pf SD (σc) | B18: Capital Allocation | C18: <= 13.50% (cap 14%) | D18: Monthly | E18: Reduce y if σc breaches 14%
A19: Max Drawdown (12M) | B19: Portfolio monitoring | C19: < -15% alert; -20% review | D19: Ongoing | E19: Notify at -10%; emergency review at -15%
A20: y* Risky Weight | B20: Capital Allocation | C20: 50% - 62% | D20: Monthly | E20: Rebalance to 55.69% target ±5%
A21: SBGSY Position Weight | B21: Panel G | C21: <= 30% of active sleeve | D21: Ongoing | E21: Currently 23.4%; trim on breach
A22: P-Value Monitor (4 stocks) | B22: Data. Securities | C22: p < 10% | D22: Quarterly | E22: See S8 — reduce 50% if p>10% for 2 quarters
A23: HUBB Special Review | B23: Data. Securities | C23: Negative consensus target | D23: Monthly | E23: Reduce 50% if no improvement in 2 quarters
A24: TLT Duration Risk | B24: Bond Duration sheet | C24: D* = 15.43yr | D24: Monthly | E24: Shorten to T-Bill if Fed hawkish
A27: Table 7.2 — Model Refresh Protocol
A28: Frequency | B28: What to Update | C28: Sheet / Panel | D28: Decision Output
A29: Monthly | B29: Prices, EPS, dividends, analyst targets | C29: Data. Securities (Panel 3) | D29: Updated valuation inputs
A30: Quarterly | B30: Alpha regression, Panel F/G re-optimisation | C30: Security Allocation (E/F/G) | D30: New active weights
A31: Quarterly | B31: P-value re-estimation per stock | C31: Data. Securities | D31: Monitor the 4 high-p-value stocks
A32: Quarterly | B32: Capital Allocation refresh; y* if A changes | C32: Capital Allocation sheet | D32: New y*, E(Rc), σc, Sharpe
A33: Semi-annual | B33: Risk Aversion A reassessment (client consult.) | C33: Client meeting + Capital Alloc. | D33: Revised y* if A changes
A34: Event-driven | B34: Earnings surprise >15% vs consensus | C34: Data. Securities Panel 1/E | D34: Immediate alpha revision
A35: Event-driven | B35: Fed/BoC rate policy change | C35: Data. Bond Duration | D35: Duration adjustment
A36: Event-driven | B36: HUBB consensus revision downward | C36: Data. Securities | D36: Assess position reduction
A39: Figure 7.1 — Construction Bridge Diagram
