Workbook
Name adj.ev.edbitda: 'Market '!#REF!
Name alpha: #REF!
Name capex.life: #REF!
Name case: DCF!$C$11
Name control.pre: 'Market '!$C$60
Name ctry: WACC!$C$8
Name curr: Input!$D$7
Name DLOM: 'Market '!$C$61
Name f.COGS: #REF!
Name f.depre: #REF!
Name f.ebit: #REF!
Name f.ebitda: #REF!
Name f.other.op.exp: #REF!
Name f.salary.exp: #REF!
Name f.sales: #REF!
Name f.selling.exp: #REF!
Name h.cash.conv: Historicals!$D$222:$N$222
Name h.COGS: Historicals!$D$22:$N$22
Name h.Inv: Historicals!$D$189:$N$189
Name h.other.op.exp: Historicals!$D$27:$N$27
Name h.salary.exp: Historicals!$D$26:$N$26
Name h.sales: Historicals!$D$16:$N$16
Name h.selling.exp: Historicals!$D$25:$N$25
Name h.TP: Historicals!$D$190:$N$190
Name h.TR: Historicals!$D$188:$N$188
Name IQ_CH: 110000
Name IQ_CQ: 5000
Name IQ_CY: 10000
Name IQ_DAILY: 500000
Name IQ_FH: 100000
Name IQ_FQ: 500
Name IQ_FY: 1000
Name IQ_LTM: 2000
Name IQ_MONTH: 15000
Name IQ_NTM: 6000
Name IQ_WEEK: 50000
Name IQ_YTD: 3000
Name midyear: C0!$O$24:$AR$24
Name next.fy: Input!$D$12
Name pcent: Input!$D$5
Name raw.ev.ebitda: 'Market '!#REF!
Name RUL: #REF!
Name Subject: Cover!$D$5
Name tax: Input!$D$6
Name tv.growth: DCF!$E$57
Name units: Historicals!$C$10
Name vd: Input!$D$11
Name wacc: WACC!$C$30

Sheet Cover
B1: Super Simple Template
B3: General Information
B5: Subject Company | D5: Netflix
B6: Reference no | E6: Project ref number
B7: Model version | E7: This model version number must match with report version
B8: Prepared | E8: Name of preparer
B9: Reviewed | E9: Name of reviewer
B10: Approved | E10: Name of approver
B12: Cells Styles
B14: Input | D14: User input/ Assumptions
B16: CIQ | D16: The whole column is inputs from CIQ. To paste value and change back to normal color
B18: Results | D18: Results. Please do not change
B20: Offsheet | D20: Linked to another tab

Sheet Input
B1: General Information
B3: General | C3: Unit | D3: Value
B4: Subject company | C4: Name | D4: =Subject -> Netflix | E4: Name of Target Company
B5: % | C5: % | D5: 1 | E5: Percentage of shares to be acquired
B6: Corporate tax rate | C6: % | D6: 0.25 | E6: Enter corporate rate rate
B7: Currency | C7: Currency | D7: USD | E7: Enter currency
B8: Display unit | D8: k | E8: Enter k for thousands, m for millions and b for billions
B10: Date & Time period
B11: Valuation Date | C11: Date | D11: 46022 | E11: Valuation Date
B12: Next FY date | C12: Date | D12: 46387 | E12: Next financial year end. | H12: Cannot be equal to Valuation Date
B13: Available historical info | C13: years | D13: 5 | E13: Number of full years of available historical information
B14: Forecast period | C14: years | D14: 5 | E14: Number of full years of forecast

Sheet Historicals
B1: Historical Financial Performance
B10: Display unit | C10: =IF(Input!$D$8="k",1000,IF(Input!$D$8="m",1000000,1000000000)) -> 1000
B11: No of months | N11: =C0!N17 -> 12 | O11: =N11/12 -> 1
B12: Full year? | N12: =IF(N11=12,"Y","N") -> Y
A13: 1 | B13: Index | D13: =E13-1 -> -10 | E13: =F13-1 -> -9 | F13: =G13-1 -> -8 | G13: =H13-1 -> -7 | H13: =I13-1 -> -6 | I13: =J13-1 -> -5 | J13: =K13-1 -> -4 | K13: =L13-1 -> -3 | ... M13: =N13-1 -> -1 | N13: =IF(N12="Y",0,1) -> 0
A14: 2 | B14: =Subject&"'s historical P&L" -> Netflix's historical P&L
A15: 3 | B15: ="("&curr&" "&Input!D8&")" -> (USD k) | D15: =C0!D21 -> FYTE | E15: =C0!E21 -> FYTE | F15: =C0!F21 -> FYTE | G15: =C0!G21 -> FYTE | H15: =C0!H21 -> FYTE | I15: =C0!I21 -> FYTE | J15: =C0!J21 -> FY21 | K15: =C0!K21 -> FY22 | ... N15: =C0!N21 -> FY25 | O15: % of full year
A16: 4 | B16: Revenue | D16: =SUM(D17:D20) -> 0 | E16: =SUM(E17:E20) -> 0 | F16: =SUM(F17:F20) -> 0 | G16: =SUM(G17:G20) -> 0 | H16: =SUM(H17:H20) -> 0 | I16: =SUM(I17:I20) -> 0 | J16: =SUM(J17:J20) -> 0 | K16: =SUM(K17:K20) -> 0 | ... N16: =SUM(N17:N20) -> 0 | O16: =IFERROR(IF($N$12="Y","n.m",N16/Forecast!D17),"") -> n.m
A17: 5 | B17: [Revenue stream 1] | O17: =IFERROR(IF($N$12="Y","n.m",N17/Forecast!D18),"") -> n.m | P17: If you don’t have breakdown for revenue, input total revenue under stream 1
A18: 6 | B18: [Revenue stream 2] | O18: =IFERROR(IF($N$12="Y","n.m",N18/Forecast!D19),"") -> n.m
B19: [Revenue stream 3] | O19: =IFERROR(IF($N$12="Y","n.m",N19/Forecast!D20),"") -> n.m
B20: [Revenue stream 4] | O20: =IFERROR(IF($N$12="Y","n.m",N20/Forecast!D21),"") -> n.m
A21: 7
A22: 8 | B22: COGS | O22: =IFERROR(IF($N$12="Y","n.m",N22/Forecast!D23),"") -> n.m
A23: 9 | B23: Gross Profit | D23: =SUM(D17:D22) -> 0 | E23: =SUM(E17:E22) -> 0 | F23: =SUM(F17:F22) -> 0 | G23: =SUM(G17:G22) -> 0 | H23: =SUM(H17:H22) -> 0 | I23: =SUM(I17:I22) -> 0 | J23: =SUM(J17:J22) -> 0 | K23: =SUM(K17:K22) -> 0 | ... N23: =SUM(N17:N22) -> 0 | O23: =IFERROR(IF($N$12="Y","n.m",N23/Forecast!D24),"") -> n.m
A24: 10
A25: 11 | B25: [Selling & marketing] | C25: [variable only] | O25: =IFERROR(IF($N$12="Y","n.m",N25/Forecast!D26),"") -> n.m | P25: Selling & marketing expenses is a VC.
A26: 12 | B26: [Salary & wages] | C26: [fixed only] | O26: =IFERROR(IF($N$12="Y","n.m",N26/Forecast!D27),"") -> n.m | P26: Salary and wages are FC and analysed based on y-o-y growth.
A27: 13 | B27: [General & Admin expenses] | C27: [fixed only] | O27: =IFERROR(IF($N$12="Y","n.m",N27/Forecast!D28),"") -> n.m | P27: Other operating expenses are FC and analysed based on y-o-y growth.
A28: 14 | B28: [Other operating expenses 1] | C28: [fixed only] | O28: =IFERROR(IF($N$12="Y","n.m",N28/Forecast!D29),"") -> n.m | P28: Other operating expenses are FC and analysed based on y-o-y growth.
A29: 15 | B29: [Other operating expenses 2] | C29: [fixed only] | O29: =IFERROR(IF($N$12="Y","n.m",N29/Forecast!D30),"") -> n.m | P29: Other operating expenses are FC and analysed based on y-o-y growth.
A30: 16 | B30: EBIT | D30: =SUM(D23:D29) -> 0 | E30: =SUM(E23:E29) -> 0 | F30: =SUM(F23:F29) -> 0 | G30: =SUM(G23:G29) -> 0 | H30: =SUM(H23:H29) -> 0 | I30: =SUM(I23:I29) -> 0 | J30: =SUM(J23:J29) -> 0 | K30: =SUM(K23:K29) -> 0 | ... N30: =SUM(N23:N29) -> 0 | O30: =IFERROR(IF($N$12="Y","n.m",N30/Forecast!D31),"") -> n.m
A31: 17
A32: 18 | B32: Add: Depreciation | O32: =IFERROR(IF($N$12="Y","n.m",N32/Forecast!D33),"") -> n.m | P32: Add back Depreciation & Amortisation
A33: 19 | B33: Add: Amortisation | O33: =IFERROR(IF($N$12="Y","n.m",N33/Forecast!D34),"") -> n.m | P33: Add back Depreciation & Amortisation
A34: 20 | B34: EBITDA | D34: =SUM(D30:D33) -> 0 | E34: =SUM(E30:E33) -> 0 | F34: =SUM(F30:F33) -> 0 | G34: =SUM(G30:G33) -> 0 | H34: =SUM(H30:H33) -> 0 | I34: =SUM(I30:I33) -> 0 | J34: =SUM(J30:J33) -> 0 | K34: =SUM(K30:K33) -> 0 | ... N34: =SUM(N30:N33) -> 0 | O34: =IFERROR(IF($N$12="Y","n.m",N34/Forecast!D35),"") -> n.m
A35: 21 | B35: Source: Management accounts/ financial statements
A37: 22 | B37: [Interest expenses]
A38: 23 | B38: [Non-operating expenses]
A39: 24 | B39: [Non-operating income]
A40: 25 | B40: PBT | D40: =D30+SUM(D37:D39) -> 0 | E40: =E30+SUM(E37:E39) -> 0 | F40: =F30+SUM(F37:F39) -> 0 | G40: =G30+SUM(G37:G39) -> 0 | H40: =H30+SUM(H37:H39) -> 0 | I40: =I30+SUM(I37:I39) -> 0 | J40: =J30+SUM(J37:J39) -> 0 | K40: =K30+SUM(K37:K39) -> 0 | ... N40: =N30+SUM(N37:N39) -> 0
A41: 26
A42: 27 | B42: Tax
A43: 28 | B43: PAT | D43: =SUM(D40:D42) -> 0 | E43: =SUM(E40:E42) -> 0 | F43: =SUM(F40:F42) -> 0 | G43: =SUM(G40:G42) -> 0 | H43: =SUM(H40:H42) -> 0 | I43: =SUM(I40:I42) -> 0 | J43: =SUM(J40:J42) -> 0 | K43: =SUM(K40:K42) -> 0 | ... N43: =SUM(N40:N42) -> 0
A44: 29 | B44: Source: Management accounts/ financial statements
A45: 30
B46: check | D46: =D43 -> 0 | E46: =E43 -> 0 | F46: =F43 -> 0 | G46: =G43 -> 0 | H46: =H43 -> 0 | I46: =I43 -> 0 | J46: =J43 -> 0 | K46: =K43 -> 0 | ... N46: =N43 -> 0 | P46: Check if PAT ties
A48: 31 | B48: Key Financial Ratios - Historical P&L
A49: 32 | D49: =C0!D21 -> FYTE | E49: =C0!E21 -> FYTE | F49: =C0!F21 -> FYTE | G49: =C0!G21 -> FYTE | H49: =C0!H21 -> FYTE | I49: =C0!I21 -> FYTE | J49: =C0!J21 -> FY21 | K49: =C0!K21 -> FY22 | ... N49: =C0!N21 -> FY25 | O49: 3-YR CAGR
B50: y-o-y growth
...

Sheet Forecast
B1: Financial Forecast
B11: Display unit | C11: =units -> 1000
B12: No of months (first period) | D12: =C0!O17 -> 12
B13: Full year? (First period) | D13: =IF($D$12=12,"Y","N") -> Y
B15: =Subject&" P&L Forecast" -> Netflix P&L Forecast
B16: =Historicals!B15 -> (USD k) | D16: ="FY"&RIGHT(C0!O20,2)&"F" -> FY26F | E16: =C0!P21 -> FY27F | F16: =C0!Q21 -> FY28F | G16: =C0!R21 -> FY29F | H16: =C0!S21 -> FY30F | I16: =C0!T21 -> FYTEF | J16: =C0!U21 -> FYTEF | K16: =C0!V21 -> FYTEF | L16: =C0!W21 -> FYTEF | ... N16: =C0!Y21 -> FYTEF
B17: =Historicals!B16 -> Revenue | D17: =SUM(D18:D21) -> 0 | E17: =SUM(E18:E21) -> 0 | F17: =SUM(F18:F21) -> 0 | G17: =SUM(G18:G21) -> 0 | H17: =SUM(H18:H21) -> 0 | I17: =SUM(I18:I21) -> 0 | J17: =SUM(J18:J21) -> 0 | K17: =SUM(K18:K21) -> 0 | ... N17: =SUM(N18:N21) -> 0
B18: =Historicals!B17 -> [Revenue stream 1]
B19: =Historicals!B18 -> [Revenue stream 2]
B20: =Historicals!B19 -> [Revenue stream 3]
B21: =Historicals!B20 -> [Revenue stream 4]
B23: =Historicals!B22 -> COGS
B24: =Historicals!B23 -> Gross Profit | D24: =SUM(D18:D23) -> 0 | E24: =SUM(E18:E23) -> 0 | F24: =SUM(F18:F23) -> 0 | G24: =SUM(G18:G23) -> 0 | H24: =SUM(H18:H23) -> 0 | I24: =SUM(I18:I23) -> 0 | J24: =SUM(J18:J23) -> 0 | K24: =SUM(K18:K23) -> 0 | ... N24: =SUM(N18:N23) -> 0
A26: VC | B26: =Historicals!B25 -> [Selling & marketing] | C26: =Historicals!C25 -> [variable only]
A27: FC | B27: =Historicals!B26 -> [Salary & wages] | C27: =Historicals!C26 -> [fixed only]
A28: FC | B28: =Historicals!B27 -> [General & Admin expenses] | C28: =Historicals!C27 -> [fixed only]
A29: FC | B29: =Historicals!B28 -> [Other operating expenses 1] | C29: =Historicals!C28 -> [fixed only]
A30: FC | B30: =Historicals!B29 -> [Other operating expenses 2] | C30: =Historicals!C29 -> [fixed only]
B31: =Historicals!B30 -> EBIT | D31: =SUM(D24:D30) -> 0 | E31: =SUM(E24:E30) -> 0 | F31: =SUM(F24:F30) -> 0 | G31: =SUM(G24:G30) -> 0 | H31: =SUM(H24:H30) -> 0 | I31: =SUM(I24:I30) -> 0 | J31: =SUM(J24:J30) -> 0 | K31: =SUM(K24:K30) -> 0 | ... N31: =SUM(N24:N30) -> 0
B33: =Historicals!B32 -> Add: Depreciation
B34: =Historicals!B33 -> Add: Amortisation
B35: =Historicals!B34 -> EBITDA | D35: =SUM(D31:D34) -> 0 | E35: =SUM(E31:E34) -> 0 | F35: =SUM(F31:F34) -> 0 | G35: =SUM(G31:G34) -> 0 | H35: =SUM(H31:H34) -> 0 | I35: =SUM(I31:I34) -> 0 | J35: =SUM(J31:J34) -> 0 | K35: =SUM(K31:K34) -> 0 | ... N35: =SUM(N31:N34) -> 0
B36: Source: Management forecast
B38: check | D38: =D35 -> 0 | E38: =E35 -> 0 | F38: =F35 -> 0 | G38: =G35 -> 0 | H38: =H35 -> 0 | I38: =I35 -> 0 | J38: =J35 -> 0 | K38: =K35 -> 0 | ... N38: =N35 -> 0
B40: Key financial ratios
D41: =D$16 -> FY26F | E41: =E$16 -> FY27F | F41: =F$16 -> FY28F | G41: =G$16 -> FY29F | H41: =H$16 -> FY30F | I41: =I$16 -> FYTEF | J41: =J$16 -> FYTEF | K41: =K$16 -> FYTEF | ... N41: =N$16 -> FYTEF
B42: y-o-y growth
B43: =B17 -> Revenue | D43: =IFERROR(IF(D13="Y",D17/Historicals!N16-1,D17/Historicals!M16-1),"") | E43: =IFERROR(E17/D17-1,"") | F43: =IFERROR(F17/E17-1,"") | G43: =IFERROR(G17/F17-1,"") | H43: =IFERROR(H17/G17-1,"") | I43: =IFERROR(I17/H17-1,"") | J43: =IFERROR(J17/I17-1,"") | K43: =IFERROR(K17/J17-1,"") | L43: =IFERROR(L17/K17-1,"") | ... N43: =IFERROR(N17/M17-1,"")
B44: =B23 -> COGS | D44: =IFERROR(IF(D13="Y",D23/Historicals!N22-1,D23/Historicals!M22-1),"") | E44: =IFERROR(E23/D23-1,"") | F44: =IFERROR(F23/E23-1,"") | G44: =IFERROR(G23/F23-1,"") | H44: =IFERROR(H23/G23-1,"") | I44: =IFERROR(I23/H23-1,"") | J44: =IFERROR(J23/I23-1,"") | K44: =IFERROR(K23/J23-1,"") | L44: =IFERROR(L23/K23-1,"") | ... N44: =IFERROR(N23/M23-1,"")
B45: =B27 -> [Salary & wages] | D45: =IFERROR(IF(D13="Y",D27/Historicals!N26-1,D27/Historicals!M26-1),"") | E45: =IFERROR(E27/D27-1,"") | F45: =IFERROR(F27/E27-1,"") | G45: =IFERROR(G27/F27-1,"") | H45: =IFERROR(H27/G27-1,"") | I45: =IFERROR(I27/H27-1,"") | J45: =IFERROR(J27/I27-1,"") | K45: =IFERROR(K27/J27-1,"") | L45: =IFERROR(L27/K27-1,"") | ... N45: =IFERROR(N27/M27-1,"")
B46: =B28 -> [General & Admin expenses] | D46: =IFERROR(IF(D13="Y",D28/Historicals!N27-1,D28/Historicals!M27-1),"") | E46: =IFERROR(E28/D28-1,"") | F46: =IFERROR(F28/E28-1,"") | G46: =IFERROR(G28/F28-1,"") | H46: =IFERROR(H28/G28-1,"") | I46: =IFERROR(I28/H28-1,"") | J46: =IFERROR(J28/I28-1,"") | K46: =IFERROR(K28/J28-1,"") | L46: =IFERROR(L28/K28-1,"") | ... N46: =IFERROR(N28/M28-1,"")
B47: =B29 -> [Other operating expenses 1] | D47: =IFERROR(IF(D13="Y",D29/Historicals!N28-1,D29/Historicals!M28-1),"") | E47: =IFERROR(E29/D29-1,"") | F47: =IFERROR(F29/E29-1,"") | G47: =IFERROR(G29/F29-1,"") | H47: =IFERROR(H29/G29-1,"") | I47: =IFERROR(I29/H29-1,"") | J47: =IFERROR(J29/I29-1,"") | K47: =IFERROR(K29/J29-1,"") | L47: =IFERROR(L29/K29-1,"") | ... N47: =IFERROR(N29/M29-1,"")
B48: =B30 -> [Other operating expenses 2] | D48: =IFERROR(IF(D13="Y",D30/Historicals!N29-1,D30/Historicals!M29-1),"") | E48: =IFERROR(E30/D30-1,"") | F48: =IFERROR(F30/E30-1,"") | G48: =IFERROR(G30/F30-1,"") | H48: =IFERROR(H30/G30-1,"") | I48: =IFERROR(I30/H30-1,"") | J48: =IFERROR(J30/I30-1,"") | K48: =IFERROR(K30/J30-1,"") | L48: =IFERROR(L30/K30-1,"") | ... N48: =IFERROR(N30/M30-1,"")
B50: % of revenue
B51: =B26 -> [Selling & marketing] | D51: =IFERROR(-D26/D$17,"") | E51: =IFERROR(-E26/E$17,"") | F51: =IFERROR(-F26/F$17,"") | G51: =IFERROR(-G26/G$17,"") | H51: =IFERROR(-H26/H$17,"") | I51: =IFERROR(-I26/I$17,"") | J51: =IFERROR(-J26/J$17,"") | K51: =IFERROR(-K26/K$17,"") | ... N51: =IFERROR(-N26/N$17,"")
B52: =Historicals!B61 -> GP margin | D52: =IFERROR(D24/D17,"") | E52: =IFERROR(E24/E17,"") | F52: =IFERROR(F24/F17,"") | G52: =IFERROR(G24/G17,"") | H52: =IFERROR(H24/H17,"") | I52: =IFERROR(I24/I17,"") | J52: =IFERROR(J24/J17,"") | K52: =IFERROR(K24/K17,"") | ... N52: =IFERROR(N24/N17,"")
B53: =Historicals!B62 -> EBIT margin | D53: =IFERROR(D31/D17,"") | E53: =IFERROR(E31/E17,"") | F53: =IFERROR(F31/F17,"") | G53: =IFERROR(G31/G17,"") | H53: =IFERROR(H31/H17,"") | I53: =IFERROR(I31/I17,"") | J53: =IFERROR(J31/J17,"") | K53: =IFERROR(K31/K17,"") | ... N53: =IFERROR(N31/N17,"")
B54: =Historicals!B63 -> EBITDA margin | D54: =IFERROR(D35/D17,"") | E54: =IFERROR(E35/E17,"") | F54: =IFERROR(F35/F17,"") | G54: =IFERROR(G35/G17,"") | H54: =IFERROR(H35/H17,"") | I54: =IFERROR(I35/I17,"") | J54: =IFERROR(J35/J17,"") | K54: =IFERROR(K35/K17,"") | ... N54: =IFERROR(N35/N17,"")
B55: Source: FVA's computation
B57: Selected Capex | C57: 1 | D57: =IF($C$57=$A$67,D67,IF($C$57=$A$78,D78,D87)) -> 0 | E57: =IF($C$57=$A$67,E67,IF($C$57=$A$78,E78,E87)) -> 0 | F57: =IF($C$57=$A$67,F67,IF($C$57=$A$78,F78,F87)) -> 0 | G57: =IF($C$57=$A$67,G67,IF($C$57=$A$78,G78,G87)) -> 0 | H57: =IF($C$57=$A$67,H67,IF($C$57=$A$78,H78,H87)) -> 0 | I57: =IF($C$57=$A$67,I67,IF($C$57=$A$78,I78,I87)) -> 0 | J57: =IF($C$57=$A$67,J67,IF($C$57=$A$78,J78,J87)) -> 0 | K57: =IF($C$57=$A$67,K67,IF($C$57=$A$78,K78,K87)) -> 0 | ... N57: =IF($C$57=$A$67,N67,IF($C$57=$A$78,N78,N87)) -> 0
...

Sheet Combined
B1: ="("&curr&" "&Input!D8&")" -> (USD k) | C1: =Historicals!D15 -> FYTE | D1: =Historicals!E15 -> FYTE | E1: =Historicals!F15 -> FYTE | F1: =Historicals!G15 -> FYTE | G1: =Historicals!H15 -> FYTE | H1: =Historicals!I15 -> FYTE | I1: =Historicals!J15 -> FY21 | J1: =Historicals!K15 -> FY22 | ... M1: =Historicals!N15 -> FY25 | N1: 3-Year Average | O1: =Forecast!D16 -> FY26F | P1: =Forecast!E16 -> FY27F | Q1: =Forecast!F16 -> FY28F | R1: =Forecast!G16 -> FY29F | S1: =Forecast!H16 -> FY30F | T1: =Forecast!I16 -> FYTEF | U1: =Forecast!J16 -> FYTEF | V1: =Forecast!K16 -> FYTEF | ... Y1: =Forecast!N16 -> FYTEF | Z1: 5-Year CAGR
B2: ="Historical " & B43 -> Historical Revenue | C2: =Historicals!D16 -> 0 | D2: =Historicals!E16 -> 0 | E2: =Historicals!F16 -> 0 | F2: =Historicals!G16 -> 0 | G2: =Historicals!H16 -> 0 | H2: =Historicals!I16 -> 0 | I2: =Historicals!J16 -> 0 | J2: =Historicals!K16 -> 0 | ... M2: =Historicals!N16 -> 0
B3: ="Forecast " & B43 -> Forecast Revenue | O3: =Forecast!D17 -> 0 | P3: =Forecast!E17 -> 0 | Q3: =Forecast!F17 -> 0 | R3: =Forecast!G17 -> 0 | S3: =Forecast!H17 -> 0 | T3: =Forecast!I17 -> 0 | U3: =Forecast!J17 -> 0 | V3: =Forecast!K17 -> 0 | ... Y3: =Forecast!N17 -> 0 | Z3: =(S3/M2)^(1/5)-1 -> #DIV/0!
B4: =B43 & " YoY Growth %" -> Revenue YoY Growth % | C4: =Historicals!D51 | D4: =Historicals!E51 | E4: =Historicals!F51 | F4: =Historicals!G51 | G4: =Historicals!H51 | H4: =Historicals!I51 | I4: =Historicals!J51 | J4: =Historicals!K51 | ... N4: =Historicals!O51 | O4: =Forecast!D43 | P4: =Forecast!E43 | Q4: =Forecast!F43 | R4: =Forecast!G43 | S4: =Forecast!H43 | T4: =Forecast!I43 | U4: =Forecast!J43 | V4: =Forecast!K43 | ... Y4: =Forecast!N43
B5: ="Historical " & B44 -> Historical Gross Profit | C5: =Historicals!D23 -> 0 | D5: =Historicals!E23 -> 0 | E5: =Historicals!F23 -> 0 | F5: =Historicals!G23 -> 0 | G5: =Historicals!H23 -> 0 | H5: =Historicals!I23 -> 0 | I5: =Historicals!J23 -> 0 | J5: =Historicals!K23 -> 0 | ... M5: =Historicals!N23 -> 0
B6: ="Forecast " & B44 -> Forecast Gross Profit | O6: =Forecast!D24 -> 0 | P6: =Forecast!E24 -> 0 | Q6: =Forecast!F24 -> 0 | R6: =Forecast!G24 -> 0 | S6: =Forecast!H24 -> 0 | T6: =Forecast!I24 -> 0 | U6: =Forecast!J24 -> 0 | V6: =Forecast!K24 -> 0 | ... Y6: =Forecast!N24 -> 0 | Z6: =(S6/M5)^(1/5)-1 -> #DIV/0!
B7: =B44 & " Margin" -> Gross Profit Margin | C7: =Historicals!D61 | D7: =Historicals!E61 | E7: =Historicals!F61 | F7: =Historicals!G61 | G7: =Historicals!H61 | H7: =Historicals!I61 | I7: =Historicals!J61 | J7: =Historicals!K61 | ... N7: =Historicals!O61 | O7: =Forecast!D52 | P7: =Forecast!E52 | Q7: =Forecast!F52 | R7: =Forecast!G52 | S7: =Forecast!H52 | T7: =Forecast!I52 | U7: =Forecast!J52 | V7: =Forecast!K52 | ... Y7: =Forecast!N52
B8: ="Historical " & B45 -> Historical [Selling & marketing] | C8: =Historicals!D25 -> 0 | D8: =Historicals!E25 -> 0 | E8: =Historicals!F25 -> 0 | F8: =Historicals!G25 -> 0 | G8: =Historicals!H25 -> 0 | H8: =Historicals!I25 -> 0 | I8: =Historicals!J25 -> 0 | J8: =Historicals!K25 -> 0 | ... M8: =Historicals!N25 -> 0
B9: ="Forecast " & B45 -> Forecast [Selling & marketing] | O9: =Forecast!D26 -> 0 | P9: =Forecast!E26 -> 0 | Q9: =Forecast!F26 -> 0 | R9: =Forecast!G26 -> 0 | S9: =Forecast!H26 -> 0 | T9: =Forecast!I26 -> 0 | U9: =Forecast!J26 -> 0 | V9: =Forecast!K26 -> 0 | ... Y9: =Forecast!N26 -> 0 | Z9: =(S9/M8)^(1/5)-1 -> #DIV/0!
B10: =B45 & "as a % of revenue" -> [Selling & marketing] as a % of revenue | C10: =Historicals!D60 | D10: =Historicals!E60 | E10: =Historicals!F60 | F10: =Historicals!G60 | G10: =Historicals!H60 | H10: =Historicals!I60 | I10: =Historicals!J60 | J10: =Historicals!K60 | ... N10: =Historicals!O60 | O10: =Forecast!D51 | P10: =Forecast!E51 | Q10: =Forecast!F51 | R10: =Forecast!G51 | S10: =Forecast!H51 | T10: =Forecast!I51 | U10: =Forecast!J51 | V10: =Forecast!K51 | ... Y10: =Forecast!N51
B11: ="Historical " & B46 -> Historical [Salary & wages] | C11: =Historicals!D26 -> 0 | D11: =Historicals!E26 -> 0 | E11: =Historicals!F26 -> 0 | F11: =Historicals!G26 -> 0 | G11: =Historicals!H26 -> 0 | H11: =Historicals!I26 -> 0 | I11: =Historicals!J26 -> 0 | J11: =Historicals!K26 -> 0 | ... M11: =Historicals!N26 -> 0
B12: ="Forecast " & B46 -> Forecast [Salary & wages] | O12: =Forecast!D27 -> 0 | P12: =Forecast!E27 -> 0 | Q12: =Forecast!F27 -> 0 | R12: =Forecast!G27 -> 0 | S12: =Forecast!H27 -> 0 | T12: =Forecast!I27 -> 0 | U12: =Forecast!J27 -> 0 | V12: =Forecast!K27 -> 0 | ... Y12: =Forecast!N27 -> 0 | Z12: =(S12/M11)^(1/5)-1 -> #DIV/0!
B13: =B46 & " YoY Growth %" -> [Salary & wages] YoY Growth % | C13: =Historicals!D53 -> 0 | D13: =Historicals!E53 | E13: =Historicals!F53 | F13: =Historicals!G53 | G13: =Historicals!H53 | H13: =Historicals!I53 | I13: =Historicals!J53 | J13: =Historicals!K53 | ... N13: =Historicals!O53 | O13: =Forecast!D45 | P13: =Forecast!E45 | Q13: =Forecast!F45 | R13: =Forecast!G45 | S13: =Forecast!H45 | T13: =Forecast!I45 | U13: =Forecast!J45 | V13: =Forecast!K45 | ... Y13: =Forecast!N45
B14: ="Historical " & B47 -> Historical [General & Admin expenses] | C14: =Historicals!D27 -> 0 | D14: =Historicals!E27 -> 0 | E14: =Historicals!F27 -> 0 | F14: =Historicals!G27 -> 0 | G14: =Historicals!H27 -> 0 | H14: =Historicals!I27 -> 0 | I14: =Historicals!J27 -> 0 | J14: =Historicals!K27 -> 0 | ... M14: =Historicals!N27 -> 0
B15: ="Forecast " & B47 -> Forecast [General & Admin expenses] | O15: =Forecast!D28 -> 0 | P15: =Forecast!E28 -> 0 | Q15: =Forecast!F28 -> 0 | R15: =Forecast!G28 -> 0 | S15: =Forecast!H28 -> 0 | T15: =Forecast!I28 -> 0 | U15: =Forecast!J28 -> 0 | V15: =Forecast!K28 -> 0 | ... Y15: =Forecast!N28 -> 0 | Z15: =(S15/M14)^(1/5)-1 -> #DIV/0!
B16: =B47 & " YoY Growth %" -> [General & Admin expenses] YoY Growth % | C16: =Historicals!D54 -> 0 | D16: =Historicals!E54 | E16: =Historicals!F54 | F16: =Historicals!G54 | G16: =Historicals!H54 | H16: =Historicals!I54 | I16: =Historicals!J54 | J16: =Historicals!K54 | ... N16: =Historicals!O54 | O16: =Forecast!D46 | P16: =Forecast!E46 | Q16: =Forecast!F46 | R16: =Forecast!G46 | S16: =Forecast!H46 | T16: =Forecast!I46 | U16: =Forecast!J46 | V16: =Forecast!K46 | ... Y16: =Forecast!N46
B17: ="Historical " & B48 -> Historical [Other operating expenses 1] | C17: =Historicals!D28 -> 0 | D17: =Historicals!E28 -> 0 | E17: =Historicals!F28 -> 0 | F17: =Historicals!G28 -> 0 | G17: =Historicals!H28 -> 0 | H17: =Historicals!I28 -> 0 | I17: =Historicals!J28 -> 0 | J17: =Historicals!K28 -> 0 | ... M17: =Historicals!N28 -> 0
B18: ="Forecast " & B48 -> Forecast [Other operating expenses 1] | O18: =Forecast!D29 -> 0 | P18: =Forecast!E29 -> 0 | Q18: =Forecast!F29 -> 0 | R18: =Forecast!G29 -> 0 | S18: =Forecast!H29 -> 0 | T18: =Forecast!I29 -> 0 | U18: =Forecast!J29 -> 0 | V18: =Forecast!K29 -> 0 | ... Y18: =Forecast!N29 -> 0 | Z18: =(S18/M17)^(1/5)-1 -> #DIV/0!
B19: =B48 & " YoY Growth %" -> [Other operating expenses 1] YoY Growth % | C19: =Historicals!D55 -> 0 | D19: =Historicals!E55 | E19: =Historicals!F55 | F19: =Historicals!G55 | G19: =Historicals!H55 | H19: =Historicals!I55 | I19: =Historicals!J55 | J19: =Historicals!K55 | ... N19: =Historicals!O55 | O19: =Forecast!D47 | P19: =Forecast!E47 | Q19: =Forecast!F47 | R19: =Forecast!G47 | S19: =Forecast!H47 | T19: =Forecast!I47 | U19: =Forecast!J47 | V19: =Forecast!K47 | ... Y19: =Forecast!N47
B20: ="Historical " & B49 -> Historical [Other operating expenses 2] | C20: =Historicals!D29 -> 0 | D20: =Historicals!E29 -> 0 | E20: =Historicals!F29 -> 0 | F20: =Historicals!G29 -> 0 | G20: =Historicals!H29 -> 0 | H20: =Historicals!I29 -> 0 | I20: =Historicals!J29 -> 0 | J20: =Historicals!K29 -> 0 | ... M20: =Historicals!N29 -> 0
B21: ="Forecast " & B49 -> Forecast [Other operating expenses 2] | O21: =Forecast!D30 -> 0 | P21: =Forecast!E30 -> 0 | Q21: =Forecast!F30 -> 0 | R21: =Forecast!G30 -> 0 | S21: =Forecast!H30 -> 0 | T21: =Forecast!I30 -> 0 | U21: =Forecast!J30 -> 0 | V21: =Forecast!K30 -> 0 | ... Y21: =Forecast!N30 -> 0 | Z21: =(S21/M20)^(1/5)-1 -> #DIV/0!
B22: =B49 & " YoY Growth %" -> [Other operating expenses 2] YoY Growth % | C22: =Historicals!D56 -> 0 | D22: =Historicals!E56 | E22: =Historicals!F56 | F22: =Historicals!G56 | G22: =Historicals!H56 | H22: =Historicals!I56 | I22: =Historicals!J56 | J22: =Historicals!K56 | ... N22: =Historicals!O56 | O22: =Forecast!D48 | P22: =Forecast!E48 | Q22: =Forecast!F48 | R22: =Forecast!G48 | S22: =Forecast!H48 | T22: =Forecast!I48 | U22: =Forecast!J48 | V22: =Forecast!K48 | ... Y22: =Forecast!N48
B23: ="Historical " & B50 -> Historical EBITDA | C23: =Historicals!D34 -> 0 | D23: =Historicals!E34 -> 0 | E23: =Historicals!F34 -> 0 | F23: =Historicals!G34 -> 0 | G23: =Historicals!H34 -> 0 | H23: =Historicals!I34 -> 0 | I23: =Historicals!J34 -> 0 | J23: =Historicals!K34 -> 0 | ... M23: =Historicals!N34 -> 0
B24: ="Forecast " & B50 -> Forecast EBITDA | O24: =Forecast!D35 -> 0 | P24: =Forecast!E35 -> 0 | Q24: =Forecast!F35 -> 0 | R24: =Forecast!G35 -> 0 | S24: =Forecast!H35 -> 0 | T24: =Forecast!I35 -> 0 | U24: =Forecast!J35 -> 0 | V24: =Forecast!K35 -> 0 | ... Y24: =Forecast!N35 -> 0 | Z24: =(S24/M23)^(1/5)-1 -> #DIV/0!
B25: =B50 & " Margin" -> EBITDA Margin | C25: =Historicals!D63 | D25: =Historicals!E63 | E25: =Historicals!F63 | F25: =Historicals!G63 | G25: =Historicals!H63 | H25: =Historicals!I63 | I25: =Historicals!J63 | J25: =Historicals!K63 | ... M25: =Historicals!N63 | N25: =Historicals!O62 | O25: =Forecast!D54 | P25: =Forecast!E54 | Q25: =Forecast!F54 | R25: =Forecast!G54 | S25: =Forecast!H54 | T25: =Forecast!I54 | U25: =Forecast!J54 | V25: =Forecast!K54 | ... Y25: =Forecast!N54
B26: ="Historical " & B51 -> Historical Capital Expenditures | C26: =Historicals!D141 -> 0 | D26: =Historicals!E141 -> 0 | E26: =Historicals!F141 -> 0 | F26: =Historicals!G141 -> 0 | G26: =Historicals!H141 -> 0 | H26: =Historicals!I141 -> 0 | I26: =Historicals!J141 -> 0 | J26: =Historicals!K141 -> 0 | ... M26: =Historicals!N141 -> 0
B27: ="Forecast " & B51 -> Forecast Capital Expenditures | O27: =Forecast!D57 -> 0 | P27: =Forecast!E57 -> 0 | Q27: =Forecast!F57 -> 0 | R27: =Forecast!G57 -> 0 | S27: =Forecast!H57 -> 0 | T27: =Forecast!I57 -> 0 | U27: =Forecast!J57 -> 0 | V27: =Forecast!K57 -> 0 | ... Y27: =Forecast!N57 -> 0 | Z27: =(S27/M26)^(1/5)-1 -> #DIV/0!
B28: =B51 & " / Sales %" -> Capital Expenditures / Sales % | C28: =Historicals!D145 | D28: =Historicals!E145 | E28: =Historicals!F145 | F28: =Historicals!G145 | G28: =Historicals!H145 | H28: =Historicals!I145 | I28: =Historicals!J145 | J28: =Historicals!K145 | ... M28: =Historicals!N145 | N28: =Historicals!O154 | O28: =IFERROR(O27/O3,"") | P28: =IFERROR(P27/P3,"") | Q28: =IFERROR(Q27/Q3,"") | R28: =IFERROR(R27/R3,"") | S28: =IFERROR(S27/S3,"") | T28: =IFERROR(T27/T3,"") | U28: =IFERROR(U27/U3,"") | V28: =IFERROR(V27/V3,"") | ... Y28: =IFERROR(Y27/Y3,"")
B29: Fixed Asset Turnover ratio | C29: =Historicals!D211 | D29: =Historicals!E211 | E29: =Historicals!F211 | F29: =Historicals!G211 | G29: =Historicals!H211 | H29: =Historicals!I211 | I29: =Historicals!J211 | J29: =Historicals!K211 | ... N29: =Historicals!O211 | O29: =Forecast!D72 | P29: =Forecast!E72 | Q29: =Forecast!F72 | R29: =Forecast!G72 | S29: =Forecast!H72 | T29: =Forecast!I72 | U29: =Forecast!J72 | V29: =Forecast!K72 | ... Y29: =Forecast!N72
B30: ="Historical " & B52 -> Historical Net Working Capital | C30: =Historicals!D162 -> 0 | D30: =Historicals!E162 -> 0 | E30: =Historicals!F162 -> 0 | F30: =Historicals!G162 -> 0 | G30: =Historicals!H162 -> 0 | H30: =Historicals!I162 -> 0 | I30: =Historicals!J162 -> 0 | J30: =Historicals!K162 -> 0 | ... M30: =Historicals!N162 -> 0
B31: ="Forecast " & B52 -> Forecast Net Working Capital | O31: =Forecast!D100 -> 0 | P31: =Forecast!E100 -> 0 | Q31: =Forecast!F100 -> 0 | R31: =Forecast!G100 -> 0 | S31: =Forecast!H100 -> 0 | T31: =Forecast!I100 -> 0 | U31: =Forecast!J100 -> 0 | V31: =Forecast!K100 -> 0 | ... Y31: =Forecast!N100 -> 0 | Z31: =(S31/M30)^(1/5)-1 -> #DIV/0!
B32: =Historicals!B219 -> Collection period (days) | C32: =Historicals!D219 | D32: =Historicals!E219 | E32: =Historicals!F219 | F32: =Historicals!G219 | G32: =Historicals!H219 | H32: =Historicals!I219 | I32: =Historicals!J219 | J32: =Historicals!K219 | ... N32: =Historicals!O219 | O32: =Forecast!D105 | P32: =Forecast!E105 | Q32: =Forecast!F105 | R32: =Forecast!G105 | S32: =Forecast!H105 | T32: =Forecast!I105 | U32: =Forecast!J105 | V32: =Forecast!K105 | ... Y32: =Forecast!N105
B33: =Historicals!B220 -> Payment period (days) | C33: =Historicals!D220 | D33: =Historicals!E220 | E33: =Historicals!F220 | F33: =Historicals!G220 | G33: =Historicals!H220 | H33: =Historicals!I220 | I33: =Historicals!J220 | J33: =Historicals!K220 | ... N33: =Historicals!O220 | O33: =Forecast!D106 | P33: =Forecast!E106 | Q33: =Forecast!F106 | R33: =Forecast!G106 | S33: =Forecast!H106 | T33: =Forecast!I106 | U33: =Forecast!J106 | V33: =Forecast!K106 | ... Y33: =Forecast!N106
B34: =Historicals!B221 -> Inventory (days on hand) | C34: =Historicals!D221 | D34: =Historicals!E221 | E34: =Historicals!F221 | F34: =Historicals!G221 | G34: =Historicals!H221 | H34: =Historicals!I221 | I34: =Historicals!J221 | J34: =Historicals!K221 | ... N34: =Historicals!O221 | O34: =Forecast!D107 | P34: =Forecast!E107 | Q34: =Forecast!F107 | R34: =Forecast!G107 | S34: =Forecast!H107 | T34: =Forecast!I107 | U34: =Forecast!J107 | V34: =Forecast!K107 | ... Y34: =Forecast!N107
B35: =Historicals!B222 -> Cash conversion (days) | C35: =Historicals!D222 | D35: =Historicals!E222 | E35: =Historicals!F222 | F35: =Historicals!G222 | G35: =Historicals!H222 | H35: =Historicals!I222 | I35: =Historicals!J222 | J35: =Historicals!K222 | ... N35: =Historicals!O222 | O35: =IFERROR(O32+O34-O33,"") | P35: =IFERROR(P32+P34-P33,"") | Q35: =IFERROR(Q32+Q34-Q33,"") | R35: =IFERROR(R32+R34-R33,"") | S35: =IFERROR(S32+S34-S33,"") | T35: =IFERROR(T32+T34-T33,"") | U35: =IFERROR(U32+U34-U33,"") | V35: =IFERROR(V32+V34-V33,"") | ... Y35: =IFERROR(Y32+Y34-Y33,"")
B36: =Historicals!B225 & " as a % of revenue" -> Other current assets as a % of revenue | C36: =Historicals!D225 | D36: =Historicals!E225 | E36: =Historicals!F225 | F36: =Historicals!G225 | G36: =Historicals!H225 | H36: =Historicals!I225 | I36: =Historicals!J225 | J36: =Historicals!K225 | ... N36: =Historicals!O225 | O36: =Forecast!D111 | P36: =Forecast!E111 | Q36: =Forecast!F111 | R36: =Forecast!G111 | S36: =Forecast!H111 | T36: =Forecast!I111 | U36: =Forecast!J111 | V36: =Forecast!K111 | ... Y36: =Forecast!N111
B37: =Historicals!B226 & " as a % of revenue" -> Other current liabilities as a % of revenue | C37: =Historicals!D226 | D37: =Historicals!E226 | E37: =Historicals!F226 | F37: =Historicals!G226 | G37: =Historicals!H226 | H37: =Historicals!I226 | I37: =Historicals!J226 | J37: =Historicals!K226 | ... N37: =Historicals!O226 | O37: =Forecast!D112 | P37: =Forecast!E112 | Q37: =Forecast!F112 | R37: =Forecast!G112 | S37: =Forecast!H112 | T37: =Forecast!I112 | U37: =Forecast!J112 | V37: =Forecast!K112 | ... Y37: =Forecast!N112
B43: =Historicals!B16 -> Revenue
B44: =Historicals!B23 -> Gross Profit
B45: =Historicals!B25 -> [Selling & marketing]
...

Sheet Comps
B1: Comparable Companies & Risk Free Rate | T1: EV/EBITDA Excl. Oper. Leases | U1: IQ_TEV_EBITDA_EXCL_OPER_LEASES | V1: IQ_LTM
T2: EV/EBITDA | U2: IQ_TEV_EBITDA | V2: IQ_LTM
B3: New CapIQ Model | T3: 1YR Forward EV/EBITDA | U3: IQ_TEV_EBITDA_FWD | V3: IQ_NTM
C4: =C5 -> 46022 | E4: Multiple | F4: EV/EBITDA | I4: Change this field if EV/EBITDA is N.A | T4: EV/EBIT | U4: IQ_TEV_EBIT | V4: IQ_LTM
B5: Valuation Date | C5: =vd -> 46022 | E5: Interval (yrs) | F5: 5Y | I5: =VLOOKUP($F$4,$T$1:$V$7,2,0) -> IQ_TEV_EBITDA | T5: 1YR Forward EV/EBIT | U5: IQ_TEV_EBIT_FWD | V5: IQ_NTM
B6: Currency | C6: =curr -> USD | E6: Period | F6: W | I6: =VLOOKUP($F$4,$T$1:$V$7,3,0) -> IQ_LTM | T6: EV/Revenue | U6: IQ_TEV_TOTAL_REV | V6: IQ_LTM
B7: Units | C7: mln | E7: Tax | F7: E | T7: 1YR Forward EV/Revenue | U7: IQ_TEV_TOTAL_REV_FWD | V7: IQ_NTM
C8: =IF($C$7="mln",1,IF($C$7="bln",0.001,0.000001)) -> 1
B9: COMPARABLE COMPANY ANALYSIS
B10: Target Name | D10: Target's Business Description | E10: ="Market Cap"&CHAR(10)&"("&$C$6&" '"&LEFT(C7,1)&")" -> Market Cap (USD 'm) | F10: EBIT margin (%) | G10: 5 year sales CAGR (%) | H10: =$F$4&" multiple" -> EV/EBITDA multiple | I10: D/E (%) | J10: Unlevered Beta | K10: Adjusted Beta | L10: Tax rate | M10: Statutory Tax | N10: ="Total Debt"&CHAR(10)&"("&$C$6&" '"&LEFT(C7,1)&")" -> Total Debt (USD 'm) | O10: Exchange | P10: Country | Q10: Latest FY End
B12: Name | C12: Ticker | D12: Description | E12: Market Cap | F12: EBIT margin | G12: CAGR | H12: Selected Multiple | I12: DE ratio | J12: Unlv.beta | K12: Adj Beta | L12: Tax rate | M12: Stat Tax rate | N12: Total debt | O12: Exchange | P12: Country
A13: 1 | B13: Netflix, Inc. | C13: NasdaqGS:NFLX | D13: Netflix, Inc. provides entertainment services worldwide. The company offers television (TV) series, documentaries, feature films, games, and live programming across various genres and languages. It also provides members the ability to receive streaming content through a host of internet-connected devices, including TVs, digital video players, TV set-top boxes, and mobile devices. Netflix, Inc. was incorporated in 1997 and is headquartered in Los Gatos, California. | E13: 397291.44 | F13: 0.294947 | G13: =IF(Comps[[#This Row],[Ticker]]="","",'Comps Financials'!O9) -> 0.095090843 | H13: 29.66079 | I13: =IF(Comps[[#This Row],[Ticker]]="","",IFERROR(Comps[[#This Row],[Total debt]]/Comps[[#This Row],[Market Cap]],"NA")) -> 0.042728928 | J13: =IFERROR(Comps[[#This Row],[Adj Beta]]/(1+((1-Comps[[#This Row],[Tax rate]])*Comps[[#This Row],[DE ratio]])),"NA") -> 1.3755779 | K13: 1.42631 | L13: 0.136871 | N13: 16975.837 | O13: NasdaqGS | P13: United States | Q13: 46022
A14: 2 | B14: Spotify Technology S.A. | C14: NYSE:SPOT | D14: Spotify Technology S.A., together with its subsidiaries, provides audio streaming subscription services worldwide. It operates in two segments, Premium and Ad-Supported. The Premium segment offers online and offline streaming access to its catalog of music and podcasts, including video, lossless music, and audiobooks in select markets through subscription offerings primarily sold directly to end users and partners. The Ad-Supported segment provides limited on-demand online access to its catalog of music and online and offline access to its catalog of podcasts on computers, tablets, mobile devices, and other smart devices. The company also offers sales, distribution and marketing, contract research and development, and customer and other support services. Spotify Technology S.A. was incorporated in 2006 and is headquartered in Stockholm, Sweden. | E14: 119674.87 | F14: 0.127894 | G14: =IF(Comps[[#This Row],[Ticker]]="","",'Comps Financials'!O10) -> 0.13851861 | H14: 46.52062 | I14: =IF(Comps[[#This Row],[Ticker]]="","",IFERROR(Comps[[#This Row],[Total debt]]/Comps[[#This Row],[Market Cap]],"NA")) -> 0.019190188 | J14: =IFERROR(Comps[[#This Row],[Adj Beta]]/(1+((1-Comps[[#This Row],[Tax rate]])*Comps[[#This Row],[DE ratio]])),"NA") -> 1.3941111 | K14: 1.42072 | L14: 0.005395 | N14: 2296.5833 | O14: NYSE | P14: Sweden
A15: 3 | B15: Roku, Inc. | C15: NasdaqGS:ROKU | D15: Roku, Inc., together with its subsidiaries, operates a TV streaming platform in the United States and internationally. The company operates in two segments, Platform and Devices. Its streaming platform allows users to find and access TV shows, movies, news, sports, and others, as well as offers digital advertising services. The company also sells streaming players, Roku-branded TVs, smart home products and services, audio products, and related accessories. Roku, Inc. was incorporated in 2002 and is headquartered in San Jose, California. | E15: 16029.59 | F15: -5.4e-05 | G15: =IF(Comps[[#This Row],[Ticker]]="","",'Comps Financials'!O11) -> 0.14157921 | H15: 57.01214 | I15: =IF(Comps[[#This Row],[Ticker]]="","",IFERROR(Comps[[#This Row],[Total debt]]/Comps[[#This Row],[Market Cap]],"NA")) -> 0.032647373 | J15: =IFERROR(Comps[[#This Row],[Adj Beta]]/(1+((1-Comps[[#This Row],[Tax rate]])*Comps[[#This Row],[DE ratio]])),"NA") -> 2.2946629 | K15: 2.36516 | L15: 0.058968 | N15: 523.324 | O15: NasdaqGS | P15: United States | Q15: 46022
A16: 4 | B16: Iqiyi, Inc. | C16: NasdaqGS:IQ | D16: iQIYI, Inc. provides online entertainment video services in the People’s Republic of China. The company operates a platform that provides a collection of internet video content, such as professionally produced content licensed from professional content providers and self-produced content. It also engages in the production, aggregation, and distribution of online long-form videos, micro dramas, micro animations, micro variety shows, edited video clips, and video blogs; and provision of experience services, online mobile games, comics, and others. In addition, the company provides membership, online brand and performance-based advertising, and content distribution services. Further, it is involved in the talent agency and IP licensing activities. The company was formerly known as Qiyi.com, Inc. and changed its name to iQIYI, Inc. in November 2017. The company was incorporated in 2009 and is based in Beijing, the People’s Republic of China. iQIYI, Inc. is a subsidiary of Baidu Holdings Limited. | E16: 1848.881 | F16: 0.008402 | G16: =IF(Comps[[#This Row],[Ticker]]="","",'Comps Financials'!O12) -> -0.059290149 | H16: 2.73718 | I16: =IF(Comps[[#This Row],[Ticker]]="","",IFERROR(Comps[[#This Row],[Total debt]]/Comps[[#This Row],[Market Cap]],"NA")) -> 1.178945 | J16: =IFERROR(Comps[[#This Row],[Adj Beta]]/(1+((1-Comps[[#This Row],[Tax rate]])*Comps[[#This Row],[DE ratio]])),"NA") -> NA | K16: 0.93 | L16: NA | N16: 2179.7289 | O16: NasdaqGS | P16: China | Q16: 46022
A17: 5 | B17: Bilibili Inc. | C17: NasdaqGS:BILI | D17: Bilibili Inc. provides online entertainment services for the young generations in the People’s Republic of China. It offers a range of digital content, including professional user generated videos (PUGV), mobile games, and value-added services, such as live broadcasting, occupationally generated videos, audio drama on Maoer, comics on Bilibili Comic, PUGV content in fan charging program and premium courses, and Bilibili premium courses and community-based avatar decoration. The company also provides advertising services; and IP derivatives and other services. In addition, it engages in the business and technology development activities; e-commerce business; and video, comics, and game distribution activities. Bilibili Inc. was founded in 2009 and is headquartered in Shanghai, the People's Republic of China. | E17: 10174.467 | F17: 0.037052 | G17: =IF(Comps[[#This Row],[Ticker]]="","",'Comps Financials'!O13) -> 0.064054184 | H17: 19.77912 | I17: =IF(Comps[[#This Row],[Ticker]]="","",IFERROR(Comps[[#This Row],[Total debt]]/Comps[[#This Row],[Market Cap]],"NA")) -> 0.13798873 | J17: =IFERROR(Comps[[#This Row],[Adj Beta]]/(1+((1-Comps[[#This Row],[Tax rate]])*Comps[[#This Row],[DE ratio]])),"NA") -> 1.0603852 | K17: 1.20463 | L17: 0.014191 | N17: 1403.9617 | O17: NasdaqGS | P17: China | Q17: 46022
A18: 6 | B18: The Walt Disney Company | C18: NYSE:DIS | D18: The Walt Disney Company operates as an entertainment company in Americas, Europe, and the Asia Pacific. It operates in three segments: Entertainment, Sports, and Experiences. The company produces and distributes film and television content under the ABC Television Network, Disney, Freeform, FX, Fox, National Geographic, and Star brand television channels, as well as ABC television stations and A+E television networks; and produces original content under the Disney Branded Television, FX Productions, Lucasfilm, Marvel, National Geographic Studios, Pixar, Searchlight Pictures, Twentieth Century Studios, 20th Television, and Walt Disney Pictures banners. It also provides direct-to-consumer streaming services through Disney+, Disney+ Hotstar, and Hulu; sports-related video streaming content through ESPN, ESPN on ABC, ESPN+ DTC, and Star; sale/licensing of film and episodic content to television and video-on-demand services; theatrical, home entertainment, and music distribution services; DVD and Blu-ray discs, electronic home video licenses, and VOD rental services; staging and licensing of live entertainment events; and post-production services. In addition, the company operates theme parks and resorts, such as Walt Disney World Resort, Disneyland Resort, Disneyland Paris, Hong Kong Disneyland Resort, Shanghai Disney Resort, Disney Cruise Line, Disney Vacation Club, National Geographic Expeditions, and Adventures by Disney, as well as Aulani, a Disney resort and spa in Hawaii. Further, it licenses its intellectual property (IP) to a third party that owns and operates Tokyo Disney Resort; licenses trade names, characters, visual, literary, and other IP for use on merchandise, published materials, and games; operates a direct-to-home satellite distribution platform; sells branded merchandise through retail, online, and wholesale businesses; and develops and publishes books, comic books, and magazines. The company was founded in 1923 and is based in Burbank, California. | E18: 203112.31 | F18: 0.14925 | G18: =IF(Comps[[#This Row],[Ticker]]="","",'Comps Financials'!O14) -> 0.10661103 | H18: 11.78183 | I18: =IF(Comps[[#This Row],[Ticker]]="","",IFERROR(Comps[[#This Row],[Total debt]]/Comps[[#This Row],[Market Cap]],"NA")) -> 0.22962665 | J18: =IFERROR(Comps[[#This Row],[Adj Beta]]/(1+((1-Comps[[#This Row],[Tax rate]])*Comps[[#This Row],[DE ratio]])),"NA") -> NA | K18: 1.02795 | L18: NA | N18: 46640 | O18: NYSE | P18: United States | Q18: 45927
A19: 7 | B19: Warner Bros. Discovery, Inc. | C19: NasdaqGS:WBD | D19: Warner Bros. Discovery, Inc. operates as a media and entertainment company worldwide. It operates through three segments: Streaming, Studios, and Global Linear Networks. The Streaming segment offers streaming services, such as HBO Max and discovery+, and premium pay-TV services, including HBO and certain premium sports streaming products for mobile and connected TV devices. The Studios segment is involved in the production and release of feature films for initial exhibition in theaters, production and initial licensing of television programs to third parties and its networks/streaming services. This segment also distributes films and television programs to various third-party and internal television, streaming services, and physical and digital home entertainment markets; related consumer products and themed experience licensing; and publishes, develops, licenses, and distributes content for the interactive space in platforms, including console, handheld, mobile, and PC-based gaming for both internal and third-party game titles. The Global Linear Networks segment provides general and lifestyle entertainment networks, news networks; and hosts international media networks and global sports networks. In addition, the company offers a portfolio of content and products for television, film, streaming, interactive gaming, publishing, themed experiences, and consumer products under the Discovery Channel, HBO Max, CNN, DC Studios, TNT Sports, HBO, Food Network, TLC, TBS, Warner Bros. Motion Picture Group, Warner Bros. Television Group, Warner Bros. Games, Adult Swim, Turner Classic Movies, and other brands. Warner Bros. Discovery, Inc. was incorporated in 2008 and is headquartered in New York, New York. | E19: 71458.806 | F19: 0.044991 | G19: =IF(Comps[[#This Row],[Ticker]]="","",'Comps Financials'!O15) -> 0.47750312 | H19: 12.45916 | I19: =IF(Comps[[#This Row],[Ticker]]="","",IFERROR(Comps[[#This Row],[Total debt]]/Comps[[#This Row],[Market Cap]],"NA")) -> 0.51443624 | J19: =IFERROR(Comps[[#This Row],[Adj Beta]]/(1+((1-Comps[[#This Row],[Tax rate]])*Comps[[#This Row],[DE ratio]])),"NA") -> 0.98298897 | K19: 1.21408 | L19: 0.543014 | N19: 36761 | O19: NasdaqGS | P19: United States | Q19: 46022
A20: 8 | B20: Paramount Skydance Corporation | C20: NasdaqGS:PSKY | D20: Paramount Skydance Corporation operates as a media and entertainment company worldwide. It operates in three segments: Studios, Direct-to-Consumer, and TV Media. The company operates CBS Television Network, a domestic broadcast television network; CBS Stations, a television station; international free-to-air networks comprising Network 10, Channel 5, Telefe, and Chilevisión; and domestic premium and basic cable networks, such as Nickelodeon, MTV, CMT, Comedy Central, BET, Paramount+ with SHOWTIME, Paramount Network, The Smithsonian Channel, BET Media Group, CBS Sports Network, and international extensions of these brands. It also provides domestic and international television studio operations, including CBS Studios, Paramount Television Studios, and Showtime; CBS Media Ventures, which produces and distributes first-run syndicated programming; and digital properties consist of CBS News and CBS Sports HQ. In addition, the company offers a portfolio of domestic and international pay and free streaming services, including Paramount+, Pluto TV, and BET+. Further, it produces and acquires films, series, and short-form content for release and licensing worldwide, including in theaters, on streaming services, on television, through home entertainment, and DVDs, Blu-ray; and operates a portfolio consisting of Paramount Pictures, Paramount Players, Paramount Animation, Nickelodeon Studio, and Miramax. It provides production, distribution, and advertising solutions. The company was founded in 1914 and is headquartered in New York, New York. | E20: 14706.501 | F20: 0.065314 | G20: =IF(Comps[[#This Row],[Ticker]]="","",'Comps Financials'!O16) -> 0.0072584586 | H20: 11.41535 | I20: =IF(Comps[[#This Row],[Ticker]]="","",IFERROR(Comps[[#This Row],[Total debt]]/Comps[[#This Row],[Market Cap]],"NA")) -> 1.0262128 | J20: =IFERROR(Comps[[#This Row],[Adj Beta]]/(1+((1-Comps[[#This Row],[Tax rate]])*Comps[[#This Row],[DE ratio]])),"NA") -> NA | K20: 1.049 | L20: NA | N20: 15092 | O20: NasdaqGS | P20: United States | Q20: 46022
A21: 9 | B21: Comcast Corporation | C21: NasdaqGS:CMCSA | D21: Comcast Corporation operates as a media and technology company worldwide. The company operates through Residential Connectivity & Platforms, Business Services Connectivity, Media, Studios, and Theme Parks segments. Its Residential Connectivity & Platforms segment provides residential broadband and wireless connectivity services, residential and business video services, sky-branded entertainment television networks, and advertising. The Business Services Connectivity segment offers connectivity services for small business locations, which include broadband, wireline voice, and wireless services; and ethernet network services for medium-sized customers and larger enterprises. Its Media segment operates NBCUniversal’s national and regional cable networks; the NBC and Telemundo broadcast networks and owned local broadcast television stations; and Peacock, a direct-to-consumer streaming services. The company also operates international television networks comprising the Sky Sports networks, as well as other digital properties. Its Studios segment operates NBCUniversal and Sky film and television studio production and distribution operations. The Theme Parks segment operates Universal theme parks in Orlando, Florida; Hollywood, California; Osaka, Japan; and Beijing, China. It also offers a consolidated streaming platforms under the Philadelphia Flyers and the Xfinity Mobile Arena in Philadelphia, Pennsylvania; and Xumo. Comcast Corporation was founded in 1963 and is headquartered in Philadelphia, Pennsylvania. | E21: 108916.01 | F21: 0.167088 | G21: =IF(Comps[[#This Row],[Ticker]]="","",'Comps Financials'!O17) -> 0.020611609 | H21: 5.15018 | I21: =IF(Comps[[#This Row],[Ticker]]="","",IFERROR(Comps[[#This Row],[Total debt]]/Comps[[#This Row],[Market Cap]],"NA")) -> 0.96434861 | J21: =IFERROR(Comps[[#This Row],[Adj Beta]]/(1+((1-Comps[[#This Row],[Tax rate]])*Comps[[#This Row],[DE ratio]])),"NA") -> 0.35571677 | K21: 0.61746 | L21: 0.236978 | N21: 105033 | O21: NasdaqGS | P21: United States | Q21: 46022
A22: 10 | G22: =IF(Comps[[#This Row],[Ticker]]="","",'Comps Financials'!O18) | I22: =IF(Comps[[#This Row],[Ticker]]="","",IFERROR(Comps[[#This Row],[Total debt]]/Comps[[#This Row],[Market Cap]],"NA")) | J22: =IFERROR(Comps[[#This Row],[Adj Beta]]/(1+((1-Comps[[#This Row],[Tax rate]])*Comps[[#This Row],[DE ratio]])),"NA") -> NA
A23: 11 | G23: =IF(Comps[[#This Row],[Ticker]]="","",'Comps Financials'!O19) | I23: =IF(Comps[[#This Row],[Ticker]]="","",IFERROR(Comps[[#This Row],[Total debt]]/Comps[[#This Row],[Market Cap]],"NA")) | J23: =IFERROR(Comps[[#This Row],[Adj Beta]]/(1+((1-Comps[[#This Row],[Tax rate]])*Comps[[#This Row],[DE ratio]])),"NA") -> NA
A24: 12 | G24: =IF(Comps[[#This Row],[Ticker]]="","",'Comps Financials'!O20) | I24: =IF(Comps[[#This Row],[Ticker]]="","",IFERROR(Comps[[#This Row],[Total debt]]/Comps[[#This Row],[Market Cap]],"NA")) | J24: =IFERROR(Comps[[#This Row],[Adj Beta]]/(1+((1-Comps[[#This Row],[Tax rate]])*Comps[[#This Row],[DE ratio]])),"NA") -> NA
A25: 13 | G25: =IF(Comps[[#This Row],[Ticker]]="","",'Comps Financials'!O21) | I25: =IF(Comps[[#This Row],[Ticker]]="","",IFERROR(Comps[[#This Row],[Total debt]]/Comps[[#This Row],[Market Cap]],"NA")) | J25: =IFERROR(Comps[[#This Row],[Adj Beta]]/(1+((1-Comps[[#This Row],[Tax rate]])*Comps[[#This Row],[DE ratio]])),"NA") -> NA
A26: 14 | G26: =IF(Comps[[#This Row],[Ticker]]="","",'Comps Financials'!O22) | I26: =IF(Comps[[#This Row],[Ticker]]="","",IFERROR(Comps[[#This Row],[Total debt]]/Comps[[#This Row],[Market Cap]],"NA")) | J26: =IFERROR(Comps[[#This Row],[Adj Beta]]/(1+((1-Comps[[#This Row],[Tax rate]])*Comps[[#This Row],[DE ratio]])),"NA") -> NA
A27: 15 | G27: =IF(Comps[[#This Row],[Ticker]]="","",'Comps Financials'!O23) | I27: =IF(Comps[[#This Row],[Ticker]]="","",IFERROR(Comps[[#This Row],[Total debt]]/Comps[[#This Row],[Market Cap]],"NA")) | J27: =IFERROR(Comps[[#This Row],[Adj Beta]]/(1+((1-Comps[[#This Row],[Tax rate]])*Comps[[#This Row],[DE ratio]])),"NA") -> NA
B28: Source: CIQ & FVA's computations | D28: Max | E28: =MAX(Comps[Market Cap]) -> 397291.44 | F28: =MAX(Comps[EBIT margin]) -> 0.294947 | G28: =MAX(Comps[CAGR]) -> 0.47750312 | H28: =MAX(Comps[Selected Multiple]) -> 57.01214 | I28: =MAX(Comps[DE ratio]) -> 1.178945 | J28: =MAX(Comps[Unlv.beta]) -> 2.2946629 | K28: =MAX(Comps[Adj Beta]) -> 2.36516
D29: Median | E29: =IFERROR(MEDIAN(Comps[Market Cap]),"NA") -> 71458.806 | F29: =IFERROR(MEDIAN(Comps[EBIT margin]),"NA") -> 0.065314 | G29: =IF(MEDIAN(Comps[CAGR]),"NA") -> NA | H29: =IFERROR(MEDIAN(Comps[Selected Multiple]),"NA") -> 12.45916 | I29: =IFERROR(MEDIAN(Comps[DE ratio]),"NA") -> 0.22962665 | J29: =IFERROR(MEDIAN(Comps[Unlv.beta]),"NA") -> 1.2179816 | K29: =MEDIAN(Comps[Adj Beta]) -> 1.20463
B30: Note: | D30: Min | E30: =MIN(Comps[Market Cap]) -> 1848.881 | F30: =MIN(Comps[EBIT margin]) -> -5.4e-05 | G30: =MIN(Comps[CAGR]) -> -0.059290149 | H30: =MIN(Comps[Selected Multiple]) -> 2.73718 | I30: =MIN(Comps[DE ratio]) -> 0.019190188 | J30: =MIN(Comps[Unlv.beta]) -> 0.35571677 | K30: =MIN(Comps[Adj Beta]) -> 0.61746
B31: n.m: not meaningful. The slope coefficient is not statistically significant.
B42: Risk free rate
C44: Risk free rate
C45: AAA-rated | D45: Bond ID | E45: Rate
C46: Australia | D46: IQ50027527 | E46: 0.04738
C47: Canada | D47: IQ50027537 | E47: 0.0353
C48: Denmark | D48: IQ136585876 | E48: 0.02753
C49: Germany | D49: IQ50027534 | E49: 0.02961
C50: Netherlands | D50: IQ50027561 | E50: 0.03098
C51: Singapore | D51: IQ136585832 | E51: 0.0222496
C52: Sweden | D52: IQ50027572 | E52: 0.02752
...

Sheet Comps Financials
B1: Comps Historical Financials
K2: Units | L2: mln
L3: =IF($L$2="mln",1,IF($L$2="bln",0.001,0.000001)) -> 1
B7: Revenue
B8: ="("&curr&" "&LEFT($L$2,1)&")" -> (USD m) | C8: Ticker | D8: ="FY"&YEAR(C0!D16) -> FY2015 | E8: ="FY"&YEAR(C0!E16) -> FY2016 | F8: ="FY"&YEAR(C0!F16) -> FY2017 | G8: ="FY"&YEAR(C0!G16) -> FY2018 | H8: ="FY"&YEAR(C0!H16) -> FY2019 | I8: ="FY"&YEAR(C0!I16) -> FY2020 | J8: ="FY"&YEAR(C0!J16) -> FY2021 | K8: ="FY"&YEAR(C0!K16) -> FY2022 | ... N8: ="FY"&YEAR(C0!N16) -> FY2025 | O8: 3 year CAGR
B9: =IF($C9="","",IFERROR('Comps'!B13,"DELETE")) -> Netflix, Inc. | C9: =IF('Comps'!C13="","",'Comps'!C13) -> NasdaqGS:NFLX | D9: 6779.511 | E9: 8830.669 | F9: 11692.713 | G9: 15794.341 | H9: 20156.447 | I9: 24996.056 | J9: 29697.844 | K9: 31615.55 | L9: 33723.297 | M9: 39000.966 | N9: 0 | O9: =IF($C9="","",IFERROR((M9/J9)^(1/COUNT(K9:M9))-1,"NA")) -> 0.095090843
B10: =IF($C10="","",IFERROR('Comps'!B14,"DELETE")) -> Spotify Technology S.A. | C10: =IF('Comps'!C14="","",'Comps'!C14) -> NYSE:SPOT | D10: 2107.4358 | E10: 3116.2251 | F10: 4911.1431 | G10: 6021.2961 | H10: 7590.6183 | I10: 9639.1437 | J10: 10995.11 | K10: 12532.863 | L10: 14642.423 | M10: 16226.317 | N10: 0 | O10: =IF($C10="","",IFERROR((M10/J10)^(1/COUNT(K10:M10))-1,"NA")) -> 0.13851861
B11: =IF($C11="","",IFERROR('Comps'!B15,"DELETE")) -> Roku, Inc. | C11: =IF('Comps'!C15="","",'Comps'!C15) -> NasdaqGS:ROKU | D11: 319.857 | E11: 398.649 | F11: 512.763 | G11: 742.506 | H11: 1128.921 | I11: 1778.388 | J11: 2764.584 | K11: 3126.534 | L11: 3484.619 | M11: 4112.898 | N11: 0 | O11: =IF($C11="","",IFERROR((M11/J11)^(1/COUNT(K11:M11))-1,"NA")) -> 0.14157921
B12: =IF($C12="","",IFERROR('Comps'!B16,"DELETE")) -> Iqiyi, Inc. | C12: =IF('Comps'!C16="","",'Comps'!C16) -> NasdaqGS:IQ | D12: 819.18891 | E12: 1618.43 | F12: 2670.8393 | G12: 3633.3536 | H12: 4164.0204 | I12: 4550.3194 | J12: 4809.7407 | K12: 4204.2492 | L12: 4494.8668 | M12: 4003.9509 | N12: 0 | O12: =IF($C12="","",IFERROR((M12/J12)^(1/COUNT(K12:M12))-1,"NA")) -> -0.059290149
B13: =IF($C13="","",IFERROR('Comps'!B17,"DELETE")) -> Bilibili Inc. | C13: =IF('Comps'!C17="","",'Comps'!C17) -> NasdaqGS:BILI | D13: 20.17651 | E13: 75.36798 | F13: 379.37034 | G13: 600.33601 | H13: 973.43377 | I13: 1837.9095 | J13: 3051.2993 | K13: 3175.0808 | L13: 3177.0279 | M13: 3676.0046 | N13: 0 | O13: =IF($C13="","",IFERROR((M13/J13)^(1/COUNT(K13:M13))-1,"NA")) -> 0.064054184
B14: =IF($C14="","",IFERROR('Comps'!B18,"DELETE")) -> The Walt Disney Company | C14: =IF('Comps'!C18="","",'Comps'!C18) -> NYSE:DIS | D14: 52465 | E14: 55632 | F14: 55137 | G14: 59434 | H14: 69607 | I14: 65388 | J14: 67418 | K14: 82722 | L14: 88898 | M14: 91361 | N14: 94425 | O14: =IF($C14="","",IFERROR((M14/J14)^(1/COUNT(K14:M14))-1,"NA")) -> 0.10661103
B15: =IF($C15="","",IFERROR('Comps'!B19,"DELETE")) -> Warner Bros. Discovery, Inc. | C15: =IF('Comps'!C19="","",'Comps'!C19) -> NasdaqGS:WBD | D15: 6394 | E15: 6497 | F15: 6873 | G15: 10553 | H15: 11144 | I15: 10671 | J15: 12191 | K15: 33817 | L15: 41321 | M15: 39321 | N15: 0 | O15: =IF($C15="","",IFERROR((M15/J15)^(1/COUNT(K15:M15))-1,"NA")) -> 0.47750312
B16: =IF($C16="","",IFERROR('Comps'!B20,"DELETE")) -> Paramount Skydance Corporation | C16: =IF('Comps'!C20="","",'Comps'!C20) -> NasdaqGS:PSKY | D16: 12671 | E16: 13166 | F16: 26535 | G16: 26425 | H16: 26998 | I16: 25285 | J16: 28586 | K16: 30154 | L16: 29652 | M16: 29213 | N16: 0 | O16: =IF($C16="","",IFERROR((M16/J16)^(1/COUNT(K16:M16))-1,"NA")) -> 0.0072584586
B17: =IF($C17="","",IFERROR('Comps'!B21,"DELETE")) -> Comcast Corporation | C17: =IF('Comps'!C21="","",'Comps'!C21) -> NasdaqGS:CMCSA | D17: 74510 | E17: 80736 | F17: 85029 | G17: 94507 | H17: 108942 | I17: 103564 | J17: 116385 | K17: 121427 | L17: 121572 | M17: 123731 | N17: 0 | O17: =IF($C17="","",IFERROR((M17/J17)^(1/COUNT(K17:M17))-1,"NA")) -> 0.020611609
B18: =IF($C18="","",IFERROR('Comps'!B22,"DELETE")) | C18: =IF('Comps'!C22="","",'Comps'!C22) | O18: =IF($C18="","",IFERROR((M18/J18)^(1/COUNT(K18:M18))-1,"NA"))
B19: =IF($C19="","",IFERROR('Comps'!B23,"DELETE")) | C19: =IF('Comps'!C23="","",'Comps'!C23) | O19: =IF($C19="","",IFERROR((M19/J19)^(1/COUNT(K19:M19))-1,"NA"))
B20: =IF($C20="","",IFERROR('Comps'!B24,"DELETE")) | C20: =IF('Comps'!C24="","",'Comps'!C24) | O20: =IF($C20="","",IFERROR((M20/J20)^(1/COUNT(K20:M20))-1,"NA"))
B21: =IF($C21="","",IFERROR('Comps'!B25,"DELETE")) | C21: =IF('Comps'!C25="","",'Comps'!C25) | O21: =IF($C21="","",IFERROR((M21/J21)^(1/COUNT(K21:M21))-1,"NA"))
B22: =IF($C22="","",IFERROR('Comps'!B26,"DELETE")) | C22: =IF('Comps'!C26="","",'Comps'!C26) | O22: =IF($C22="","",IFERROR((M22/J22)^(1/COUNT(K22:M22))-1,"NA"))
B23: =IF($C23="","",IFERROR('Comps'!B27,"DELETE")) | C23: =IF('Comps'!C27="","",'Comps'!C27) | O23: =IF($C23="","",IFERROR((M23/J23)^(1/COUNT(K23:M23))-1,"NA"))
B25: Source: CIQ
B27: Gross Profit
B28: ="("&curr&" "&LEFT($L$2,1)&")" -> (USD m) | C28: Ticker | D28: =D$8 -> FY2015 | E28: =E$8 -> FY2016 | F28: =F$8 -> FY2017 | G28: =G$8 -> FY2018 | H28: =H$8 -> FY2019 | I28: =I$8 -> FY2020 | J28: =J$8 -> FY2021 | K28: =K$8 -> FY2022 | ... N28: =N$8 -> FY2025
B29: =IF($C29="","",IFERROR('Comps'!B13,"DELETE")) -> Netflix, Inc. | C29: =IF('Comps'!C13="","",'Comps'!C13) -> NasdaqGS:NFLX | D29: 2188.035 | E29: 2573.207 | F29: 3659.713 | G29: 5826.803 | H29: 7716.234 | I29: 9719.737 | J29: 12365.161 | K29: 12447.265 | L29: 14007.929 | M29: 17962.502 | N29: 0
B30: =IF($C30="","",IFERROR('Comps'!B14,"DELETE")) -> Spotify Technology S.A. | C30: =IF('Comps'!C14="","",'Comps'!C14) -> NYSE:SPOT | D30: 245.5054 | E30: 423.30835 | F30: 1019.4524 | G30: 1549.1184 | H30: 1932.4431 | I30: 2464.8318 | J30: 2946.6621 | K30: 3127.0706 | L30: 3811.2081 | M30: 4908.3756 | N30: 0
B31: =IF($C31="","",IFERROR('Comps'!B15,"DELETE")) -> Roku, Inc. | C31: =IF('Comps'!C15="","",'Comps'!C15) -> NasdaqGS:ROKU | D31: 89.778 | E31: 121.045 | F31: 199.833 | G31: 332.148 | H31: 495.224 | I31: 808.219 | J31: 1408.6 | K31: 1441.122 | L31: 1592.97 | M31: 1805.648 | N31: 0
B32: =IF($C32="","",IFERROR('Comps'!B16,"DELETE")) -> Iqiyi, Inc. | C32: =IF('Comps'!C16="","",'Comps'!C16) -> NasdaqGS:IQ | D32: -111.38699 | E32: 1.87675 | F32: 58.7121 | G32: -311.68777 | H32: -180.32544 | I32: 404.9372 | J32: 508.06914 | K32: 978.0421 | L32: 1272.516 | M32: 1009.2933 | N32: 0
B33: =IF($C33="","",IFERROR('Comps'!B17,"DELETE")) -> Bilibili Inc. | C33: =IF('Comps'!C17="","",'Comps'!C17) -> NasdaqGS:BILI | D33: -26.58021 | E33: -35.93369 | F33: 84.40654 | G33: 124.3785 | H33: 170.94156 | I33: 435.036 | J33: 636.45547 | K33: 558.09531 | L33: 767.44349 | M33: 1202.0609 | N33: 0
B34: =IF($C34="","",IFERROR('Comps'!B18,"DELETE")) -> The Walt Disney Company | C34: =IF('Comps'!C18="","",'Comps'!C18) -> NYSE:DIS | D34: 24101 | E34: 25768 | F34: 24831 | G34: 26708 | H34: 27546 | I34: 21508 | J34: 22287 | K34: 28321 | L34: 29697 | M34: 32663 | N34: 35659
B35: =IF($C35="","",IFERROR('Comps'!B19,"DELETE")) -> Warner Bros. Discovery, Inc. | C35: =IF('Comps'!C19="","",'Comps'!C19) -> NasdaqGS:WBD | D35: 4111 | E35: 4130 | F35: 4249 | G35: 6643 | H35: 7392 | I35: 6859 | J35: 7576 | K35: 13426 | L35: 17006 | M35: 16744 | N35: 0
B36: =IF($C36="","",IFERROR('Comps'!B20,"DELETE")) -> Paramount Skydance Corporation | C36: =IF('Comps'!C20="","",'Comps'!C20) -> NasdaqGS:PSKY | D36: 4760 | E36: 5210 | F36: 11052 | G36: 11026 | H36: 10874 | I36: 10452 | J36: 10842 | K36: 10309 | L36: 9635 | M36: 9776 | N36: 0
B37: =IF($C37="","",IFERROR('Comps'!B21,"DELETE")) -> Comcast Corporation | C37: =IF('Comps'!C21="","",'Comps'!C21) -> NasdaqGS:CMCSA | D37: 51960 | E37: 56388 | F37: 59674 | G37: 64815 | H37: 74502 | I37: 70443 | J37: 77935 | K37: 83214 | L37: 84810 | M37: 86705 | N37: 0
B38: =IF($C38="","",IFERROR('Comps'!B22,"DELETE")) | C38: =IF('Comps'!C22="","",'Comps'!C22)
B39: =IF($C39="","",IFERROR('Comps'!B23,"DELETE")) | C39: =IF('Comps'!C23="","",'Comps'!C23)
B40: =IF($C40="","",IFERROR('Comps'!B24,"DELETE")) | C40: =IF('Comps'!C24="","",'Comps'!C24)
B41: =IF($C41="","",IFERROR('Comps'!B25,"DELETE")) | C41: =IF('Comps'!C25="","",'Comps'!C25)
B42: =IF($C42="","",IFERROR('Comps'!B26,"DELETE")) | C42: =IF('Comps'!C26="","",'Comps'!C26)
B43: =IF($C43="","",IFERROR('Comps'!B27,"DELETE")) | C43: =IF('Comps'!C27="","",'Comps'!C27)
B45: Source: CIQ
B47: EBITDA
...

Sheet C0
B1: Time period
B12: Historical data available | C12: =Input!D13 -> 5
B13: Forecast period | C13: =Input!D14 -> 5
B15: Period start | D15: =EDATE(D16,-12)+1 -> 42005 | E15: =EDATE(E16,-12)+1 -> 42370 | F15: =EDATE(F16,-12)+1 -> 42736 | G15: =EDATE(G16,-12)+1 -> 43101 | H15: =EDATE(H16,-12)+1 -> 43466 | I15: =EDATE(I16,-12)+1 -> 43831 | J15: =EDATE(J16,-12)+1 -> 44197 | K15: =EDATE(K16,-12)+1 -> 44562 | ... M15: =EDATE(M16,-12)+1 -> 45292 | N15: =IF(O17=12,EDATE(O16,-24)+1,EDATE(O16,-12)+1) -> 45658 | O15: =vd+1 -> 46023 | P15: =O16+1 -> 46388 | Q15: =P16+1 -> 46753 | R15: =Q16+1 -> 47119 | S15: =R16+1 -> 47484 | T15: =S16+1 -> 47849 | U15: =T16+1 -> 48214 | V15: =U16+1 -> 48580 | W15: =V16+1 -> 48945 | ... AR15: =AQ16+1 -> 56615
